BEGIN:VCALENDAR
VERSION:2.0
PRODID:-//Sullivan Catskills - ECPv6.15.20//NONSGML v1.0//EN
CALSCALE:GREGORIAN
METHOD:PUBLISH
X-ORIGINAL-URL:https://sullivancatskills.com
X-WR-CALDESC:Events for Sullivan Catskills
REFRESH-INTERVAL;VALUE=DURATION:PT1H
X-Robots-Tag:noindex
X-PUBLISHED-TTL:PT1H
BEGIN:VTIMEZONE
TZID:America/New_York
BEGIN:DAYLIGHT
TZOFFSETFROM:-0500
TZOFFSETTO:-0400
TZNAME:EDT
DTSTART:20250309T070000
END:DAYLIGHT
BEGIN:STANDARD
TZOFFSETFROM:-0400
TZOFFSETTO:-0500
TZNAME:EST
DTSTART:20251102T060000
END:STANDARD
BEGIN:DAYLIGHT
TZOFFSETFROM:-0500
TZOFFSETTO:-0400
TZNAME:EDT
DTSTART:20260308T070000
END:DAYLIGHT
BEGIN:STANDARD
TZOFFSETFROM:-0400
TZOFFSETTO:-0500
TZNAME:EST
DTSTART:20261101T060000
END:STANDARD
BEGIN:DAYLIGHT
TZOFFSETFROM:-0500
TZOFFSETTO:-0400
TZNAME:EDT
DTSTART:20270314T070000
END:DAYLIGHT
BEGIN:STANDARD
TZOFFSETFROM:-0400
TZOFFSETTO:-0500
TZNAME:EST
DTSTART:20271107T060000
END:STANDARD
END:VTIMEZONE
BEGIN:VEVENT
DTSTART;TZID=America/New_York:20260424T180000
DTEND;TZID=America/New_York:20260424T200000
DTSTAMP:20260422T080103
CREATED:20260123T143525Z
LAST-MODIFIED:20260123T143525Z
UID:10005333-1777053600-1777060800@sullivancatskills.com
SUMMARY:Rock Band Jam Monthly Music Drop-in for Adults
DESCRIPTION:November 21\, 2025 – February 27\, 2026\n6:00 – 8:00 PM \nIs your bass line in need of a backbeat? Are you a vocalist looking to take your concerts out of the shower? \nThe adult Rock Band Jam is for you! \nRock Band Jam at Bethel Woods is a monthly drop-in for musicians looking to connect with others for a drop-in pick-up session. Two studio rooms provide amps\, instruments\, microphones\, and teaching artists for support to facilitate a rock-led set list or a psychedelic jam session. Bring your favorite songs or drop in and enjoy the vibe. \nThis is a relaxed and judgment-free jamming experience! \nYour suggested donation supports the education programs for kids at Bethel Woods.  \n$20 (GA) | $15 (Member) Suggested donation per session
URL:https://sullivancatskills.com/event/rock-band-jam-monthly-music-drop-in-for-adults/2026-04-24/
LOCATION:Bethel Woods Center For The Arts\, 200 Hurd Rd.\, Bethel\, NY\, 12720\, United States
CATEGORIES:Classes,Live Music
END:VEVENT
BEGIN:VEVENT
DTSTART;TZID=America/New_York:20260529T180000
DTEND;TZID=America/New_York:20260529T200000
DTSTAMP:20260422T080103
CREATED:20260123T143525Z
LAST-MODIFIED:20260123T143525Z
UID:10005334-1780077600-1780084800@sullivancatskills.com
SUMMARY:Rock Band Jam Monthly Music Drop-in for Adults
DESCRIPTION:November 21\, 2025 – February 27\, 2026\n6:00 – 8:00 PM \nIs your bass line in need of a backbeat? Are you a vocalist looking to take your concerts out of the shower? \nThe adult Rock Band Jam is for you! \nRock Band Jam at Bethel Woods is a monthly drop-in for musicians looking to connect with others for a drop-in pick-up session. Two studio rooms provide amps\, instruments\, microphones\, and teaching artists for support to facilitate a rock-led set list or a psychedelic jam session. Bring your favorite songs or drop in and enjoy the vibe. \nThis is a relaxed and judgment-free jamming experience! \nYour suggested donation supports the education programs for kids at Bethel Woods.  \n$20 (GA) | $15 (Member) Suggested donation per session
URL:https://sullivancatskills.com/event/rock-band-jam-monthly-music-drop-in-for-adults/2026-05-29/
LOCATION:Bethel Woods Center For The Arts\, 200 Hurd Rd.\, Bethel\, NY\, 12720\, United States
CATEGORIES:Classes,Live Music
END:VEVENT
BEGIN:VEVENT
DTSTART;TZID=America/New_York:20260626T180000
DTEND;TZID=America/New_York:20260626T200000
DTSTAMP:20260422T080103
CREATED:20260123T143525Z
LAST-MODIFIED:20260123T143525Z
UID:10005335-1782496800-1782504000@sullivancatskills.com
SUMMARY:Rock Band Jam Monthly Music Drop-in for Adults
DESCRIPTION:November 21\, 2025 – February 27\, 2026\n6:00 – 8:00 PM \nIs your bass line in need of a backbeat? Are you a vocalist looking to take your concerts out of the shower? \nThe adult Rock Band Jam is for you! \nRock Band Jam at Bethel Woods is a monthly drop-in for musicians looking to connect with others for a drop-in pick-up session. Two studio rooms provide amps\, instruments\, microphones\, and teaching artists for support to facilitate a rock-led set list or a psychedelic jam session. Bring your favorite songs or drop in and enjoy the vibe. \nThis is a relaxed and judgment-free jamming experience! \nYour suggested donation supports the education programs for kids at Bethel Woods.  \n$20 (GA) | $15 (Member) Suggested donation per session
URL:https://sullivancatskills.com/event/rock-band-jam-monthly-music-drop-in-for-adults/2026-06-26/
LOCATION:Bethel Woods Center For The Arts\, 200 Hurd Rd.\, Bethel\, NY\, 12720\, United States
CATEGORIES:Classes,Live Music
END:VEVENT
BEGIN:VEVENT
DTSTART;TZID=America/New_York:20260828T180000
DTEND;TZID=America/New_York:20260828T200000
DTSTAMP:20260422T080103
CREATED:20260123T143525Z
LAST-MODIFIED:20260123T143525Z
UID:10005336-1787940000-1787947200@sullivancatskills.com
SUMMARY:Rock Band Jam Monthly Music Drop-in for Adults
DESCRIPTION:November 21\, 2025 – February 27\, 2026\n6:00 – 8:00 PM \nIs your bass line in need of a backbeat? Are you a vocalist looking to take your concerts out of the shower? \nThe adult Rock Band Jam is for you! \nRock Band Jam at Bethel Woods is a monthly drop-in for musicians looking to connect with others for a drop-in pick-up session. Two studio rooms provide amps\, instruments\, microphones\, and teaching artists for support to facilitate a rock-led set list or a psychedelic jam session. Bring your favorite songs or drop in and enjoy the vibe. \nThis is a relaxed and judgment-free jamming experience! \nYour suggested donation supports the education programs for kids at Bethel Woods.  \n$20 (GA) | $15 (Member) Suggested donation per session
URL:https://sullivancatskills.com/event/rock-band-jam-monthly-music-drop-in-for-adults/2026-08-28/
LOCATION:Bethel Woods Center For The Arts\, 200 Hurd Rd.\, Bethel\, NY\, 12720\, United States
CATEGORIES:Classes,Live Music
END:VEVENT
BEGIN:VEVENT
DTSTART;TZID=America/New_York:20260925T180000
DTEND;TZID=America/New_York:20260925T200000
DTSTAMP:20260422T080103
CREATED:20260123T143525Z
LAST-MODIFIED:20260123T143525Z
UID:10005337-1790359200-1790366400@sullivancatskills.com
SUMMARY:Rock Band Jam Monthly Music Drop-in for Adults
DESCRIPTION:November 21\, 2025 – February 27\, 2026\n6:00 – 8:00 PM \nIs your bass line in need of a backbeat? Are you a vocalist looking to take your concerts out of the shower? \nThe adult Rock Band Jam is for you! \nRock Band Jam at Bethel Woods is a monthly drop-in for musicians looking to connect with others for a drop-in pick-up session. Two studio rooms provide amps\, instruments\, microphones\, and teaching artists for support to facilitate a rock-led set list or a psychedelic jam session. Bring your favorite songs or drop in and enjoy the vibe. \nThis is a relaxed and judgment-free jamming experience! \nYour suggested donation supports the education programs for kids at Bethel Woods.  \n$20 (GA) | $15 (Member) Suggested donation per session
URL:https://sullivancatskills.com/event/rock-band-jam-monthly-music-drop-in-for-adults/2026-09-25/
LOCATION:Bethel Woods Center For The Arts\, 200 Hurd Rd.\, Bethel\, NY\, 12720\, United States
CATEGORIES:Classes,Live Music
END:VEVENT
BEGIN:VEVENT
DTSTART;TZID=America/New_York:20261030T180000
DTEND;TZID=America/New_York:20261030T200000
DTSTAMP:20260422T080103
CREATED:20260123T143525Z
LAST-MODIFIED:20260123T143525Z
UID:10005338-1793383200-1793390400@sullivancatskills.com
SUMMARY:Rock Band Jam Monthly Music Drop-in for Adults
DESCRIPTION:November 21\, 2025 – February 27\, 2026\n6:00 – 8:00 PM \nIs your bass line in need of a backbeat? Are you a vocalist looking to take your concerts out of the shower? \nThe adult Rock Band Jam is for you! \nRock Band Jam at Bethel Woods is a monthly drop-in for musicians looking to connect with others for a drop-in pick-up session. Two studio rooms provide amps\, instruments\, microphones\, and teaching artists for support to facilitate a rock-led set list or a psychedelic jam session. Bring your favorite songs or drop in and enjoy the vibe. \nThis is a relaxed and judgment-free jamming experience! \nYour suggested donation supports the education programs for kids at Bethel Woods.  \n$20 (GA) | $15 (Member) Suggested donation per session
URL:https://sullivancatskills.com/event/rock-band-jam-monthly-music-drop-in-for-adults/2026-10-30/
LOCATION:Bethel Woods Center For The Arts\, 200 Hurd Rd.\, Bethel\, NY\, 12720\, United States
CATEGORIES:Classes,Live Music
END:VEVENT
BEGIN:VEVENT
DTSTART;TZID=America/New_York:20261120T180000
DTEND;TZID=America/New_York:20261120T200000
DTSTAMP:20260422T080103
CREATED:20260123T143525Z
LAST-MODIFIED:20260123T143525Z
UID:10005339-1795197600-1795204800@sullivancatskills.com
SUMMARY:Rock Band Jam Monthly Music Drop-in for Adults
DESCRIPTION:November 21\, 2025 – February 27\, 2026\n6:00 – 8:00 PM \nIs your bass line in need of a backbeat? Are you a vocalist looking to take your concerts out of the shower? \nThe adult Rock Band Jam is for you! \nRock Band Jam at Bethel Woods is a monthly drop-in for musicians looking to connect with others for a drop-in pick-up session. Two studio rooms provide amps\, instruments\, microphones\, and teaching artists for support to facilitate a rock-led set list or a psychedelic jam session. Bring your favorite songs or drop in and enjoy the vibe. \nThis is a relaxed and judgment-free jamming experience! \nYour suggested donation supports the education programs for kids at Bethel Woods.  \n$20 (GA) | $15 (Member) Suggested donation per session
URL:https://sullivancatskills.com/event/rock-band-jam-monthly-music-drop-in-for-adults/2026-11-20/
LOCATION:Bethel Woods Center For The Arts\, 200 Hurd Rd.\, Bethel\, NY\, 12720\, United States
CATEGORIES:Classes,Live Music
END:VEVENT
END:VCALENDAR