BEGIN:VCALENDAR
VERSION:2.0
PRODID:-//Sullivan Catskills - ECPv6.15.20//NONSGML v1.0//EN
CALSCALE:GREGORIAN
METHOD:PUBLISH
X-WR-CALNAME:Sullivan Catskills
X-ORIGINAL-URL:https://sullivancatskills.com
X-WR-CALDESC:Events for Sullivan Catskills
REFRESH-INTERVAL;VALUE=DURATION:PT1H
X-Robots-Tag:noindex
X-PUBLISHED-TTL:PT1H
BEGIN:VTIMEZONE
TZID:America/New_York
BEGIN:DAYLIGHT
TZOFFSETFROM:-0500
TZOFFSETTO:-0400
TZNAME:EDT
DTSTART:20280312T070000
END:DAYLIGHT
BEGIN:STANDARD
TZOFFSETFROM:-0400
TZOFFSETTO:-0500
TZNAME:EST
DTSTART:20281105T060000
END:STANDARD
BEGIN:DAYLIGHT
TZOFFSETFROM:-0500
TZOFFSETTO:-0400
TZNAME:EDT
DTSTART:20290311T070000
END:DAYLIGHT
BEGIN:STANDARD
TZOFFSETFROM:-0400
TZOFFSETTO:-0500
TZNAME:EST
DTSTART:20291104T060000
END:STANDARD
BEGIN:DAYLIGHT
TZOFFSETFROM:-0500
TZOFFSETTO:-0400
TZNAME:EDT
DTSTART:20300310T070000
END:DAYLIGHT
BEGIN:STANDARD
TZOFFSETFROM:-0400
TZOFFSETTO:-0500
TZNAME:EST
DTSTART:20301103T060000
END:STANDARD
BEGIN:DAYLIGHT
TZOFFSETFROM:-0500
TZOFFSETTO:-0400
TZNAME:EDT
DTSTART:20310309T070000
END:DAYLIGHT
BEGIN:STANDARD
TZOFFSETFROM:-0400
TZOFFSETTO:-0500
TZNAME:EST
DTSTART:20311102T060000
END:STANDARD
END:VTIMEZONE
BEGIN:VEVENT
DTSTART;TZID=America/New_York:20290426T110000
DTEND;TZID=America/New_York:20290426T130000
DTSTAMP:20260422T123711
CREATED:20251202T020806Z
LAST-MODIFIED:20251202T024540Z
UID:10001094-1871895600-1871902800@sullivancatskills.com
SUMMARY:Board & Brilliant Senior Gaming Hour!
DESCRIPTION:Something for Everyone! \nEvery 4th Thursday! 11 AM
URL:https://sullivancatskills.com/event/board-brilliant-senior-gaming-hour/2029-04-26/
LOCATION:Hurleyville Art Center\, 219 Main St\, Hurleyville\, NY\, 12747\, United States
CATEGORIES:Arts | Culture,Community
ATTACH;FMTTYPE=image/webp:https://sullivancatskills.com/wp-content/uploads/2025/12/board-brilliant-senior-gaming-hour.webp
END:VEVENT
BEGIN:VEVENT
DTSTART;TZID=America/New_York:20290524T110000
DTEND;TZID=America/New_York:20290524T130000
DTSTAMP:20260422T123711
CREATED:20251202T020806Z
LAST-MODIFIED:20251202T024540Z
UID:10001095-1874314800-1874322000@sullivancatskills.com
SUMMARY:Board & Brilliant Senior Gaming Hour!
DESCRIPTION:Something for Everyone! \nEvery 4th Thursday! 11 AM
URL:https://sullivancatskills.com/event/board-brilliant-senior-gaming-hour/2029-05-24/
LOCATION:Hurleyville Art Center\, 219 Main St\, Hurleyville\, NY\, 12747\, United States
CATEGORIES:Arts | Culture,Community
ATTACH;FMTTYPE=image/webp:https://sullivancatskills.com/wp-content/uploads/2025/12/board-brilliant-senior-gaming-hour.webp
END:VEVENT
BEGIN:VEVENT
DTSTART;TZID=America/New_York:20290628T110000
DTEND;TZID=America/New_York:20290628T130000
DTSTAMP:20260422T123711
CREATED:20251202T020806Z
LAST-MODIFIED:20251202T024540Z
UID:10001096-1877338800-1877346000@sullivancatskills.com
SUMMARY:Board & Brilliant Senior Gaming Hour!
DESCRIPTION:Something for Everyone! \nEvery 4th Thursday! 11 AM
URL:https://sullivancatskills.com/event/board-brilliant-senior-gaming-hour/2029-06-28/
LOCATION:Hurleyville Art Center\, 219 Main St\, Hurleyville\, NY\, 12747\, United States
CATEGORIES:Arts | Culture,Community
ATTACH;FMTTYPE=image/webp:https://sullivancatskills.com/wp-content/uploads/2025/12/board-brilliant-senior-gaming-hour.webp
END:VEVENT
BEGIN:VEVENT
DTSTART;TZID=America/New_York:20290726T110000
DTEND;TZID=America/New_York:20290726T130000
DTSTAMP:20260422T123711
CREATED:20251202T020806Z
LAST-MODIFIED:20251202T024540Z
UID:10001097-1879758000-1879765200@sullivancatskills.com
SUMMARY:Board & Brilliant Senior Gaming Hour!
DESCRIPTION:Something for Everyone! \nEvery 4th Thursday! 11 AM
URL:https://sullivancatskills.com/event/board-brilliant-senior-gaming-hour/2029-07-26/
LOCATION:Hurleyville Art Center\, 219 Main St\, Hurleyville\, NY\, 12747\, United States
CATEGORIES:Arts | Culture,Community
ATTACH;FMTTYPE=image/webp:https://sullivancatskills.com/wp-content/uploads/2025/12/board-brilliant-senior-gaming-hour.webp
END:VEVENT
BEGIN:VEVENT
DTSTART;TZID=America/New_York:20290823T110000
DTEND;TZID=America/New_York:20290823T130000
DTSTAMP:20260422T123711
CREATED:20251202T020806Z
LAST-MODIFIED:20251202T024540Z
UID:10001098-1882177200-1882184400@sullivancatskills.com
SUMMARY:Board & Brilliant Senior Gaming Hour!
DESCRIPTION:Something for Everyone! \nEvery 4th Thursday! 11 AM
URL:https://sullivancatskills.com/event/board-brilliant-senior-gaming-hour/2029-08-23/
LOCATION:Hurleyville Art Center\, 219 Main St\, Hurleyville\, NY\, 12747\, United States
CATEGORIES:Arts | Culture,Community
ATTACH;FMTTYPE=image/webp:https://sullivancatskills.com/wp-content/uploads/2025/12/board-brilliant-senior-gaming-hour.webp
END:VEVENT
BEGIN:VEVENT
DTSTART;TZID=America/New_York:20290927T110000
DTEND;TZID=America/New_York:20290927T130000
DTSTAMP:20260422T123711
CREATED:20251202T020806Z
LAST-MODIFIED:20251202T024540Z
UID:10001099-1885201200-1885208400@sullivancatskills.com
SUMMARY:Board & Brilliant Senior Gaming Hour!
DESCRIPTION:Something for Everyone! \nEvery 4th Thursday! 11 AM
URL:https://sullivancatskills.com/event/board-brilliant-senior-gaming-hour/2029-09-27/
LOCATION:Hurleyville Art Center\, 219 Main St\, Hurleyville\, NY\, 12747\, United States
CATEGORIES:Arts | Culture,Community
ATTACH;FMTTYPE=image/webp:https://sullivancatskills.com/wp-content/uploads/2025/12/board-brilliant-senior-gaming-hour.webp
END:VEVENT
BEGIN:VEVENT
DTSTART;TZID=America/New_York:20291025T110000
DTEND;TZID=America/New_York:20291025T130000
DTSTAMP:20260422T123711
CREATED:20251202T020806Z
LAST-MODIFIED:20251202T024540Z
UID:10001100-1887620400-1887627600@sullivancatskills.com
SUMMARY:Board & Brilliant Senior Gaming Hour!
DESCRIPTION:Something for Everyone! \nEvery 4th Thursday! 11 AM
URL:https://sullivancatskills.com/event/board-brilliant-senior-gaming-hour/2029-10-25/
LOCATION:Hurleyville Art Center\, 219 Main St\, Hurleyville\, NY\, 12747\, United States
CATEGORIES:Arts | Culture,Community
ATTACH;FMTTYPE=image/webp:https://sullivancatskills.com/wp-content/uploads/2025/12/board-brilliant-senior-gaming-hour.webp
END:VEVENT
BEGIN:VEVENT
DTSTART;TZID=America/New_York:20291122T110000
DTEND;TZID=America/New_York:20291122T130000
DTSTAMP:20260422T123711
CREATED:20251202T020806Z
LAST-MODIFIED:20251202T024540Z
UID:10001101-1890039600-1890046800@sullivancatskills.com
SUMMARY:Board & Brilliant Senior Gaming Hour!
DESCRIPTION:Something for Everyone! \nEvery 4th Thursday! 11 AM
URL:https://sullivancatskills.com/event/board-brilliant-senior-gaming-hour/2029-11-22/
LOCATION:Hurleyville Art Center\, 219 Main St\, Hurleyville\, NY\, 12747\, United States
CATEGORIES:Arts | Culture,Community
ATTACH;FMTTYPE=image/webp:https://sullivancatskills.com/wp-content/uploads/2025/12/board-brilliant-senior-gaming-hour.webp
END:VEVENT
BEGIN:VEVENT
DTSTART;TZID=America/New_York:20291227T110000
DTEND;TZID=America/New_York:20291227T130000
DTSTAMP:20260422T123711
CREATED:20251202T020806Z
LAST-MODIFIED:20251202T024540Z
UID:10001102-1893063600-1893070800@sullivancatskills.com
SUMMARY:Board & Brilliant Senior Gaming Hour!
DESCRIPTION:Something for Everyone! \nEvery 4th Thursday! 11 AM
URL:https://sullivancatskills.com/event/board-brilliant-senior-gaming-hour/2029-12-27/
LOCATION:Hurleyville Art Center\, 219 Main St\, Hurleyville\, NY\, 12747\, United States
CATEGORIES:Arts | Culture,Community
ATTACH;FMTTYPE=image/webp:https://sullivancatskills.com/wp-content/uploads/2025/12/board-brilliant-senior-gaming-hour.webp
END:VEVENT
BEGIN:VEVENT
DTSTART;TZID=America/New_York:20300124T110000
DTEND;TZID=America/New_York:20300124T130000
DTSTAMP:20260422T123711
CREATED:20251202T020806Z
LAST-MODIFIED:20251202T024540Z
UID:10001103-1895482800-1895490000@sullivancatskills.com
SUMMARY:Board & Brilliant Senior Gaming Hour!
DESCRIPTION:Something for Everyone! \nEvery 4th Thursday! 11 AM
URL:https://sullivancatskills.com/event/board-brilliant-senior-gaming-hour/2030-01-24/
LOCATION:Hurleyville Art Center\, 219 Main St\, Hurleyville\, NY\, 12747\, United States
CATEGORIES:Arts | Culture,Community
ATTACH;FMTTYPE=image/webp:https://sullivancatskills.com/wp-content/uploads/2025/12/board-brilliant-senior-gaming-hour.webp
END:VEVENT
BEGIN:VEVENT
DTSTART;TZID=America/New_York:20300228T110000
DTEND;TZID=America/New_York:20300228T130000
DTSTAMP:20260422T123711
CREATED:20251202T020806Z
LAST-MODIFIED:20251202T024540Z
UID:10001104-1898506800-1898514000@sullivancatskills.com
SUMMARY:Board & Brilliant Senior Gaming Hour!
DESCRIPTION:Something for Everyone! \nEvery 4th Thursday! 11 AM
URL:https://sullivancatskills.com/event/board-brilliant-senior-gaming-hour/2030-02-28/
LOCATION:Hurleyville Art Center\, 219 Main St\, Hurleyville\, NY\, 12747\, United States
CATEGORIES:Arts | Culture,Community
ATTACH;FMTTYPE=image/webp:https://sullivancatskills.com/wp-content/uploads/2025/12/board-brilliant-senior-gaming-hour.webp
END:VEVENT
BEGIN:VEVENT
DTSTART;TZID=America/New_York:20300328T110000
DTEND;TZID=America/New_York:20300328T130000
DTSTAMP:20260422T123711
CREATED:20251202T020806Z
LAST-MODIFIED:20251202T024540Z
UID:10001105-1900926000-1900933200@sullivancatskills.com
SUMMARY:Board & Brilliant Senior Gaming Hour!
DESCRIPTION:Something for Everyone! \nEvery 4th Thursday! 11 AM
URL:https://sullivancatskills.com/event/board-brilliant-senior-gaming-hour/2030-03-28/
LOCATION:Hurleyville Art Center\, 219 Main St\, Hurleyville\, NY\, 12747\, United States
CATEGORIES:Arts | Culture,Community
ATTACH;FMTTYPE=image/webp:https://sullivancatskills.com/wp-content/uploads/2025/12/board-brilliant-senior-gaming-hour.webp
END:VEVENT
BEGIN:VEVENT
DTSTART;TZID=America/New_York:20300425T110000
DTEND;TZID=America/New_York:20300425T130000
DTSTAMP:20260422T123711
CREATED:20251202T020806Z
LAST-MODIFIED:20251202T024540Z
UID:10001106-1903345200-1903352400@sullivancatskills.com
SUMMARY:Board & Brilliant Senior Gaming Hour!
DESCRIPTION:Something for Everyone! \nEvery 4th Thursday! 11 AM
URL:https://sullivancatskills.com/event/board-brilliant-senior-gaming-hour/2030-04-25/
LOCATION:Hurleyville Art Center\, 219 Main St\, Hurleyville\, NY\, 12747\, United States
CATEGORIES:Arts | Culture,Community
ATTACH;FMTTYPE=image/webp:https://sullivancatskills.com/wp-content/uploads/2025/12/board-brilliant-senior-gaming-hour.webp
END:VEVENT
BEGIN:VEVENT
DTSTART;TZID=America/New_York:20300523T110000
DTEND;TZID=America/New_York:20300523T130000
DTSTAMP:20260422T123712
CREATED:20251202T020806Z
LAST-MODIFIED:20251202T024540Z
UID:10001107-1905764400-1905771600@sullivancatskills.com
SUMMARY:Board & Brilliant Senior Gaming Hour!
DESCRIPTION:Something for Everyone! \nEvery 4th Thursday! 11 AM
URL:https://sullivancatskills.com/event/board-brilliant-senior-gaming-hour/2030-05-23/
LOCATION:Hurleyville Art Center\, 219 Main St\, Hurleyville\, NY\, 12747\, United States
CATEGORIES:Arts | Culture,Community
ATTACH;FMTTYPE=image/webp:https://sullivancatskills.com/wp-content/uploads/2025/12/board-brilliant-senior-gaming-hour.webp
END:VEVENT
BEGIN:VEVENT
DTSTART;TZID=America/New_York:20300627T110000
DTEND;TZID=America/New_York:20300627T130000
DTSTAMP:20260422T123712
CREATED:20251202T020806Z
LAST-MODIFIED:20251202T024540Z
UID:10001108-1908788400-1908795600@sullivancatskills.com
SUMMARY:Board & Brilliant Senior Gaming Hour!
DESCRIPTION:Something for Everyone! \nEvery 4th Thursday! 11 AM
URL:https://sullivancatskills.com/event/board-brilliant-senior-gaming-hour/2030-06-27/
LOCATION:Hurleyville Art Center\, 219 Main St\, Hurleyville\, NY\, 12747\, United States
CATEGORIES:Arts | Culture,Community
ATTACH;FMTTYPE=image/webp:https://sullivancatskills.com/wp-content/uploads/2025/12/board-brilliant-senior-gaming-hour.webp
END:VEVENT
BEGIN:VEVENT
DTSTART;TZID=America/New_York:20300725T110000
DTEND;TZID=America/New_York:20300725T130000
DTSTAMP:20260422T123712
CREATED:20251202T020806Z
LAST-MODIFIED:20251202T024540Z
UID:10001109-1911207600-1911214800@sullivancatskills.com
SUMMARY:Board & Brilliant Senior Gaming Hour!
DESCRIPTION:Something for Everyone! \nEvery 4th Thursday! 11 AM
URL:https://sullivancatskills.com/event/board-brilliant-senior-gaming-hour/2030-07-25/
LOCATION:Hurleyville Art Center\, 219 Main St\, Hurleyville\, NY\, 12747\, United States
CATEGORIES:Arts | Culture,Community
ATTACH;FMTTYPE=image/webp:https://sullivancatskills.com/wp-content/uploads/2025/12/board-brilliant-senior-gaming-hour.webp
END:VEVENT
BEGIN:VEVENT
DTSTART;TZID=America/New_York:20300822T110000
DTEND;TZID=America/New_York:20300822T130000
DTSTAMP:20260422T123712
CREATED:20251202T020806Z
LAST-MODIFIED:20251202T024540Z
UID:10001110-1913626800-1913634000@sullivancatskills.com
SUMMARY:Board & Brilliant Senior Gaming Hour!
DESCRIPTION:Something for Everyone! \nEvery 4th Thursday! 11 AM
URL:https://sullivancatskills.com/event/board-brilliant-senior-gaming-hour/2030-08-22/
LOCATION:Hurleyville Art Center\, 219 Main St\, Hurleyville\, NY\, 12747\, United States
CATEGORIES:Arts | Culture,Community
ATTACH;FMTTYPE=image/webp:https://sullivancatskills.com/wp-content/uploads/2025/12/board-brilliant-senior-gaming-hour.webp
END:VEVENT
BEGIN:VEVENT
DTSTART;TZID=America/New_York:20300926T110000
DTEND;TZID=America/New_York:20300926T130000
DTSTAMP:20260422T123712
CREATED:20251202T020806Z
LAST-MODIFIED:20251202T024540Z
UID:10001111-1916650800-1916658000@sullivancatskills.com
SUMMARY:Board & Brilliant Senior Gaming Hour!
DESCRIPTION:Something for Everyone! \nEvery 4th Thursday! 11 AM
URL:https://sullivancatskills.com/event/board-brilliant-senior-gaming-hour/2030-09-26/
LOCATION:Hurleyville Art Center\, 219 Main St\, Hurleyville\, NY\, 12747\, United States
CATEGORIES:Arts | Culture,Community
ATTACH;FMTTYPE=image/webp:https://sullivancatskills.com/wp-content/uploads/2025/12/board-brilliant-senior-gaming-hour.webp
END:VEVENT
BEGIN:VEVENT
DTSTART;TZID=America/New_York:20301024T110000
DTEND;TZID=America/New_York:20301024T130000
DTSTAMP:20260422T123712
CREATED:20251202T020806Z
LAST-MODIFIED:20251202T024540Z
UID:10001112-1919070000-1919077200@sullivancatskills.com
SUMMARY:Board & Brilliant Senior Gaming Hour!
DESCRIPTION:Something for Everyone! \nEvery 4th Thursday! 11 AM
URL:https://sullivancatskills.com/event/board-brilliant-senior-gaming-hour/2030-10-24/
LOCATION:Hurleyville Art Center\, 219 Main St\, Hurleyville\, NY\, 12747\, United States
CATEGORIES:Arts | Culture,Community
ATTACH;FMTTYPE=image/webp:https://sullivancatskills.com/wp-content/uploads/2025/12/board-brilliant-senior-gaming-hour.webp
END:VEVENT
BEGIN:VEVENT
DTSTART;TZID=America/New_York:20301128T110000
DTEND;TZID=America/New_York:20301128T130000
DTSTAMP:20260422T123712
CREATED:20251202T020806Z
LAST-MODIFIED:20251202T024540Z
UID:10001113-1922094000-1922101200@sullivancatskills.com
SUMMARY:Board & Brilliant Senior Gaming Hour!
DESCRIPTION:Something for Everyone! \nEvery 4th Thursday! 11 AM
URL:https://sullivancatskills.com/event/board-brilliant-senior-gaming-hour/2030-11-28/
LOCATION:Hurleyville Art Center\, 219 Main St\, Hurleyville\, NY\, 12747\, United States
CATEGORIES:Arts | Culture,Community
ATTACH;FMTTYPE=image/webp:https://sullivancatskills.com/wp-content/uploads/2025/12/board-brilliant-senior-gaming-hour.webp
END:VEVENT
END:VCALENDAR