BEGIN:VCALENDAR
VERSION:2.0
PRODID:-//Sullivan Catskills - ECPv6.15.20//NONSGML v1.0//EN
CALSCALE:GREGORIAN
METHOD:PUBLISH
X-ORIGINAL-URL:https://sullivancatskills.com
X-WR-CALDESC:Events for Sullivan Catskills
REFRESH-INTERVAL;VALUE=DURATION:PT1H
X-Robots-Tag:noindex
X-PUBLISHED-TTL:PT1H
BEGIN:VTIMEZONE
TZID:America/New_York
BEGIN:DAYLIGHT
TZOFFSETFROM:-0500
TZOFFSETTO:-0400
TZNAME:EDT
DTSTART:20250309T070000
END:DAYLIGHT
BEGIN:STANDARD
TZOFFSETFROM:-0400
TZOFFSETTO:-0500
TZNAME:EST
DTSTART:20251102T060000
END:STANDARD
BEGIN:DAYLIGHT
TZOFFSETFROM:-0500
TZOFFSETTO:-0400
TZNAME:EDT
DTSTART:20260308T070000
END:DAYLIGHT
BEGIN:STANDARD
TZOFFSETFROM:-0400
TZOFFSETTO:-0500
TZNAME:EST
DTSTART:20261101T060000
END:STANDARD
BEGIN:DAYLIGHT
TZOFFSETFROM:-0500
TZOFFSETTO:-0400
TZNAME:EDT
DTSTART:20270314T070000
END:DAYLIGHT
BEGIN:STANDARD
TZOFFSETFROM:-0400
TZOFFSETTO:-0500
TZNAME:EST
DTSTART:20271107T060000
END:STANDARD
BEGIN:DAYLIGHT
TZOFFSETFROM:-0500
TZOFFSETTO:-0400
TZNAME:EDT
DTSTART:20280312T070000
END:DAYLIGHT
BEGIN:STANDARD
TZOFFSETFROM:-0400
TZOFFSETTO:-0500
TZNAME:EST
DTSTART:20281105T060000
END:STANDARD
END:VTIMEZONE
BEGIN:VEVENT
DTSTART;TZID=America/New_York:20260717T210000
DTEND;TZID=America/New_York:20260718T020000
DTSTAMP:20260423T041816
CREATED:20251202T021229Z
LAST-MODIFIED:20260102T185523Z
UID:10001146-1784322000-1784340000@sullivancatskills.com
SUMMARY:Karaoke at The Dale Pizza & Beer
DESCRIPTION:Recurring weekly on Friday. Starting: 9:00 PM at the Dale Pizza
URL:https://sullivancatskills.com/event/karaoke-night-party-the-dale-pizza-beer/2026-07-17/
LOCATION:The Dale PIzza\, 4 Old Post Rd\, Mt Dale\, NY\, United States
CATEGORIES:Arts | Culture,Food | Wine | Restaurant
ATTACH;FMTTYPE=image/webp:https://sullivancatskills.com/wp-content/uploads/2025/12/karaoke-Friday-Dale.webp
END:VEVENT
BEGIN:VEVENT
DTSTART;TZID=America/New_York:20260724T210000
DTEND;TZID=America/New_York:20260725T020000
DTSTAMP:20260423T041816
CREATED:20251202T021229Z
LAST-MODIFIED:20260102T185523Z
UID:10001147-1784926800-1784944800@sullivancatskills.com
SUMMARY:Karaoke at The Dale Pizza & Beer
DESCRIPTION:Recurring weekly on Friday. Starting: 9:00 PM at the Dale Pizza
URL:https://sullivancatskills.com/event/karaoke-night-party-the-dale-pizza-beer/2026-07-24/
LOCATION:The Dale PIzza\, 4 Old Post Rd\, Mt Dale\, NY\, United States
CATEGORIES:Arts | Culture,Food | Wine | Restaurant
ATTACH;FMTTYPE=image/webp:https://sullivancatskills.com/wp-content/uploads/2025/12/karaoke-Friday-Dale.webp
END:VEVENT
BEGIN:VEVENT
DTSTART;TZID=America/New_York:20260731T210000
DTEND;TZID=America/New_York:20260801T020000
DTSTAMP:20260423T041816
CREATED:20251202T021229Z
LAST-MODIFIED:20260102T185523Z
UID:10001148-1785531600-1785549600@sullivancatskills.com
SUMMARY:Karaoke at The Dale Pizza & Beer
DESCRIPTION:Recurring weekly on Friday. Starting: 9:00 PM at the Dale Pizza
URL:https://sullivancatskills.com/event/karaoke-night-party-the-dale-pizza-beer/2026-07-31/
LOCATION:The Dale PIzza\, 4 Old Post Rd\, Mt Dale\, NY\, United States
CATEGORIES:Arts | Culture,Food | Wine | Restaurant
ATTACH;FMTTYPE=image/webp:https://sullivancatskills.com/wp-content/uploads/2025/12/karaoke-Friday-Dale.webp
END:VEVENT
BEGIN:VEVENT
DTSTART;TZID=America/New_York:20260807T210000
DTEND;TZID=America/New_York:20260808T020000
DTSTAMP:20260423T041816
CREATED:20251202T021229Z
LAST-MODIFIED:20260102T185523Z
UID:10001149-1786136400-1786154400@sullivancatskills.com
SUMMARY:Karaoke at The Dale Pizza & Beer
DESCRIPTION:Recurring weekly on Friday. Starting: 9:00 PM at the Dale Pizza
URL:https://sullivancatskills.com/event/karaoke-night-party-the-dale-pizza-beer/2026-08-07/
LOCATION:The Dale PIzza\, 4 Old Post Rd\, Mt Dale\, NY\, United States
CATEGORIES:Arts | Culture,Food | Wine | Restaurant
ATTACH;FMTTYPE=image/webp:https://sullivancatskills.com/wp-content/uploads/2025/12/karaoke-Friday-Dale.webp
END:VEVENT
BEGIN:VEVENT
DTSTART;TZID=America/New_York:20260814T210000
DTEND;TZID=America/New_York:20260815T020000
DTSTAMP:20260423T041816
CREATED:20251202T021229Z
LAST-MODIFIED:20260102T185523Z
UID:10001150-1786741200-1786759200@sullivancatskills.com
SUMMARY:Karaoke at The Dale Pizza & Beer
DESCRIPTION:Recurring weekly on Friday. Starting: 9:00 PM at the Dale Pizza
URL:https://sullivancatskills.com/event/karaoke-night-party-the-dale-pizza-beer/2026-08-14/
LOCATION:The Dale PIzza\, 4 Old Post Rd\, Mt Dale\, NY\, United States
CATEGORIES:Arts | Culture,Food | Wine | Restaurant
ATTACH;FMTTYPE=image/webp:https://sullivancatskills.com/wp-content/uploads/2025/12/karaoke-Friday-Dale.webp
END:VEVENT
BEGIN:VEVENT
DTSTART;TZID=America/New_York:20260821T210000
DTEND;TZID=America/New_York:20260822T020000
DTSTAMP:20260423T041816
CREATED:20251202T021229Z
LAST-MODIFIED:20260102T185523Z
UID:10001151-1787346000-1787364000@sullivancatskills.com
SUMMARY:Karaoke at The Dale Pizza & Beer
DESCRIPTION:Recurring weekly on Friday. Starting: 9:00 PM at the Dale Pizza
URL:https://sullivancatskills.com/event/karaoke-night-party-the-dale-pizza-beer/2026-08-21/
LOCATION:The Dale PIzza\, 4 Old Post Rd\, Mt Dale\, NY\, United States
CATEGORIES:Arts | Culture,Food | Wine | Restaurant
ATTACH;FMTTYPE=image/webp:https://sullivancatskills.com/wp-content/uploads/2025/12/karaoke-Friday-Dale.webp
END:VEVENT
BEGIN:VEVENT
DTSTART;TZID=America/New_York:20260828T210000
DTEND;TZID=America/New_York:20260829T020000
DTSTAMP:20260423T041816
CREATED:20251202T021229Z
LAST-MODIFIED:20260102T185523Z
UID:10001152-1787950800-1787968800@sullivancatskills.com
SUMMARY:Karaoke at The Dale Pizza & Beer
DESCRIPTION:Recurring weekly on Friday. Starting: 9:00 PM at the Dale Pizza
URL:https://sullivancatskills.com/event/karaoke-night-party-the-dale-pizza-beer/2026-08-28/
LOCATION:The Dale PIzza\, 4 Old Post Rd\, Mt Dale\, NY\, United States
CATEGORIES:Arts | Culture,Food | Wine | Restaurant
ATTACH;FMTTYPE=image/webp:https://sullivancatskills.com/wp-content/uploads/2025/12/karaoke-Friday-Dale.webp
END:VEVENT
BEGIN:VEVENT
DTSTART;TZID=America/New_York:20260904T210000
DTEND;TZID=America/New_York:20260905T020000
DTSTAMP:20260423T041816
CREATED:20251202T021229Z
LAST-MODIFIED:20260102T185523Z
UID:10001153-1788555600-1788573600@sullivancatskills.com
SUMMARY:Karaoke at The Dale Pizza & Beer
DESCRIPTION:Recurring weekly on Friday. Starting: 9:00 PM at the Dale Pizza
URL:https://sullivancatskills.com/event/karaoke-night-party-the-dale-pizza-beer/2026-09-04/
LOCATION:The Dale PIzza\, 4 Old Post Rd\, Mt Dale\, NY\, United States
CATEGORIES:Arts | Culture,Food | Wine | Restaurant
ATTACH;FMTTYPE=image/webp:https://sullivancatskills.com/wp-content/uploads/2025/12/karaoke-Friday-Dale.webp
END:VEVENT
BEGIN:VEVENT
DTSTART;TZID=America/New_York:20260911T210000
DTEND;TZID=America/New_York:20260912T020000
DTSTAMP:20260423T041816
CREATED:20251202T021229Z
LAST-MODIFIED:20260102T185523Z
UID:10001154-1789160400-1789178400@sullivancatskills.com
SUMMARY:Karaoke at The Dale Pizza & Beer
DESCRIPTION:Recurring weekly on Friday. Starting: 9:00 PM at the Dale Pizza
URL:https://sullivancatskills.com/event/karaoke-night-party-the-dale-pizza-beer/2026-09-11/
LOCATION:The Dale PIzza\, 4 Old Post Rd\, Mt Dale\, NY\, United States
CATEGORIES:Arts | Culture,Food | Wine | Restaurant
ATTACH;FMTTYPE=image/webp:https://sullivancatskills.com/wp-content/uploads/2025/12/karaoke-Friday-Dale.webp
END:VEVENT
BEGIN:VEVENT
DTSTART;TZID=America/New_York:20260918T210000
DTEND;TZID=America/New_York:20260919T020000
DTSTAMP:20260423T041816
CREATED:20251202T021229Z
LAST-MODIFIED:20260102T185523Z
UID:10001155-1789765200-1789783200@sullivancatskills.com
SUMMARY:Karaoke at The Dale Pizza & Beer
DESCRIPTION:Recurring weekly on Friday. Starting: 9:00 PM at the Dale Pizza
URL:https://sullivancatskills.com/event/karaoke-night-party-the-dale-pizza-beer/2026-09-18/
LOCATION:The Dale PIzza\, 4 Old Post Rd\, Mt Dale\, NY\, United States
CATEGORIES:Arts | Culture,Food | Wine | Restaurant
ATTACH;FMTTYPE=image/webp:https://sullivancatskills.com/wp-content/uploads/2025/12/karaoke-Friday-Dale.webp
END:VEVENT
BEGIN:VEVENT
DTSTART;TZID=America/New_York:20260925T210000
DTEND;TZID=America/New_York:20260926T020000
DTSTAMP:20260423T041816
CREATED:20251202T021229Z
LAST-MODIFIED:20260102T185523Z
UID:10001156-1790370000-1790388000@sullivancatskills.com
SUMMARY:Karaoke at The Dale Pizza & Beer
DESCRIPTION:Recurring weekly on Friday. Starting: 9:00 PM at the Dale Pizza
URL:https://sullivancatskills.com/event/karaoke-night-party-the-dale-pizza-beer/2026-09-25/
LOCATION:The Dale PIzza\, 4 Old Post Rd\, Mt Dale\, NY\, United States
CATEGORIES:Arts | Culture,Food | Wine | Restaurant
ATTACH;FMTTYPE=image/webp:https://sullivancatskills.com/wp-content/uploads/2025/12/karaoke-Friday-Dale.webp
END:VEVENT
BEGIN:VEVENT
DTSTART;TZID=America/New_York:20261002T210000
DTEND;TZID=America/New_York:20261003T020000
DTSTAMP:20260423T041816
CREATED:20251202T021229Z
LAST-MODIFIED:20260102T185523Z
UID:10001157-1790974800-1790992800@sullivancatskills.com
SUMMARY:Karaoke at The Dale Pizza & Beer
DESCRIPTION:Recurring weekly on Friday. Starting: 9:00 PM at the Dale Pizza
URL:https://sullivancatskills.com/event/karaoke-night-party-the-dale-pizza-beer/2026-10-02/
LOCATION:The Dale PIzza\, 4 Old Post Rd\, Mt Dale\, NY\, United States
CATEGORIES:Arts | Culture,Food | Wine | Restaurant
ATTACH;FMTTYPE=image/webp:https://sullivancatskills.com/wp-content/uploads/2025/12/karaoke-Friday-Dale.webp
END:VEVENT
BEGIN:VEVENT
DTSTART;TZID=America/New_York:20261009T210000
DTEND;TZID=America/New_York:20261010T020000
DTSTAMP:20260423T041816
CREATED:20251202T021229Z
LAST-MODIFIED:20260102T185523Z
UID:10001158-1791579600-1791597600@sullivancatskills.com
SUMMARY:Karaoke at The Dale Pizza & Beer
DESCRIPTION:Recurring weekly on Friday. Starting: 9:00 PM at the Dale Pizza
URL:https://sullivancatskills.com/event/karaoke-night-party-the-dale-pizza-beer/2026-10-09/
LOCATION:The Dale PIzza\, 4 Old Post Rd\, Mt Dale\, NY\, United States
CATEGORIES:Arts | Culture,Food | Wine | Restaurant
ATTACH;FMTTYPE=image/webp:https://sullivancatskills.com/wp-content/uploads/2025/12/karaoke-Friday-Dale.webp
END:VEVENT
BEGIN:VEVENT
DTSTART;TZID=America/New_York:20261016T210000
DTEND;TZID=America/New_York:20261017T020000
DTSTAMP:20260423T041816
CREATED:20251202T021229Z
LAST-MODIFIED:20260102T185523Z
UID:10001159-1792184400-1792202400@sullivancatskills.com
SUMMARY:Karaoke at The Dale Pizza & Beer
DESCRIPTION:Recurring weekly on Friday. Starting: 9:00 PM at the Dale Pizza
URL:https://sullivancatskills.com/event/karaoke-night-party-the-dale-pizza-beer/2026-10-16/
LOCATION:The Dale PIzza\, 4 Old Post Rd\, Mt Dale\, NY\, United States
CATEGORIES:Arts | Culture,Food | Wine | Restaurant
ATTACH;FMTTYPE=image/webp:https://sullivancatskills.com/wp-content/uploads/2025/12/karaoke-Friday-Dale.webp
END:VEVENT
BEGIN:VEVENT
DTSTART;TZID=America/New_York:20261023T210000
DTEND;TZID=America/New_York:20261024T020000
DTSTAMP:20260423T041816
CREATED:20251202T021229Z
LAST-MODIFIED:20260102T185523Z
UID:10001160-1792789200-1792807200@sullivancatskills.com
SUMMARY:Karaoke at The Dale Pizza & Beer
DESCRIPTION:Recurring weekly on Friday. Starting: 9:00 PM at the Dale Pizza
URL:https://sullivancatskills.com/event/karaoke-night-party-the-dale-pizza-beer/2026-10-23/
LOCATION:The Dale PIzza\, 4 Old Post Rd\, Mt Dale\, NY\, United States
CATEGORIES:Arts | Culture,Food | Wine | Restaurant
ATTACH;FMTTYPE=image/webp:https://sullivancatskills.com/wp-content/uploads/2025/12/karaoke-Friday-Dale.webp
END:VEVENT
BEGIN:VEVENT
DTSTART;TZID=America/New_York:20261030T210000
DTEND;TZID=America/New_York:20261031T020000
DTSTAMP:20260423T041816
CREATED:20251202T021229Z
LAST-MODIFIED:20260102T185523Z
UID:10001161-1793394000-1793412000@sullivancatskills.com
SUMMARY:Karaoke at The Dale Pizza & Beer
DESCRIPTION:Recurring weekly on Friday. Starting: 9:00 PM at the Dale Pizza
URL:https://sullivancatskills.com/event/karaoke-night-party-the-dale-pizza-beer/2026-10-30/
LOCATION:The Dale PIzza\, 4 Old Post Rd\, Mt Dale\, NY\, United States
CATEGORIES:Arts | Culture,Food | Wine | Restaurant
ATTACH;FMTTYPE=image/webp:https://sullivancatskills.com/wp-content/uploads/2025/12/karaoke-Friday-Dale.webp
END:VEVENT
BEGIN:VEVENT
DTSTART;TZID=America/New_York:20261106T210000
DTEND;TZID=America/New_York:20261107T020000
DTSTAMP:20260423T041816
CREATED:20251202T021229Z
LAST-MODIFIED:20260102T185523Z
UID:10001162-1793998800-1794016800@sullivancatskills.com
SUMMARY:Karaoke at The Dale Pizza & Beer
DESCRIPTION:Recurring weekly on Friday. Starting: 9:00 PM at the Dale Pizza
URL:https://sullivancatskills.com/event/karaoke-night-party-the-dale-pizza-beer/2026-11-06/
LOCATION:The Dale PIzza\, 4 Old Post Rd\, Mt Dale\, NY\, United States
CATEGORIES:Arts | Culture,Food | Wine | Restaurant
ATTACH;FMTTYPE=image/webp:https://sullivancatskills.com/wp-content/uploads/2025/12/karaoke-Friday-Dale.webp
END:VEVENT
BEGIN:VEVENT
DTSTART;TZID=America/New_York:20261113T210000
DTEND;TZID=America/New_York:20261114T020000
DTSTAMP:20260423T041816
CREATED:20251202T021229Z
LAST-MODIFIED:20260102T185523Z
UID:10001163-1794603600-1794621600@sullivancatskills.com
SUMMARY:Karaoke at The Dale Pizza & Beer
DESCRIPTION:Recurring weekly on Friday. Starting: 9:00 PM at the Dale Pizza
URL:https://sullivancatskills.com/event/karaoke-night-party-the-dale-pizza-beer/2026-11-13/
LOCATION:The Dale PIzza\, 4 Old Post Rd\, Mt Dale\, NY\, United States
CATEGORIES:Arts | Culture,Food | Wine | Restaurant
ATTACH;FMTTYPE=image/webp:https://sullivancatskills.com/wp-content/uploads/2025/12/karaoke-Friday-Dale.webp
END:VEVENT
BEGIN:VEVENT
DTSTART;TZID=America/New_York:20261120T210000
DTEND;TZID=America/New_York:20261121T020000
DTSTAMP:20260423T041816
CREATED:20251202T021229Z
LAST-MODIFIED:20260102T185523Z
UID:10001164-1795208400-1795226400@sullivancatskills.com
SUMMARY:Karaoke at The Dale Pizza & Beer
DESCRIPTION:Recurring weekly on Friday. Starting: 9:00 PM at the Dale Pizza
URL:https://sullivancatskills.com/event/karaoke-night-party-the-dale-pizza-beer/2026-11-20/
LOCATION:The Dale PIzza\, 4 Old Post Rd\, Mt Dale\, NY\, United States
CATEGORIES:Arts | Culture,Food | Wine | Restaurant
ATTACH;FMTTYPE=image/webp:https://sullivancatskills.com/wp-content/uploads/2025/12/karaoke-Friday-Dale.webp
END:VEVENT
BEGIN:VEVENT
DTSTART;TZID=America/New_York:20261127T210000
DTEND;TZID=America/New_York:20261128T020000
DTSTAMP:20260423T041816
CREATED:20251202T021229Z
LAST-MODIFIED:20260102T185523Z
UID:10001165-1795813200-1795831200@sullivancatskills.com
SUMMARY:Karaoke at The Dale Pizza & Beer
DESCRIPTION:Recurring weekly on Friday. Starting: 9:00 PM at the Dale Pizza
URL:https://sullivancatskills.com/event/karaoke-night-party-the-dale-pizza-beer/2026-11-27/
LOCATION:The Dale PIzza\, 4 Old Post Rd\, Mt Dale\, NY\, United States
CATEGORIES:Arts | Culture,Food | Wine | Restaurant
ATTACH;FMTTYPE=image/webp:https://sullivancatskills.com/wp-content/uploads/2025/12/karaoke-Friday-Dale.webp
END:VEVENT
BEGIN:VEVENT
DTSTART;TZID=America/New_York:20261204T210000
DTEND;TZID=America/New_York:20261205T020000
DTSTAMP:20260423T041816
CREATED:20251202T021229Z
LAST-MODIFIED:20260102T185523Z
UID:10001166-1796418000-1796436000@sullivancatskills.com
SUMMARY:Karaoke at The Dale Pizza & Beer
DESCRIPTION:Recurring weekly on Friday. Starting: 9:00 PM at the Dale Pizza
URL:https://sullivancatskills.com/event/karaoke-night-party-the-dale-pizza-beer/2026-12-04/
LOCATION:The Dale PIzza\, 4 Old Post Rd\, Mt Dale\, NY\, United States
CATEGORIES:Arts | Culture,Food | Wine | Restaurant
ATTACH;FMTTYPE=image/webp:https://sullivancatskills.com/wp-content/uploads/2025/12/karaoke-Friday-Dale.webp
END:VEVENT
BEGIN:VEVENT
DTSTART;TZID=America/New_York:20261211T210000
DTEND;TZID=America/New_York:20261212T020000
DTSTAMP:20260423T041816
CREATED:20251202T021229Z
LAST-MODIFIED:20260102T185523Z
UID:10001167-1797022800-1797040800@sullivancatskills.com
SUMMARY:Karaoke at The Dale Pizza & Beer
DESCRIPTION:Recurring weekly on Friday. Starting: 9:00 PM at the Dale Pizza
URL:https://sullivancatskills.com/event/karaoke-night-party-the-dale-pizza-beer/2026-12-11/
LOCATION:The Dale PIzza\, 4 Old Post Rd\, Mt Dale\, NY\, United States
CATEGORIES:Arts | Culture,Food | Wine | Restaurant
ATTACH;FMTTYPE=image/webp:https://sullivancatskills.com/wp-content/uploads/2025/12/karaoke-Friday-Dale.webp
END:VEVENT
BEGIN:VEVENT
DTSTART;TZID=America/New_York:20261218T210000
DTEND;TZID=America/New_York:20261219T020000
DTSTAMP:20260423T041816
CREATED:20251202T021229Z
LAST-MODIFIED:20260102T185523Z
UID:10001168-1797627600-1797645600@sullivancatskills.com
SUMMARY:Karaoke at The Dale Pizza & Beer
DESCRIPTION:Recurring weekly on Friday. Starting: 9:00 PM at the Dale Pizza
URL:https://sullivancatskills.com/event/karaoke-night-party-the-dale-pizza-beer/2026-12-18/
LOCATION:The Dale PIzza\, 4 Old Post Rd\, Mt Dale\, NY\, United States
CATEGORIES:Arts | Culture,Food | Wine | Restaurant
ATTACH;FMTTYPE=image/webp:https://sullivancatskills.com/wp-content/uploads/2025/12/karaoke-Friday-Dale.webp
END:VEVENT
BEGIN:VEVENT
DTSTART;TZID=America/New_York:20261225T210000
DTEND;TZID=America/New_York:20261226T020000
DTSTAMP:20260423T041816
CREATED:20251202T021229Z
LAST-MODIFIED:20260102T185523Z
UID:10001169-1798232400-1798250400@sullivancatskills.com
SUMMARY:Karaoke at The Dale Pizza & Beer
DESCRIPTION:Recurring weekly on Friday. Starting: 9:00 PM at the Dale Pizza
URL:https://sullivancatskills.com/event/karaoke-night-party-the-dale-pizza-beer/2026-12-25/
LOCATION:The Dale PIzza\, 4 Old Post Rd\, Mt Dale\, NY\, United States
CATEGORIES:Arts | Culture,Food | Wine | Restaurant
ATTACH;FMTTYPE=image/webp:https://sullivancatskills.com/wp-content/uploads/2025/12/karaoke-Friday-Dale.webp
END:VEVENT
BEGIN:VEVENT
DTSTART;TZID=America/New_York:20270101T210000
DTEND;TZID=America/New_York:20270102T020000
DTSTAMP:20260423T041816
CREATED:20251202T021229Z
LAST-MODIFIED:20260102T185523Z
UID:10001170-1798837200-1798855200@sullivancatskills.com
SUMMARY:Karaoke at The Dale Pizza & Beer
DESCRIPTION:Recurring weekly on Friday. Starting: 9:00 PM at the Dale Pizza
URL:https://sullivancatskills.com/event/karaoke-night-party-the-dale-pizza-beer/2027-01-01/
LOCATION:The Dale PIzza\, 4 Old Post Rd\, Mt Dale\, NY\, United States
CATEGORIES:Arts | Culture,Food | Wine | Restaurant
ATTACH;FMTTYPE=image/webp:https://sullivancatskills.com/wp-content/uploads/2025/12/karaoke-Friday-Dale.webp
END:VEVENT
BEGIN:VEVENT
DTSTART;TZID=America/New_York:20270108T210000
DTEND;TZID=America/New_York:20270109T020000
DTSTAMP:20260423T041816
CREATED:20251202T021229Z
LAST-MODIFIED:20260102T185523Z
UID:10001171-1799442000-1799460000@sullivancatskills.com
SUMMARY:Karaoke at The Dale Pizza & Beer
DESCRIPTION:Recurring weekly on Friday. Starting: 9:00 PM at the Dale Pizza
URL:https://sullivancatskills.com/event/karaoke-night-party-the-dale-pizza-beer/2027-01-08/
LOCATION:The Dale PIzza\, 4 Old Post Rd\, Mt Dale\, NY\, United States
CATEGORIES:Arts | Culture,Food | Wine | Restaurant
ATTACH;FMTTYPE=image/webp:https://sullivancatskills.com/wp-content/uploads/2025/12/karaoke-Friday-Dale.webp
END:VEVENT
BEGIN:VEVENT
DTSTART;TZID=America/New_York:20270115T210000
DTEND;TZID=America/New_York:20270116T020000
DTSTAMP:20260423T041816
CREATED:20251202T021229Z
LAST-MODIFIED:20260102T185523Z
UID:10001172-1800046800-1800064800@sullivancatskills.com
SUMMARY:Karaoke at The Dale Pizza & Beer
DESCRIPTION:Recurring weekly on Friday. Starting: 9:00 PM at the Dale Pizza
URL:https://sullivancatskills.com/event/karaoke-night-party-the-dale-pizza-beer/2027-01-15/
LOCATION:The Dale PIzza\, 4 Old Post Rd\, Mt Dale\, NY\, United States
CATEGORIES:Arts | Culture,Food | Wine | Restaurant
ATTACH;FMTTYPE=image/webp:https://sullivancatskills.com/wp-content/uploads/2025/12/karaoke-Friday-Dale.webp
END:VEVENT
BEGIN:VEVENT
DTSTART;TZID=America/New_York:20270122T210000
DTEND;TZID=America/New_York:20270123T020000
DTSTAMP:20260423T041816
CREATED:20251202T021229Z
LAST-MODIFIED:20260102T185523Z
UID:10001173-1800651600-1800669600@sullivancatskills.com
SUMMARY:Karaoke at The Dale Pizza & Beer
DESCRIPTION:Recurring weekly on Friday. Starting: 9:00 PM at the Dale Pizza
URL:https://sullivancatskills.com/event/karaoke-night-party-the-dale-pizza-beer/2027-01-22/
LOCATION:The Dale PIzza\, 4 Old Post Rd\, Mt Dale\, NY\, United States
CATEGORIES:Arts | Culture,Food | Wine | Restaurant
ATTACH;FMTTYPE=image/webp:https://sullivancatskills.com/wp-content/uploads/2025/12/karaoke-Friday-Dale.webp
END:VEVENT
BEGIN:VEVENT
DTSTART;TZID=America/New_York:20270129T210000
DTEND;TZID=America/New_York:20270130T020000
DTSTAMP:20260423T041816
CREATED:20251202T021229Z
LAST-MODIFIED:20260102T185523Z
UID:10001174-1801256400-1801274400@sullivancatskills.com
SUMMARY:Karaoke at The Dale Pizza & Beer
DESCRIPTION:Recurring weekly on Friday. Starting: 9:00 PM at the Dale Pizza
URL:https://sullivancatskills.com/event/karaoke-night-party-the-dale-pizza-beer/2027-01-29/
LOCATION:The Dale PIzza\, 4 Old Post Rd\, Mt Dale\, NY\, United States
CATEGORIES:Arts | Culture,Food | Wine | Restaurant
ATTACH;FMTTYPE=image/webp:https://sullivancatskills.com/wp-content/uploads/2025/12/karaoke-Friday-Dale.webp
END:VEVENT
BEGIN:VEVENT
DTSTART;TZID=America/New_York:20270205T210000
DTEND;TZID=America/New_York:20270206T020000
DTSTAMP:20260423T041816
CREATED:20251202T021229Z
LAST-MODIFIED:20260102T185523Z
UID:10001175-1801861200-1801879200@sullivancatskills.com
SUMMARY:Karaoke at The Dale Pizza & Beer
DESCRIPTION:Recurring weekly on Friday. Starting: 9:00 PM at the Dale Pizza
URL:https://sullivancatskills.com/event/karaoke-night-party-the-dale-pizza-beer/2027-02-05/
LOCATION:The Dale PIzza\, 4 Old Post Rd\, Mt Dale\, NY\, United States
CATEGORIES:Arts | Culture,Food | Wine | Restaurant
ATTACH;FMTTYPE=image/webp:https://sullivancatskills.com/wp-content/uploads/2025/12/karaoke-Friday-Dale.webp
END:VEVENT
END:VCALENDAR