BEGIN:VCALENDAR
VERSION:2.0
PRODID:-//Sullivan Catskills - ECPv6.15.20//NONSGML v1.0//EN
CALSCALE:GREGORIAN
METHOD:PUBLISH
X-ORIGINAL-URL:https://sullivancatskills.com
X-WR-CALDESC:Events for Sullivan Catskills
REFRESH-INTERVAL;VALUE=DURATION:PT1H
X-Robots-Tag:noindex
X-PUBLISHED-TTL:PT1H
BEGIN:VTIMEZONE
TZID:America/New_York
BEGIN:DAYLIGHT
TZOFFSETFROM:-0500
TZOFFSETTO:-0400
TZNAME:EDT
DTSTART:20250309T070000
END:DAYLIGHT
BEGIN:STANDARD
TZOFFSETFROM:-0400
TZOFFSETTO:-0500
TZNAME:EST
DTSTART:20251102T060000
END:STANDARD
BEGIN:DAYLIGHT
TZOFFSETFROM:-0500
TZOFFSETTO:-0400
TZNAME:EDT
DTSTART:20260308T070000
END:DAYLIGHT
BEGIN:STANDARD
TZOFFSETFROM:-0400
TZOFFSETTO:-0500
TZNAME:EST
DTSTART:20261101T060000
END:STANDARD
BEGIN:DAYLIGHT
TZOFFSETFROM:-0500
TZOFFSETTO:-0400
TZNAME:EDT
DTSTART:20270314T070000
END:DAYLIGHT
BEGIN:STANDARD
TZOFFSETFROM:-0400
TZOFFSETTO:-0500
TZNAME:EST
DTSTART:20271107T060000
END:STANDARD
BEGIN:DAYLIGHT
TZOFFSETFROM:-0500
TZOFFSETTO:-0400
TZNAME:EDT
DTSTART:20280312T070000
END:DAYLIGHT
BEGIN:STANDARD
TZOFFSETFROM:-0400
TZOFFSETTO:-0500
TZNAME:EST
DTSTART:20281105T060000
END:STANDARD
BEGIN:DAYLIGHT
TZOFFSETFROM:-0500
TZOFFSETTO:-0400
TZNAME:EDT
DTSTART:20290311T070000
END:DAYLIGHT
BEGIN:STANDARD
TZOFFSETFROM:-0400
TZOFFSETTO:-0500
TZNAME:EST
DTSTART:20291104T060000
END:STANDARD
END:VTIMEZONE
BEGIN:VEVENT
DTSTART;TZID=America/New_York:20260528T110000
DTEND;TZID=America/New_York:20260528T130000
DTSTAMP:20260424T042744
CREATED:20251202T020806Z
LAST-MODIFIED:20251202T024540Z
UID:10001059-1779966000-1779973200@sullivancatskills.com
SUMMARY:Board & Brilliant Senior Gaming Hour!
DESCRIPTION:Something for Everyone! \nEvery 4th Thursday! 11 AM
URL:https://sullivancatskills.com/event/board-brilliant-senior-gaming-hour/2026-05-28/
LOCATION:Hurleyville Art Center\, 219 Main St\, Hurleyville\, NY\, 12747\, United States
CATEGORIES:Arts | Culture,Community
ATTACH;FMTTYPE=image/webp:https://sullivancatskills.com/wp-content/uploads/2025/12/board-brilliant-senior-gaming-hour.webp
END:VEVENT
BEGIN:VEVENT
DTSTART;TZID=America/New_York:20260625T110000
DTEND;TZID=America/New_York:20260625T130000
DTSTAMP:20260424T042744
CREATED:20251202T020806Z
LAST-MODIFIED:20251202T024540Z
UID:10001060-1782385200-1782392400@sullivancatskills.com
SUMMARY:Board & Brilliant Senior Gaming Hour!
DESCRIPTION:Something for Everyone! \nEvery 4th Thursday! 11 AM
URL:https://sullivancatskills.com/event/board-brilliant-senior-gaming-hour/2026-06-25/
LOCATION:Hurleyville Art Center\, 219 Main St\, Hurleyville\, NY\, 12747\, United States
CATEGORIES:Arts | Culture,Community
ATTACH;FMTTYPE=image/webp:https://sullivancatskills.com/wp-content/uploads/2025/12/board-brilliant-senior-gaming-hour.webp
END:VEVENT
BEGIN:VEVENT
DTSTART;TZID=America/New_York:20260723T110000
DTEND;TZID=America/New_York:20260723T130000
DTSTAMP:20260424T042744
CREATED:20251202T020806Z
LAST-MODIFIED:20251202T024540Z
UID:10001061-1784804400-1784811600@sullivancatskills.com
SUMMARY:Board & Brilliant Senior Gaming Hour!
DESCRIPTION:Something for Everyone! \nEvery 4th Thursday! 11 AM
URL:https://sullivancatskills.com/event/board-brilliant-senior-gaming-hour/2026-07-23/
LOCATION:Hurleyville Art Center\, 219 Main St\, Hurleyville\, NY\, 12747\, United States
CATEGORIES:Arts | Culture,Community
ATTACH;FMTTYPE=image/webp:https://sullivancatskills.com/wp-content/uploads/2025/12/board-brilliant-senior-gaming-hour.webp
END:VEVENT
BEGIN:VEVENT
DTSTART;TZID=America/New_York:20260827T110000
DTEND;TZID=America/New_York:20260827T130000
DTSTAMP:20260424T042744
CREATED:20251202T020806Z
LAST-MODIFIED:20251202T024540Z
UID:10001062-1787828400-1787835600@sullivancatskills.com
SUMMARY:Board & Brilliant Senior Gaming Hour!
DESCRIPTION:Something for Everyone! \nEvery 4th Thursday! 11 AM
URL:https://sullivancatskills.com/event/board-brilliant-senior-gaming-hour/2026-08-27/
LOCATION:Hurleyville Art Center\, 219 Main St\, Hurleyville\, NY\, 12747\, United States
CATEGORIES:Arts | Culture,Community
ATTACH;FMTTYPE=image/webp:https://sullivancatskills.com/wp-content/uploads/2025/12/board-brilliant-senior-gaming-hour.webp
END:VEVENT
BEGIN:VEVENT
DTSTART;TZID=America/New_York:20260924T110000
DTEND;TZID=America/New_York:20260924T130000
DTSTAMP:20260424T042744
CREATED:20251202T020806Z
LAST-MODIFIED:20251202T024540Z
UID:10001063-1790247600-1790254800@sullivancatskills.com
SUMMARY:Board & Brilliant Senior Gaming Hour!
DESCRIPTION:Something for Everyone! \nEvery 4th Thursday! 11 AM
URL:https://sullivancatskills.com/event/board-brilliant-senior-gaming-hour/2026-09-24/
LOCATION:Hurleyville Art Center\, 219 Main St\, Hurleyville\, NY\, 12747\, United States
CATEGORIES:Arts | Culture,Community
ATTACH;FMTTYPE=image/webp:https://sullivancatskills.com/wp-content/uploads/2025/12/board-brilliant-senior-gaming-hour.webp
END:VEVENT
BEGIN:VEVENT
DTSTART;TZID=America/New_York:20261022T110000
DTEND;TZID=America/New_York:20261022T130000
DTSTAMP:20260424T042744
CREATED:20251202T020806Z
LAST-MODIFIED:20251202T024540Z
UID:10001064-1792666800-1792674000@sullivancatskills.com
SUMMARY:Board & Brilliant Senior Gaming Hour!
DESCRIPTION:Something for Everyone! \nEvery 4th Thursday! 11 AM
URL:https://sullivancatskills.com/event/board-brilliant-senior-gaming-hour/2026-10-22/
LOCATION:Hurleyville Art Center\, 219 Main St\, Hurleyville\, NY\, 12747\, United States
CATEGORIES:Arts | Culture,Community
ATTACH;FMTTYPE=image/webp:https://sullivancatskills.com/wp-content/uploads/2025/12/board-brilliant-senior-gaming-hour.webp
END:VEVENT
BEGIN:VEVENT
DTSTART;TZID=America/New_York:20261126T110000
DTEND;TZID=America/New_York:20261126T130000
DTSTAMP:20260424T042744
CREATED:20251202T020806Z
LAST-MODIFIED:20251202T024540Z
UID:10001065-1795690800-1795698000@sullivancatskills.com
SUMMARY:Board & Brilliant Senior Gaming Hour!
DESCRIPTION:Something for Everyone! \nEvery 4th Thursday! 11 AM
URL:https://sullivancatskills.com/event/board-brilliant-senior-gaming-hour/2026-11-26/
LOCATION:Hurleyville Art Center\, 219 Main St\, Hurleyville\, NY\, 12747\, United States
CATEGORIES:Arts | Culture,Community
ATTACH;FMTTYPE=image/webp:https://sullivancatskills.com/wp-content/uploads/2025/12/board-brilliant-senior-gaming-hour.webp
END:VEVENT
BEGIN:VEVENT
DTSTART;TZID=America/New_York:20261224T110000
DTEND;TZID=America/New_York:20261224T130000
DTSTAMP:20260424T042744
CREATED:20251202T020806Z
LAST-MODIFIED:20251202T024540Z
UID:10001066-1798110000-1798117200@sullivancatskills.com
SUMMARY:Board & Brilliant Senior Gaming Hour!
DESCRIPTION:Something for Everyone! \nEvery 4th Thursday! 11 AM
URL:https://sullivancatskills.com/event/board-brilliant-senior-gaming-hour/2026-12-24/
LOCATION:Hurleyville Art Center\, 219 Main St\, Hurleyville\, NY\, 12747\, United States
CATEGORIES:Arts | Culture,Community
ATTACH;FMTTYPE=image/webp:https://sullivancatskills.com/wp-content/uploads/2025/12/board-brilliant-senior-gaming-hour.webp
END:VEVENT
BEGIN:VEVENT
DTSTART;TZID=America/New_York:20270128T110000
DTEND;TZID=America/New_York:20270128T130000
DTSTAMP:20260424T042744
CREATED:20251202T020806Z
LAST-MODIFIED:20251202T024540Z
UID:10001067-1801134000-1801141200@sullivancatskills.com
SUMMARY:Board & Brilliant Senior Gaming Hour!
DESCRIPTION:Something for Everyone! \nEvery 4th Thursday! 11 AM
URL:https://sullivancatskills.com/event/board-brilliant-senior-gaming-hour/2027-01-28/
LOCATION:Hurleyville Art Center\, 219 Main St\, Hurleyville\, NY\, 12747\, United States
CATEGORIES:Arts | Culture,Community
ATTACH;FMTTYPE=image/webp:https://sullivancatskills.com/wp-content/uploads/2025/12/board-brilliant-senior-gaming-hour.webp
END:VEVENT
BEGIN:VEVENT
DTSTART;TZID=America/New_York:20270225T110000
DTEND;TZID=America/New_York:20270225T130000
DTSTAMP:20260424T042744
CREATED:20251202T020806Z
LAST-MODIFIED:20251202T024540Z
UID:10001068-1803553200-1803560400@sullivancatskills.com
SUMMARY:Board & Brilliant Senior Gaming Hour!
DESCRIPTION:Something for Everyone! \nEvery 4th Thursday! 11 AM
URL:https://sullivancatskills.com/event/board-brilliant-senior-gaming-hour/2027-02-25/
LOCATION:Hurleyville Art Center\, 219 Main St\, Hurleyville\, NY\, 12747\, United States
CATEGORIES:Arts | Culture,Community
ATTACH;FMTTYPE=image/webp:https://sullivancatskills.com/wp-content/uploads/2025/12/board-brilliant-senior-gaming-hour.webp
END:VEVENT
BEGIN:VEVENT
DTSTART;TZID=America/New_York:20270325T110000
DTEND;TZID=America/New_York:20270325T130000
DTSTAMP:20260424T042744
CREATED:20251202T020806Z
LAST-MODIFIED:20251202T024540Z
UID:10001069-1805972400-1805979600@sullivancatskills.com
SUMMARY:Board & Brilliant Senior Gaming Hour!
DESCRIPTION:Something for Everyone! \nEvery 4th Thursday! 11 AM
URL:https://sullivancatskills.com/event/board-brilliant-senior-gaming-hour/2027-03-25/
LOCATION:Hurleyville Art Center\, 219 Main St\, Hurleyville\, NY\, 12747\, United States
CATEGORIES:Arts | Culture,Community
ATTACH;FMTTYPE=image/webp:https://sullivancatskills.com/wp-content/uploads/2025/12/board-brilliant-senior-gaming-hour.webp
END:VEVENT
BEGIN:VEVENT
DTSTART;TZID=America/New_York:20270422T110000
DTEND;TZID=America/New_York:20270422T130000
DTSTAMP:20260424T042744
CREATED:20251202T020806Z
LAST-MODIFIED:20251202T024540Z
UID:10001070-1808391600-1808398800@sullivancatskills.com
SUMMARY:Board & Brilliant Senior Gaming Hour!
DESCRIPTION:Something for Everyone! \nEvery 4th Thursday! 11 AM
URL:https://sullivancatskills.com/event/board-brilliant-senior-gaming-hour/2027-04-22/
LOCATION:Hurleyville Art Center\, 219 Main St\, Hurleyville\, NY\, 12747\, United States
CATEGORIES:Arts | Culture,Community
ATTACH;FMTTYPE=image/webp:https://sullivancatskills.com/wp-content/uploads/2025/12/board-brilliant-senior-gaming-hour.webp
END:VEVENT
BEGIN:VEVENT
DTSTART;TZID=America/New_York:20270527T110000
DTEND;TZID=America/New_York:20270527T130000
DTSTAMP:20260424T042744
CREATED:20251202T020806Z
LAST-MODIFIED:20251202T024540Z
UID:10001071-1811415600-1811422800@sullivancatskills.com
SUMMARY:Board & Brilliant Senior Gaming Hour!
DESCRIPTION:Something for Everyone! \nEvery 4th Thursday! 11 AM
URL:https://sullivancatskills.com/event/board-brilliant-senior-gaming-hour/2027-05-27/
LOCATION:Hurleyville Art Center\, 219 Main St\, Hurleyville\, NY\, 12747\, United States
CATEGORIES:Arts | Culture,Community
ATTACH;FMTTYPE=image/webp:https://sullivancatskills.com/wp-content/uploads/2025/12/board-brilliant-senior-gaming-hour.webp
END:VEVENT
BEGIN:VEVENT
DTSTART;TZID=America/New_York:20270624T110000
DTEND;TZID=America/New_York:20270624T130000
DTSTAMP:20260424T042744
CREATED:20251202T020806Z
LAST-MODIFIED:20251202T024540Z
UID:10001072-1813834800-1813842000@sullivancatskills.com
SUMMARY:Board & Brilliant Senior Gaming Hour!
DESCRIPTION:Something for Everyone! \nEvery 4th Thursday! 11 AM
URL:https://sullivancatskills.com/event/board-brilliant-senior-gaming-hour/2027-06-24/
LOCATION:Hurleyville Art Center\, 219 Main St\, Hurleyville\, NY\, 12747\, United States
CATEGORIES:Arts | Culture,Community
ATTACH;FMTTYPE=image/webp:https://sullivancatskills.com/wp-content/uploads/2025/12/board-brilliant-senior-gaming-hour.webp
END:VEVENT
BEGIN:VEVENT
DTSTART;TZID=America/New_York:20270722T110000
DTEND;TZID=America/New_York:20270722T130000
DTSTAMP:20260424T042744
CREATED:20251202T020806Z
LAST-MODIFIED:20251202T024540Z
UID:10001073-1816254000-1816261200@sullivancatskills.com
SUMMARY:Board & Brilliant Senior Gaming Hour!
DESCRIPTION:Something for Everyone! \nEvery 4th Thursday! 11 AM
URL:https://sullivancatskills.com/event/board-brilliant-senior-gaming-hour/2027-07-22/
LOCATION:Hurleyville Art Center\, 219 Main St\, Hurleyville\, NY\, 12747\, United States
CATEGORIES:Arts | Culture,Community
ATTACH;FMTTYPE=image/webp:https://sullivancatskills.com/wp-content/uploads/2025/12/board-brilliant-senior-gaming-hour.webp
END:VEVENT
BEGIN:VEVENT
DTSTART;TZID=America/New_York:20270826T110000
DTEND;TZID=America/New_York:20270826T130000
DTSTAMP:20260424T042744
CREATED:20251202T020806Z
LAST-MODIFIED:20251202T024540Z
UID:10001074-1819278000-1819285200@sullivancatskills.com
SUMMARY:Board & Brilliant Senior Gaming Hour!
DESCRIPTION:Something for Everyone! \nEvery 4th Thursday! 11 AM
URL:https://sullivancatskills.com/event/board-brilliant-senior-gaming-hour/2027-08-26/
LOCATION:Hurleyville Art Center\, 219 Main St\, Hurleyville\, NY\, 12747\, United States
CATEGORIES:Arts | Culture,Community
ATTACH;FMTTYPE=image/webp:https://sullivancatskills.com/wp-content/uploads/2025/12/board-brilliant-senior-gaming-hour.webp
END:VEVENT
BEGIN:VEVENT
DTSTART;TZID=America/New_York:20270923T110000
DTEND;TZID=America/New_York:20270923T130000
DTSTAMP:20260424T042744
CREATED:20251202T020806Z
LAST-MODIFIED:20251202T024540Z
UID:10001075-1821697200-1821704400@sullivancatskills.com
SUMMARY:Board & Brilliant Senior Gaming Hour!
DESCRIPTION:Something for Everyone! \nEvery 4th Thursday! 11 AM
URL:https://sullivancatskills.com/event/board-brilliant-senior-gaming-hour/2027-09-23/
LOCATION:Hurleyville Art Center\, 219 Main St\, Hurleyville\, NY\, 12747\, United States
CATEGORIES:Arts | Culture,Community
ATTACH;FMTTYPE=image/webp:https://sullivancatskills.com/wp-content/uploads/2025/12/board-brilliant-senior-gaming-hour.webp
END:VEVENT
BEGIN:VEVENT
DTSTART;TZID=America/New_York:20271028T110000
DTEND;TZID=America/New_York:20271028T130000
DTSTAMP:20260424T042744
CREATED:20251202T020806Z
LAST-MODIFIED:20251202T024540Z
UID:10001076-1824721200-1824728400@sullivancatskills.com
SUMMARY:Board & Brilliant Senior Gaming Hour!
DESCRIPTION:Something for Everyone! \nEvery 4th Thursday! 11 AM
URL:https://sullivancatskills.com/event/board-brilliant-senior-gaming-hour/2027-10-28/
LOCATION:Hurleyville Art Center\, 219 Main St\, Hurleyville\, NY\, 12747\, United States
CATEGORIES:Arts | Culture,Community
ATTACH;FMTTYPE=image/webp:https://sullivancatskills.com/wp-content/uploads/2025/12/board-brilliant-senior-gaming-hour.webp
END:VEVENT
BEGIN:VEVENT
DTSTART;TZID=America/New_York:20271125T110000
DTEND;TZID=America/New_York:20271125T130000
DTSTAMP:20260424T042744
CREATED:20251202T020806Z
LAST-MODIFIED:20251202T024540Z
UID:10001077-1827140400-1827147600@sullivancatskills.com
SUMMARY:Board & Brilliant Senior Gaming Hour!
DESCRIPTION:Something for Everyone! \nEvery 4th Thursday! 11 AM
URL:https://sullivancatskills.com/event/board-brilliant-senior-gaming-hour/2027-11-25/
LOCATION:Hurleyville Art Center\, 219 Main St\, Hurleyville\, NY\, 12747\, United States
CATEGORIES:Arts | Culture,Community
ATTACH;FMTTYPE=image/webp:https://sullivancatskills.com/wp-content/uploads/2025/12/board-brilliant-senior-gaming-hour.webp
END:VEVENT
BEGIN:VEVENT
DTSTART;TZID=America/New_York:20271223T110000
DTEND;TZID=America/New_York:20271223T130000
DTSTAMP:20260424T042744
CREATED:20251202T020806Z
LAST-MODIFIED:20251202T024540Z
UID:10001078-1829559600-1829566800@sullivancatskills.com
SUMMARY:Board & Brilliant Senior Gaming Hour!
DESCRIPTION:Something for Everyone! \nEvery 4th Thursday! 11 AM
URL:https://sullivancatskills.com/event/board-brilliant-senior-gaming-hour/2027-12-23/
LOCATION:Hurleyville Art Center\, 219 Main St\, Hurleyville\, NY\, 12747\, United States
CATEGORIES:Arts | Culture,Community
ATTACH;FMTTYPE=image/webp:https://sullivancatskills.com/wp-content/uploads/2025/12/board-brilliant-senior-gaming-hour.webp
END:VEVENT
BEGIN:VEVENT
DTSTART;TZID=America/New_York:20280127T110000
DTEND;TZID=America/New_York:20280127T130000
DTSTAMP:20260424T042744
CREATED:20251202T020806Z
LAST-MODIFIED:20251202T024540Z
UID:10001079-1832583600-1832590800@sullivancatskills.com
SUMMARY:Board & Brilliant Senior Gaming Hour!
DESCRIPTION:Something for Everyone! \nEvery 4th Thursday! 11 AM
URL:https://sullivancatskills.com/event/board-brilliant-senior-gaming-hour/2028-01-27/
LOCATION:Hurleyville Art Center\, 219 Main St\, Hurleyville\, NY\, 12747\, United States
CATEGORIES:Arts | Culture,Community
ATTACH;FMTTYPE=image/webp:https://sullivancatskills.com/wp-content/uploads/2025/12/board-brilliant-senior-gaming-hour.webp
END:VEVENT
BEGIN:VEVENT
DTSTART;TZID=America/New_York:20280224T110000
DTEND;TZID=America/New_York:20280224T130000
DTSTAMP:20260424T042744
CREATED:20251202T020806Z
LAST-MODIFIED:20251202T024540Z
UID:10001080-1835002800-1835010000@sullivancatskills.com
SUMMARY:Board & Brilliant Senior Gaming Hour!
DESCRIPTION:Something for Everyone! \nEvery 4th Thursday! 11 AM
URL:https://sullivancatskills.com/event/board-brilliant-senior-gaming-hour/2028-02-24/
LOCATION:Hurleyville Art Center\, 219 Main St\, Hurleyville\, NY\, 12747\, United States
CATEGORIES:Arts | Culture,Community
ATTACH;FMTTYPE=image/webp:https://sullivancatskills.com/wp-content/uploads/2025/12/board-brilliant-senior-gaming-hour.webp
END:VEVENT
BEGIN:VEVENT
DTSTART;TZID=America/New_York:20280323T110000
DTEND;TZID=America/New_York:20280323T130000
DTSTAMP:20260424T042744
CREATED:20251202T020806Z
LAST-MODIFIED:20251202T024540Z
UID:10001081-1837422000-1837429200@sullivancatskills.com
SUMMARY:Board & Brilliant Senior Gaming Hour!
DESCRIPTION:Something for Everyone! \nEvery 4th Thursday! 11 AM
URL:https://sullivancatskills.com/event/board-brilliant-senior-gaming-hour/2028-03-23/
LOCATION:Hurleyville Art Center\, 219 Main St\, Hurleyville\, NY\, 12747\, United States
CATEGORIES:Arts | Culture,Community
ATTACH;FMTTYPE=image/webp:https://sullivancatskills.com/wp-content/uploads/2025/12/board-brilliant-senior-gaming-hour.webp
END:VEVENT
BEGIN:VEVENT
DTSTART;TZID=America/New_York:20280427T110000
DTEND;TZID=America/New_York:20280427T130000
DTSTAMP:20260424T042744
CREATED:20251202T020806Z
LAST-MODIFIED:20251202T024540Z
UID:10001082-1840446000-1840453200@sullivancatskills.com
SUMMARY:Board & Brilliant Senior Gaming Hour!
DESCRIPTION:Something for Everyone! \nEvery 4th Thursday! 11 AM
URL:https://sullivancatskills.com/event/board-brilliant-senior-gaming-hour/2028-04-27/
LOCATION:Hurleyville Art Center\, 219 Main St\, Hurleyville\, NY\, 12747\, United States
CATEGORIES:Arts | Culture,Community
ATTACH;FMTTYPE=image/webp:https://sullivancatskills.com/wp-content/uploads/2025/12/board-brilliant-senior-gaming-hour.webp
END:VEVENT
BEGIN:VEVENT
DTSTART;TZID=America/New_York:20280525T110000
DTEND;TZID=America/New_York:20280525T130000
DTSTAMP:20260424T042744
CREATED:20251202T020806Z
LAST-MODIFIED:20251202T024540Z
UID:10001083-1842865200-1842872400@sullivancatskills.com
SUMMARY:Board & Brilliant Senior Gaming Hour!
DESCRIPTION:Something for Everyone! \nEvery 4th Thursday! 11 AM
URL:https://sullivancatskills.com/event/board-brilliant-senior-gaming-hour/2028-05-25/
LOCATION:Hurleyville Art Center\, 219 Main St\, Hurleyville\, NY\, 12747\, United States
CATEGORIES:Arts | Culture,Community
ATTACH;FMTTYPE=image/webp:https://sullivancatskills.com/wp-content/uploads/2025/12/board-brilliant-senior-gaming-hour.webp
END:VEVENT
BEGIN:VEVENT
DTSTART;TZID=America/New_York:20280622T110000
DTEND;TZID=America/New_York:20280622T130000
DTSTAMP:20260424T042744
CREATED:20251202T020806Z
LAST-MODIFIED:20251202T024540Z
UID:10001084-1845284400-1845291600@sullivancatskills.com
SUMMARY:Board & Brilliant Senior Gaming Hour!
DESCRIPTION:Something for Everyone! \nEvery 4th Thursday! 11 AM
URL:https://sullivancatskills.com/event/board-brilliant-senior-gaming-hour/2028-06-22/
LOCATION:Hurleyville Art Center\, 219 Main St\, Hurleyville\, NY\, 12747\, United States
CATEGORIES:Arts | Culture,Community
ATTACH;FMTTYPE=image/webp:https://sullivancatskills.com/wp-content/uploads/2025/12/board-brilliant-senior-gaming-hour.webp
END:VEVENT
BEGIN:VEVENT
DTSTART;TZID=America/New_York:20280727T110000
DTEND;TZID=America/New_York:20280727T130000
DTSTAMP:20260424T042744
CREATED:20251202T020806Z
LAST-MODIFIED:20251202T024540Z
UID:10001085-1848308400-1848315600@sullivancatskills.com
SUMMARY:Board & Brilliant Senior Gaming Hour!
DESCRIPTION:Something for Everyone! \nEvery 4th Thursday! 11 AM
URL:https://sullivancatskills.com/event/board-brilliant-senior-gaming-hour/2028-07-27/
LOCATION:Hurleyville Art Center\, 219 Main St\, Hurleyville\, NY\, 12747\, United States
CATEGORIES:Arts | Culture,Community
ATTACH;FMTTYPE=image/webp:https://sullivancatskills.com/wp-content/uploads/2025/12/board-brilliant-senior-gaming-hour.webp
END:VEVENT
BEGIN:VEVENT
DTSTART;TZID=America/New_York:20280824T110000
DTEND;TZID=America/New_York:20280824T130000
DTSTAMP:20260424T042744
CREATED:20251202T020806Z
LAST-MODIFIED:20251202T024540Z
UID:10001086-1850727600-1850734800@sullivancatskills.com
SUMMARY:Board & Brilliant Senior Gaming Hour!
DESCRIPTION:Something for Everyone! \nEvery 4th Thursday! 11 AM
URL:https://sullivancatskills.com/event/board-brilliant-senior-gaming-hour/2028-08-24/
LOCATION:Hurleyville Art Center\, 219 Main St\, Hurleyville\, NY\, 12747\, United States
CATEGORIES:Arts | Culture,Community
ATTACH;FMTTYPE=image/webp:https://sullivancatskills.com/wp-content/uploads/2025/12/board-brilliant-senior-gaming-hour.webp
END:VEVENT
BEGIN:VEVENT
DTSTART;TZID=America/New_York:20280928T110000
DTEND;TZID=America/New_York:20280928T130000
DTSTAMP:20260424T042744
CREATED:20251202T020806Z
LAST-MODIFIED:20251202T024540Z
UID:10001087-1853751600-1853758800@sullivancatskills.com
SUMMARY:Board & Brilliant Senior Gaming Hour!
DESCRIPTION:Something for Everyone! \nEvery 4th Thursday! 11 AM
URL:https://sullivancatskills.com/event/board-brilliant-senior-gaming-hour/2028-09-28/
LOCATION:Hurleyville Art Center\, 219 Main St\, Hurleyville\, NY\, 12747\, United States
CATEGORIES:Arts | Culture,Community
ATTACH;FMTTYPE=image/webp:https://sullivancatskills.com/wp-content/uploads/2025/12/board-brilliant-senior-gaming-hour.webp
END:VEVENT
BEGIN:VEVENT
DTSTART;TZID=America/New_York:20281026T110000
DTEND;TZID=America/New_York:20281026T130000
DTSTAMP:20260424T042744
CREATED:20251202T020806Z
LAST-MODIFIED:20251202T024540Z
UID:10001088-1856170800-1856178000@sullivancatskills.com
SUMMARY:Board & Brilliant Senior Gaming Hour!
DESCRIPTION:Something for Everyone! \nEvery 4th Thursday! 11 AM
URL:https://sullivancatskills.com/event/board-brilliant-senior-gaming-hour/2028-10-26/
LOCATION:Hurleyville Art Center\, 219 Main St\, Hurleyville\, NY\, 12747\, United States
CATEGORIES:Arts | Culture,Community
ATTACH;FMTTYPE=image/webp:https://sullivancatskills.com/wp-content/uploads/2025/12/board-brilliant-senior-gaming-hour.webp
END:VEVENT
END:VCALENDAR