BEGIN:VCALENDAR
VERSION:2.0
PRODID:-//Sullivan Catskills - ECPv6.15.20//NONSGML v1.0//EN
CALSCALE:GREGORIAN
METHOD:PUBLISH
X-WR-CALNAME:Sullivan Catskills
X-ORIGINAL-URL:https://sullivancatskills.com
X-WR-CALDESC:Events for Sullivan Catskills
REFRESH-INTERVAL;VALUE=DURATION:PT1H
X-Robots-Tag:noindex
X-PUBLISHED-TTL:PT1H
BEGIN:VTIMEZONE
TZID:America/New_York
BEGIN:DAYLIGHT
TZOFFSETFROM:-0500
TZOFFSETTO:-0400
TZNAME:EDT
DTSTART:20260308T070000
END:DAYLIGHT
BEGIN:STANDARD
TZOFFSETFROM:-0400
TZOFFSETTO:-0500
TZNAME:EST
DTSTART:20261101T060000
END:STANDARD
BEGIN:DAYLIGHT
TZOFFSETFROM:-0500
TZOFFSETTO:-0400
TZNAME:EDT
DTSTART:20270314T070000
END:DAYLIGHT
BEGIN:STANDARD
TZOFFSETFROM:-0400
TZOFFSETTO:-0500
TZNAME:EST
DTSTART:20271107T060000
END:STANDARD
BEGIN:DAYLIGHT
TZOFFSETFROM:-0500
TZOFFSETTO:-0400
TZNAME:EDT
DTSTART:20280312T070000
END:DAYLIGHT
BEGIN:STANDARD
TZOFFSETFROM:-0400
TZOFFSETTO:-0500
TZNAME:EST
DTSTART:20281105T060000
END:STANDARD
BEGIN:DAYLIGHT
TZOFFSETFROM:-0500
TZOFFSETTO:-0400
TZNAME:EDT
DTSTART:20290311T070000
END:DAYLIGHT
BEGIN:STANDARD
TZOFFSETFROM:-0400
TZOFFSETTO:-0500
TZNAME:EST
DTSTART:20291104T060000
END:STANDARD
END:VTIMEZONE
BEGIN:VEVENT
DTSTART;TZID=America/New_York:20270618T210000
DTEND;TZID=America/New_York:20270619T020000
DTSTAMP:20260422T145143
CREATED:20251202T021229Z
LAST-MODIFIED:20260102T185523Z
UID:10001194-1813352400-1813370400@sullivancatskills.com
SUMMARY:Karaoke at The Dale Pizza & Beer
DESCRIPTION:Recurring weekly on Friday. Starting: 9:00 PM at the Dale Pizza
URL:https://sullivancatskills.com/event/karaoke-night-party-the-dale-pizza-beer/2027-06-18/
LOCATION:The Dale PIzza\, 4 Old Post Rd\, Mt Dale\, NY\, United States
CATEGORIES:Arts | Culture,Food | Wine | Restaurant
ATTACH;FMTTYPE=image/webp:https://sullivancatskills.com/wp-content/uploads/2025/12/karaoke-Friday-Dale.webp
END:VEVENT
BEGIN:VEVENT
DTSTART;TZID=America/New_York:20270625T210000
DTEND;TZID=America/New_York:20270626T020000
DTSTAMP:20260422T145143
CREATED:20251202T021229Z
LAST-MODIFIED:20260102T185523Z
UID:10001195-1813957200-1813975200@sullivancatskills.com
SUMMARY:Karaoke at The Dale Pizza & Beer
DESCRIPTION:Recurring weekly on Friday. Starting: 9:00 PM at the Dale Pizza
URL:https://sullivancatskills.com/event/karaoke-night-party-the-dale-pizza-beer/2027-06-25/
LOCATION:The Dale PIzza\, 4 Old Post Rd\, Mt Dale\, NY\, United States
CATEGORIES:Arts | Culture,Food | Wine | Restaurant
ATTACH;FMTTYPE=image/webp:https://sullivancatskills.com/wp-content/uploads/2025/12/karaoke-Friday-Dale.webp
END:VEVENT
BEGIN:VEVENT
DTSTART;TZID=America/New_York:20270702T210000
DTEND;TZID=America/New_York:20270703T020000
DTSTAMP:20260422T145143
CREATED:20251202T021229Z
LAST-MODIFIED:20260102T185523Z
UID:10001196-1814562000-1814580000@sullivancatskills.com
SUMMARY:Karaoke at The Dale Pizza & Beer
DESCRIPTION:Recurring weekly on Friday. Starting: 9:00 PM at the Dale Pizza
URL:https://sullivancatskills.com/event/karaoke-night-party-the-dale-pizza-beer/2027-07-02/
LOCATION:The Dale PIzza\, 4 Old Post Rd\, Mt Dale\, NY\, United States
CATEGORIES:Arts | Culture,Food | Wine | Restaurant
ATTACH;FMTTYPE=image/webp:https://sullivancatskills.com/wp-content/uploads/2025/12/karaoke-Friday-Dale.webp
END:VEVENT
BEGIN:VEVENT
DTSTART;TZID=America/New_York:20270709T210000
DTEND;TZID=America/New_York:20270710T020000
DTSTAMP:20260422T145143
CREATED:20251202T021229Z
LAST-MODIFIED:20260102T185523Z
UID:10001197-1815166800-1815184800@sullivancatskills.com
SUMMARY:Karaoke at The Dale Pizza & Beer
DESCRIPTION:Recurring weekly on Friday. Starting: 9:00 PM at the Dale Pizza
URL:https://sullivancatskills.com/event/karaoke-night-party-the-dale-pizza-beer/2027-07-09/
LOCATION:The Dale PIzza\, 4 Old Post Rd\, Mt Dale\, NY\, United States
CATEGORIES:Arts | Culture,Food | Wine | Restaurant
ATTACH;FMTTYPE=image/webp:https://sullivancatskills.com/wp-content/uploads/2025/12/karaoke-Friday-Dale.webp
END:VEVENT
BEGIN:VEVENT
DTSTART;TZID=America/New_York:20270716T210000
DTEND;TZID=America/New_York:20270717T020000
DTSTAMP:20260422T145143
CREATED:20251202T021229Z
LAST-MODIFIED:20260102T185523Z
UID:10001198-1815771600-1815789600@sullivancatskills.com
SUMMARY:Karaoke at The Dale Pizza & Beer
DESCRIPTION:Recurring weekly on Friday. Starting: 9:00 PM at the Dale Pizza
URL:https://sullivancatskills.com/event/karaoke-night-party-the-dale-pizza-beer/2027-07-16/
LOCATION:The Dale PIzza\, 4 Old Post Rd\, Mt Dale\, NY\, United States
CATEGORIES:Arts | Culture,Food | Wine | Restaurant
ATTACH;FMTTYPE=image/webp:https://sullivancatskills.com/wp-content/uploads/2025/12/karaoke-Friday-Dale.webp
END:VEVENT
BEGIN:VEVENT
DTSTART;TZID=America/New_York:20270723T210000
DTEND;TZID=America/New_York:20270724T020000
DTSTAMP:20260422T145143
CREATED:20251202T021229Z
LAST-MODIFIED:20260102T185523Z
UID:10001199-1816376400-1816394400@sullivancatskills.com
SUMMARY:Karaoke at The Dale Pizza & Beer
DESCRIPTION:Recurring weekly on Friday. Starting: 9:00 PM at the Dale Pizza
URL:https://sullivancatskills.com/event/karaoke-night-party-the-dale-pizza-beer/2027-07-23/
LOCATION:The Dale PIzza\, 4 Old Post Rd\, Mt Dale\, NY\, United States
CATEGORIES:Arts | Culture,Food | Wine | Restaurant
ATTACH;FMTTYPE=image/webp:https://sullivancatskills.com/wp-content/uploads/2025/12/karaoke-Friday-Dale.webp
END:VEVENT
BEGIN:VEVENT
DTSTART;TZID=America/New_York:20270730T210000
DTEND;TZID=America/New_York:20270731T020000
DTSTAMP:20260422T145143
CREATED:20251202T021229Z
LAST-MODIFIED:20260102T185523Z
UID:10001200-1816981200-1816999200@sullivancatskills.com
SUMMARY:Karaoke at The Dale Pizza & Beer
DESCRIPTION:Recurring weekly on Friday. Starting: 9:00 PM at the Dale Pizza
URL:https://sullivancatskills.com/event/karaoke-night-party-the-dale-pizza-beer/2027-07-30/
LOCATION:The Dale PIzza\, 4 Old Post Rd\, Mt Dale\, NY\, United States
CATEGORIES:Arts | Culture,Food | Wine | Restaurant
ATTACH;FMTTYPE=image/webp:https://sullivancatskills.com/wp-content/uploads/2025/12/karaoke-Friday-Dale.webp
END:VEVENT
BEGIN:VEVENT
DTSTART;TZID=America/New_York:20270806T210000
DTEND;TZID=America/New_York:20270807T020000
DTSTAMP:20260422T145143
CREATED:20251202T021229Z
LAST-MODIFIED:20260102T185523Z
UID:10001201-1817586000-1817604000@sullivancatskills.com
SUMMARY:Karaoke at The Dale Pizza & Beer
DESCRIPTION:Recurring weekly on Friday. Starting: 9:00 PM at the Dale Pizza
URL:https://sullivancatskills.com/event/karaoke-night-party-the-dale-pizza-beer/2027-08-06/
LOCATION:The Dale PIzza\, 4 Old Post Rd\, Mt Dale\, NY\, United States
CATEGORIES:Arts | Culture,Food | Wine | Restaurant
ATTACH;FMTTYPE=image/webp:https://sullivancatskills.com/wp-content/uploads/2025/12/karaoke-Friday-Dale.webp
END:VEVENT
BEGIN:VEVENT
DTSTART;TZID=America/New_York:20270813T210000
DTEND;TZID=America/New_York:20270814T020000
DTSTAMP:20260422T145143
CREATED:20251202T021229Z
LAST-MODIFIED:20260102T185523Z
UID:10001202-1818190800-1818208800@sullivancatskills.com
SUMMARY:Karaoke at The Dale Pizza & Beer
DESCRIPTION:Recurring weekly on Friday. Starting: 9:00 PM at the Dale Pizza
URL:https://sullivancatskills.com/event/karaoke-night-party-the-dale-pizza-beer/2027-08-13/
LOCATION:The Dale PIzza\, 4 Old Post Rd\, Mt Dale\, NY\, United States
CATEGORIES:Arts | Culture,Food | Wine | Restaurant
ATTACH;FMTTYPE=image/webp:https://sullivancatskills.com/wp-content/uploads/2025/12/karaoke-Friday-Dale.webp
END:VEVENT
BEGIN:VEVENT
DTSTART;TZID=America/New_York:20270820T210000
DTEND;TZID=America/New_York:20270821T020000
DTSTAMP:20260422T145143
CREATED:20251202T021229Z
LAST-MODIFIED:20260102T185523Z
UID:10001203-1818795600-1818813600@sullivancatskills.com
SUMMARY:Karaoke at The Dale Pizza & Beer
DESCRIPTION:Recurring weekly on Friday. Starting: 9:00 PM at the Dale Pizza
URL:https://sullivancatskills.com/event/karaoke-night-party-the-dale-pizza-beer/2027-08-20/
LOCATION:The Dale PIzza\, 4 Old Post Rd\, Mt Dale\, NY\, United States
CATEGORIES:Arts | Culture,Food | Wine | Restaurant
ATTACH;FMTTYPE=image/webp:https://sullivancatskills.com/wp-content/uploads/2025/12/karaoke-Friday-Dale.webp
END:VEVENT
BEGIN:VEVENT
DTSTART;TZID=America/New_York:20270827T210000
DTEND;TZID=America/New_York:20270828T020000
DTSTAMP:20260422T145143
CREATED:20251202T021229Z
LAST-MODIFIED:20260102T185523Z
UID:10001204-1819400400-1819418400@sullivancatskills.com
SUMMARY:Karaoke at The Dale Pizza & Beer
DESCRIPTION:Recurring weekly on Friday. Starting: 9:00 PM at the Dale Pizza
URL:https://sullivancatskills.com/event/karaoke-night-party-the-dale-pizza-beer/2027-08-27/
LOCATION:The Dale PIzza\, 4 Old Post Rd\, Mt Dale\, NY\, United States
CATEGORIES:Arts | Culture,Food | Wine | Restaurant
ATTACH;FMTTYPE=image/webp:https://sullivancatskills.com/wp-content/uploads/2025/12/karaoke-Friday-Dale.webp
END:VEVENT
BEGIN:VEVENT
DTSTART;TZID=America/New_York:20270903T210000
DTEND;TZID=America/New_York:20270904T020000
DTSTAMP:20260422T145143
CREATED:20251202T021229Z
LAST-MODIFIED:20260102T185523Z
UID:10001205-1820005200-1820023200@sullivancatskills.com
SUMMARY:Karaoke at The Dale Pizza & Beer
DESCRIPTION:Recurring weekly on Friday. Starting: 9:00 PM at the Dale Pizza
URL:https://sullivancatskills.com/event/karaoke-night-party-the-dale-pizza-beer/2027-09-03/
LOCATION:The Dale PIzza\, 4 Old Post Rd\, Mt Dale\, NY\, United States
CATEGORIES:Arts | Culture,Food | Wine | Restaurant
ATTACH;FMTTYPE=image/webp:https://sullivancatskills.com/wp-content/uploads/2025/12/karaoke-Friday-Dale.webp
END:VEVENT
BEGIN:VEVENT
DTSTART;TZID=America/New_York:20270910T210000
DTEND;TZID=America/New_York:20270911T020000
DTSTAMP:20260422T145143
CREATED:20251202T021229Z
LAST-MODIFIED:20260102T185523Z
UID:10001206-1820610000-1820628000@sullivancatskills.com
SUMMARY:Karaoke at The Dale Pizza & Beer
DESCRIPTION:Recurring weekly on Friday. Starting: 9:00 PM at the Dale Pizza
URL:https://sullivancatskills.com/event/karaoke-night-party-the-dale-pizza-beer/2027-09-10/
LOCATION:The Dale PIzza\, 4 Old Post Rd\, Mt Dale\, NY\, United States
CATEGORIES:Arts | Culture,Food | Wine | Restaurant
ATTACH;FMTTYPE=image/webp:https://sullivancatskills.com/wp-content/uploads/2025/12/karaoke-Friday-Dale.webp
END:VEVENT
BEGIN:VEVENT
DTSTART;TZID=America/New_York:20270917T210000
DTEND;TZID=America/New_York:20270918T020000
DTSTAMP:20260422T145143
CREATED:20251202T021229Z
LAST-MODIFIED:20260102T185523Z
UID:10001207-1821214800-1821232800@sullivancatskills.com
SUMMARY:Karaoke at The Dale Pizza & Beer
DESCRIPTION:Recurring weekly on Friday. Starting: 9:00 PM at the Dale Pizza
URL:https://sullivancatskills.com/event/karaoke-night-party-the-dale-pizza-beer/2027-09-17/
LOCATION:The Dale PIzza\, 4 Old Post Rd\, Mt Dale\, NY\, United States
CATEGORIES:Arts | Culture,Food | Wine | Restaurant
ATTACH;FMTTYPE=image/webp:https://sullivancatskills.com/wp-content/uploads/2025/12/karaoke-Friday-Dale.webp
END:VEVENT
BEGIN:VEVENT
DTSTART;TZID=America/New_York:20270924T210000
DTEND;TZID=America/New_York:20270925T020000
DTSTAMP:20260422T145143
CREATED:20251202T021229Z
LAST-MODIFIED:20260102T185523Z
UID:10001208-1821819600-1821837600@sullivancatskills.com
SUMMARY:Karaoke at The Dale Pizza & Beer
DESCRIPTION:Recurring weekly on Friday. Starting: 9:00 PM at the Dale Pizza
URL:https://sullivancatskills.com/event/karaoke-night-party-the-dale-pizza-beer/2027-09-24/
LOCATION:The Dale PIzza\, 4 Old Post Rd\, Mt Dale\, NY\, United States
CATEGORIES:Arts | Culture,Food | Wine | Restaurant
ATTACH;FMTTYPE=image/webp:https://sullivancatskills.com/wp-content/uploads/2025/12/karaoke-Friday-Dale.webp
END:VEVENT
BEGIN:VEVENT
DTSTART;TZID=America/New_York:20271001T210000
DTEND;TZID=America/New_York:20271002T020000
DTSTAMP:20260422T145143
CREATED:20251202T021229Z
LAST-MODIFIED:20260102T185523Z
UID:10001209-1822424400-1822442400@sullivancatskills.com
SUMMARY:Karaoke at The Dale Pizza & Beer
DESCRIPTION:Recurring weekly on Friday. Starting: 9:00 PM at the Dale Pizza
URL:https://sullivancatskills.com/event/karaoke-night-party-the-dale-pizza-beer/2027-10-01/
LOCATION:The Dale PIzza\, 4 Old Post Rd\, Mt Dale\, NY\, United States
CATEGORIES:Arts | Culture,Food | Wine | Restaurant
ATTACH;FMTTYPE=image/webp:https://sullivancatskills.com/wp-content/uploads/2025/12/karaoke-Friday-Dale.webp
END:VEVENT
BEGIN:VEVENT
DTSTART;TZID=America/New_York:20271008T210000
DTEND;TZID=America/New_York:20271009T020000
DTSTAMP:20260422T145143
CREATED:20251202T021229Z
LAST-MODIFIED:20260102T185523Z
UID:10001210-1823029200-1823047200@sullivancatskills.com
SUMMARY:Karaoke at The Dale Pizza & Beer
DESCRIPTION:Recurring weekly on Friday. Starting: 9:00 PM at the Dale Pizza
URL:https://sullivancatskills.com/event/karaoke-night-party-the-dale-pizza-beer/2027-10-08/
LOCATION:The Dale PIzza\, 4 Old Post Rd\, Mt Dale\, NY\, United States
CATEGORIES:Arts | Culture,Food | Wine | Restaurant
ATTACH;FMTTYPE=image/webp:https://sullivancatskills.com/wp-content/uploads/2025/12/karaoke-Friday-Dale.webp
END:VEVENT
BEGIN:VEVENT
DTSTART;TZID=America/New_York:20271015T210000
DTEND;TZID=America/New_York:20271016T020000
DTSTAMP:20260422T145143
CREATED:20251202T021229Z
LAST-MODIFIED:20260102T185523Z
UID:10001211-1823634000-1823652000@sullivancatskills.com
SUMMARY:Karaoke at The Dale Pizza & Beer
DESCRIPTION:Recurring weekly on Friday. Starting: 9:00 PM at the Dale Pizza
URL:https://sullivancatskills.com/event/karaoke-night-party-the-dale-pizza-beer/2027-10-15/
LOCATION:The Dale PIzza\, 4 Old Post Rd\, Mt Dale\, NY\, United States
CATEGORIES:Arts | Culture,Food | Wine | Restaurant
ATTACH;FMTTYPE=image/webp:https://sullivancatskills.com/wp-content/uploads/2025/12/karaoke-Friday-Dale.webp
END:VEVENT
BEGIN:VEVENT
DTSTART;TZID=America/New_York:20271022T210000
DTEND;TZID=America/New_York:20271023T020000
DTSTAMP:20260422T145143
CREATED:20251202T021229Z
LAST-MODIFIED:20260102T185523Z
UID:10001212-1824238800-1824256800@sullivancatskills.com
SUMMARY:Karaoke at The Dale Pizza & Beer
DESCRIPTION:Recurring weekly on Friday. Starting: 9:00 PM at the Dale Pizza
URL:https://sullivancatskills.com/event/karaoke-night-party-the-dale-pizza-beer/2027-10-22/
LOCATION:The Dale PIzza\, 4 Old Post Rd\, Mt Dale\, NY\, United States
CATEGORIES:Arts | Culture,Food | Wine | Restaurant
ATTACH;FMTTYPE=image/webp:https://sullivancatskills.com/wp-content/uploads/2025/12/karaoke-Friday-Dale.webp
END:VEVENT
BEGIN:VEVENT
DTSTART;TZID=America/New_York:20271029T210000
DTEND;TZID=America/New_York:20271030T020000
DTSTAMP:20260422T145143
CREATED:20251202T021229Z
LAST-MODIFIED:20260102T185523Z
UID:10001213-1824843600-1824861600@sullivancatskills.com
SUMMARY:Karaoke at The Dale Pizza & Beer
DESCRIPTION:Recurring weekly on Friday. Starting: 9:00 PM at the Dale Pizza
URL:https://sullivancatskills.com/event/karaoke-night-party-the-dale-pizza-beer/2027-10-29/
LOCATION:The Dale PIzza\, 4 Old Post Rd\, Mt Dale\, NY\, United States
CATEGORIES:Arts | Culture,Food | Wine | Restaurant
ATTACH;FMTTYPE=image/webp:https://sullivancatskills.com/wp-content/uploads/2025/12/karaoke-Friday-Dale.webp
END:VEVENT
BEGIN:VEVENT
DTSTART;TZID=America/New_York:20271105T210000
DTEND;TZID=America/New_York:20271106T020000
DTSTAMP:20260422T145143
CREATED:20251202T021229Z
LAST-MODIFIED:20260102T185523Z
UID:10001214-1825448400-1825466400@sullivancatskills.com
SUMMARY:Karaoke at The Dale Pizza & Beer
DESCRIPTION:Recurring weekly on Friday. Starting: 9:00 PM at the Dale Pizza
URL:https://sullivancatskills.com/event/karaoke-night-party-the-dale-pizza-beer/2027-11-05/
LOCATION:The Dale PIzza\, 4 Old Post Rd\, Mt Dale\, NY\, United States
CATEGORIES:Arts | Culture,Food | Wine | Restaurant
ATTACH;FMTTYPE=image/webp:https://sullivancatskills.com/wp-content/uploads/2025/12/karaoke-Friday-Dale.webp
END:VEVENT
BEGIN:VEVENT
DTSTART;TZID=America/New_York:20271112T210000
DTEND;TZID=America/New_York:20271113T020000
DTSTAMP:20260422T145143
CREATED:20251202T021229Z
LAST-MODIFIED:20260102T185523Z
UID:10001215-1826053200-1826071200@sullivancatskills.com
SUMMARY:Karaoke at The Dale Pizza & Beer
DESCRIPTION:Recurring weekly on Friday. Starting: 9:00 PM at the Dale Pizza
URL:https://sullivancatskills.com/event/karaoke-night-party-the-dale-pizza-beer/2027-11-12/
LOCATION:The Dale PIzza\, 4 Old Post Rd\, Mt Dale\, NY\, United States
CATEGORIES:Arts | Culture,Food | Wine | Restaurant
ATTACH;FMTTYPE=image/webp:https://sullivancatskills.com/wp-content/uploads/2025/12/karaoke-Friday-Dale.webp
END:VEVENT
BEGIN:VEVENT
DTSTART;TZID=America/New_York:20271119T210000
DTEND;TZID=America/New_York:20271120T020000
DTSTAMP:20260422T145143
CREATED:20251202T021229Z
LAST-MODIFIED:20260102T185523Z
UID:10001216-1826658000-1826676000@sullivancatskills.com
SUMMARY:Karaoke at The Dale Pizza & Beer
DESCRIPTION:Recurring weekly on Friday. Starting: 9:00 PM at the Dale Pizza
URL:https://sullivancatskills.com/event/karaoke-night-party-the-dale-pizza-beer/2027-11-19/
LOCATION:The Dale PIzza\, 4 Old Post Rd\, Mt Dale\, NY\, United States
CATEGORIES:Arts | Culture,Food | Wine | Restaurant
ATTACH;FMTTYPE=image/webp:https://sullivancatskills.com/wp-content/uploads/2025/12/karaoke-Friday-Dale.webp
END:VEVENT
BEGIN:VEVENT
DTSTART;TZID=America/New_York:20271126T210000
DTEND;TZID=America/New_York:20271127T020000
DTSTAMP:20260422T145143
CREATED:20251202T021229Z
LAST-MODIFIED:20260102T185523Z
UID:10001217-1827262800-1827280800@sullivancatskills.com
SUMMARY:Karaoke at The Dale Pizza & Beer
DESCRIPTION:Recurring weekly on Friday. Starting: 9:00 PM at the Dale Pizza
URL:https://sullivancatskills.com/event/karaoke-night-party-the-dale-pizza-beer/2027-11-26/
LOCATION:The Dale PIzza\, 4 Old Post Rd\, Mt Dale\, NY\, United States
CATEGORIES:Arts | Culture,Food | Wine | Restaurant
ATTACH;FMTTYPE=image/webp:https://sullivancatskills.com/wp-content/uploads/2025/12/karaoke-Friday-Dale.webp
END:VEVENT
BEGIN:VEVENT
DTSTART;TZID=America/New_York:20271203T210000
DTEND;TZID=America/New_York:20271204T020000
DTSTAMP:20260422T145143
CREATED:20251202T021229Z
LAST-MODIFIED:20260102T185523Z
UID:10001218-1827867600-1827885600@sullivancatskills.com
SUMMARY:Karaoke at The Dale Pizza & Beer
DESCRIPTION:Recurring weekly on Friday. Starting: 9:00 PM at the Dale Pizza
URL:https://sullivancatskills.com/event/karaoke-night-party-the-dale-pizza-beer/2027-12-03/
LOCATION:The Dale PIzza\, 4 Old Post Rd\, Mt Dale\, NY\, United States
CATEGORIES:Arts | Culture,Food | Wine | Restaurant
ATTACH;FMTTYPE=image/webp:https://sullivancatskills.com/wp-content/uploads/2025/12/karaoke-Friday-Dale.webp
END:VEVENT
BEGIN:VEVENT
DTSTART;TZID=America/New_York:20271210T210000
DTEND;TZID=America/New_York:20271211T020000
DTSTAMP:20260422T145143
CREATED:20251202T021229Z
LAST-MODIFIED:20260102T185523Z
UID:10001219-1828472400-1828490400@sullivancatskills.com
SUMMARY:Karaoke at The Dale Pizza & Beer
DESCRIPTION:Recurring weekly on Friday. Starting: 9:00 PM at the Dale Pizza
URL:https://sullivancatskills.com/event/karaoke-night-party-the-dale-pizza-beer/2027-12-10/
LOCATION:The Dale PIzza\, 4 Old Post Rd\, Mt Dale\, NY\, United States
CATEGORIES:Arts | Culture,Food | Wine | Restaurant
ATTACH;FMTTYPE=image/webp:https://sullivancatskills.com/wp-content/uploads/2025/12/karaoke-Friday-Dale.webp
END:VEVENT
BEGIN:VEVENT
DTSTART;TZID=America/New_York:20271217T210000
DTEND;TZID=America/New_York:20271218T020000
DTSTAMP:20260422T145143
CREATED:20251202T021229Z
LAST-MODIFIED:20260102T185523Z
UID:10001220-1829077200-1829095200@sullivancatskills.com
SUMMARY:Karaoke at The Dale Pizza & Beer
DESCRIPTION:Recurring weekly on Friday. Starting: 9:00 PM at the Dale Pizza
URL:https://sullivancatskills.com/event/karaoke-night-party-the-dale-pizza-beer/2027-12-17/
LOCATION:The Dale PIzza\, 4 Old Post Rd\, Mt Dale\, NY\, United States
CATEGORIES:Arts | Culture,Food | Wine | Restaurant
ATTACH;FMTTYPE=image/webp:https://sullivancatskills.com/wp-content/uploads/2025/12/karaoke-Friday-Dale.webp
END:VEVENT
BEGIN:VEVENT
DTSTART;TZID=America/New_York:20271224T210000
DTEND;TZID=America/New_York:20271225T020000
DTSTAMP:20260422T145143
CREATED:20251202T021229Z
LAST-MODIFIED:20260102T185523Z
UID:10001221-1829682000-1829700000@sullivancatskills.com
SUMMARY:Karaoke at The Dale Pizza & Beer
DESCRIPTION:Recurring weekly on Friday. Starting: 9:00 PM at the Dale Pizza
URL:https://sullivancatskills.com/event/karaoke-night-party-the-dale-pizza-beer/2027-12-24/
LOCATION:The Dale PIzza\, 4 Old Post Rd\, Mt Dale\, NY\, United States
CATEGORIES:Arts | Culture,Food | Wine | Restaurant
ATTACH;FMTTYPE=image/webp:https://sullivancatskills.com/wp-content/uploads/2025/12/karaoke-Friday-Dale.webp
END:VEVENT
BEGIN:VEVENT
DTSTART;TZID=America/New_York:20271231T210000
DTEND;TZID=America/New_York:20280101T020000
DTSTAMP:20260422T145143
CREATED:20251202T021229Z
LAST-MODIFIED:20260102T185523Z
UID:10001222-1830286800-1830304800@sullivancatskills.com
SUMMARY:Karaoke at The Dale Pizza & Beer
DESCRIPTION:Recurring weekly on Friday. Starting: 9:00 PM at the Dale Pizza
URL:https://sullivancatskills.com/event/karaoke-night-party-the-dale-pizza-beer/2027-12-31/
LOCATION:The Dale PIzza\, 4 Old Post Rd\, Mt Dale\, NY\, United States
CATEGORIES:Arts | Culture,Food | Wine | Restaurant
ATTACH;FMTTYPE=image/webp:https://sullivancatskills.com/wp-content/uploads/2025/12/karaoke-Friday-Dale.webp
END:VEVENT
BEGIN:VEVENT
DTSTART;TZID=America/New_York:20280107T210000
DTEND;TZID=America/New_York:20280108T020000
DTSTAMP:20260422T145143
CREATED:20251202T021229Z
LAST-MODIFIED:20260102T185523Z
UID:10001223-1830891600-1830909600@sullivancatskills.com
SUMMARY:Karaoke at The Dale Pizza & Beer
DESCRIPTION:Recurring weekly on Friday. Starting: 9:00 PM at the Dale Pizza
URL:https://sullivancatskills.com/event/karaoke-night-party-the-dale-pizza-beer/2028-01-07/
LOCATION:The Dale PIzza\, 4 Old Post Rd\, Mt Dale\, NY\, United States
CATEGORIES:Arts | Culture,Food | Wine | Restaurant
ATTACH;FMTTYPE=image/webp:https://sullivancatskills.com/wp-content/uploads/2025/12/karaoke-Friday-Dale.webp
END:VEVENT
END:VCALENDAR