BEGIN:VCALENDAR
VERSION:2.0
PRODID:-//Sullivan Catskills - ECPv6.15.20//NONSGML v1.0//EN
CALSCALE:GREGORIAN
METHOD:PUBLISH
X-WR-CALNAME:Sullivan Catskills
X-ORIGINAL-URL:https://sullivancatskills.com
X-WR-CALDESC:Events for Sullivan Catskills
REFRESH-INTERVAL;VALUE=DURATION:PT1H
X-Robots-Tag:noindex
X-PUBLISHED-TTL:PT1H
BEGIN:VTIMEZONE
TZID:America/New_York
BEGIN:DAYLIGHT
TZOFFSETFROM:-0500
TZOFFSETTO:-0400
TZNAME:EDT
DTSTART:20250309T070000
END:DAYLIGHT
BEGIN:STANDARD
TZOFFSETFROM:-0400
TZOFFSETTO:-0500
TZNAME:EST
DTSTART:20251102T060000
END:STANDARD
BEGIN:DAYLIGHT
TZOFFSETFROM:-0500
TZOFFSETTO:-0400
TZNAME:EDT
DTSTART:20260308T070000
END:DAYLIGHT
BEGIN:STANDARD
TZOFFSETFROM:-0400
TZOFFSETTO:-0500
TZNAME:EST
DTSTART:20261101T060000
END:STANDARD
BEGIN:DAYLIGHT
TZOFFSETFROM:-0500
TZOFFSETTO:-0400
TZNAME:EDT
DTSTART:20270314T070000
END:DAYLIGHT
BEGIN:STANDARD
TZOFFSETFROM:-0400
TZOFFSETTO:-0500
TZNAME:EST
DTSTART:20271107T060000
END:STANDARD
END:VTIMEZONE
BEGIN:VEVENT
DTSTART;TZID=America/New_York:20260410T173000
DTEND;TZID=America/New_York:20260426T183000
DTSTAMP:20260420T074632
CREATED:20260325T160353Z
LAST-MODIFIED:20260325T160353Z
UID:10008469-1775842200-1777228200@sullivancatskills.com
SUMMARY:Shorts & Sweets
DESCRIPTION:Celebrate April Fools with an adults-only evening of humor and storytelling on Friday\, April 10 at 5:30 pm at the Roscoe Branch Library. Featuring Laure Valentine and Carol Montana\, this lively program pairs witty\, slightly mischievous tales with sweet treats and beverages.
URL:https://sullivancatskills.com/event/shorts-sweets/
LOCATION:Livingston Manor-Roscoe Library\, 92 Main Street\, Livingston Manor\, NY\, 12758\, United States
CATEGORIES:Comedy,Community
ATTACH;FMTTYPE=image/jpeg:https://sullivancatskills.com/wp-content/uploads/2026/03/Shorts_Sweets_410.jpeg
END:VEVENT
BEGIN:VEVENT
DTSTART;TZID=America/New_York:20260417T210000
DTEND;TZID=America/New_York:20260418T020000
DTSTAMP:20260420T074632
CREATED:20251202T021229Z
LAST-MODIFIED:20260102T185523Z
UID:10001133-1776459600-1776477600@sullivancatskills.com
SUMMARY:Karaoke at The Dale Pizza & Beer
DESCRIPTION:Recurring weekly on Friday. Starting: 9:00 PM at the Dale Pizza
URL:https://sullivancatskills.com/event/karaoke-night-party-the-dale-pizza-beer/2026-04-17/
LOCATION:The Dale PIzza\, 4 Old Post Rd\, Mt Dale\, NY\, United States
CATEGORIES:Arts | Culture,Food | Wine | Restaurant
ATTACH;FMTTYPE=image/webp:https://sullivancatskills.com/wp-content/uploads/2025/12/karaoke-Friday-Dale.webp
END:VEVENT
BEGIN:VEVENT
DTSTART;TZID=America/New_York:20260417T220000
DTEND;TZID=America/New_York:20260418T020000
DTSTAMP:20260420T074632
CREATED:20260102T185924Z
LAST-MODIFIED:20260115T200833Z
UID:10004039-1776463200-1776477600@sullivancatskills.com
SUMMARY:Karaoke at Van Smokey
DESCRIPTION:Every Friday starting at 9pm\, bar open late
URL:https://sullivancatskills.com/event/karaoke-at-van-smokey/2026-04-17/
LOCATION:Van Smokey\, 87 Debruce Rd\, Livingston Manor\, 12758\, United States
CATEGORIES:Live Music
ATTACH;FMTTYPE=image/jpeg:https://sullivancatskills.com/wp-content/uploads/2026/01/van-smokey-karaoke.jpg
END:VEVENT
BEGIN:VEVENT
DTSTART;VALUE=DATE:20260418
DTEND;VALUE=DATE:20260511
DTSTAMP:20260420T074632
CREATED:20260325T155130Z
LAST-MODIFIED:20260325T155130Z
UID:10008467-1776470400-1778457599@sullivancatskills.com
SUMMARY:Steven Randazzo
DESCRIPTION:Explore the striking photographic work of Steven Randazzo at this evocative exhibition presented by Hall Space by Nonneta. Running April 18 through May 10\, the show captures atmospheric landscapes and quiet\, reflective scenes. Join the opening reception on April 18 from 4–7 pm at Hall Space in Eldred.
URL:https://sullivancatskills.com/event/steven-randazzo/
LOCATION:Hall Space By Nonneta\, 550 Route 55\, Eldred\, NY\, 12732\, United States
CATEGORIES:Museums | Art Galleries
ATTACH;FMTTYPE=image/jpeg:https://sullivancatskills.com/wp-content/uploads/2026/03/Steven_Randazzo_418-510.jpeg
END:VEVENT
BEGIN:VEVENT
DTSTART;TZID=America/New_York:20260418T080000
DTEND;TZID=America/New_York:20260418T120000
DTSTAMP:20260420T074632
CREATED:20260413T174119Z
LAST-MODIFIED:20260413T174119Z
UID:10009732-1776499200-1776513600@sullivancatskills.com
SUMMARY:Pancake Breakfast
DESCRIPTION:The Sullivan West Class of 2027 will be hosting a Pancake Breakfast Fundraiser on April 18th from 8:00 AM to 12:00 PM at the Callicoon Youth Center. This event is open to the entire community and welcomes guests of all ages.\nPre-sale tickets are available\, and tickets will also be sold at the door. Admissions are a suggested donation of $15 for adults\, $12 for children ages 6–13\, and free for children under 5. All proceeds from the event will go toward supporting the Sullivan West Class of 2027.\nThe class is also proud to partner with local businesses\, including fresh maple syrup from Diehl’s Farm\, eggs from Brey’s Egg Farm\, and dairy products from Tonjes Farm\, and supplies from Zakarin and Sons helping make this a true community event.\nCome out to enjoy a great breakfast while supporting the Class of 2027!
URL:https://sullivancatskills.com/event/pancake-breakfast-4/
LOCATION:Delaware Youth Center\, 8 Creamery Road\, Callicoon\, NY\, 12723\, United States
CATEGORIES:Fundraiser
ATTACH;FMTTYPE=image/jpeg:https://sullivancatskills.com/wp-content/uploads/2026/04/IMG_4677.jpeg
END:VEVENT
BEGIN:VEVENT
DTSTART;TZID=America/New_York:20260418T090000
DTEND;TZID=America/New_York:20260418T100000
DTSTAMP:20260420T074632
CREATED:20260406T165208Z
LAST-MODIFIED:20260406T165208Z
UID:10009367-1776502800-1776506400@sullivancatskills.com
SUMMARY:Zumba with Nicole & Karen – Saturday Pop Up April Series
DESCRIPTION:You asked for it… and here it is  Saturday Zumba for a LIMITED TIME April Pop-Up Series!\nStart your weekend feeling energized\, confident\, and AMAZING \n⸻\n When:Saturdays in April 9:00 AM\n Where:5077 SR 52Jeffersonville\, NY 12748\nCost:$10 per class\n What to Expect: Fun\, high-energy Zumba A total judge-free zone All levels welcome The best way to kick off your weekend.Grab a friend or come solo\, just walk through the door and we’ll take care of the rest \nWho’s coming this Saturday?!
URL:https://sullivancatskills.com/event/zumba-with-nicole-karen-saturday-pop-up-april-series/2026-04-18/
LOCATION:Jeffersonville\, Main Street\, Jeffersonville\, NY\, 12748\, United States
CATEGORIES:Health | Wellness
ATTACH;FMTTYPE=image/jpeg:https://sullivancatskills.com/wp-content/uploads/2026/04/660159449_10162752532153244_4346396234816242284_n.jpg
END:VEVENT
BEGIN:VEVENT
DTSTART;TZID=America/New_York:20260418T100000
DTEND;TZID=America/New_York:20260418T120000
DTSTAMP:20260420T074632
CREATED:20251212T182744Z
LAST-MODIFIED:20251212T182744Z
UID:10001729-1776506400-1776513600@sullivancatskills.com
SUMMARY:Ratty Books Story Club
DESCRIPTION:Every Monday and Saturday morning\, we have Story Club! Setup begins at 10am\, and we begin reading at 10:15. Kids of all ages welcome. Always free\, always a great time with good people.
URL:https://sullivancatskills.com/event/ratty-books-story-club/2026-04-18/
LOCATION:NY
ATTACH;FMTTYPE=image/webp:https://sullivancatskills.com/wp-content/uploads/2025/12/Every-Saturday_Ratty-Books-Jeff_Story-Club.webp
END:VEVENT
BEGIN:VEVENT
DTSTART;TZID=America/New_York:20260418T100000
DTEND;TZID=America/New_York:20260418T150000
DTSTAMP:20260420T074632
CREATED:20260410T181552Z
LAST-MODIFIED:20260410T181552Z
UID:10009721-1776506400-1776524400@sullivancatskills.com
SUMMARY:Fly Tyers Rendezvours
DESCRIPTION:Discover the artistry and tradition of fly tying at this engaging day-long event at the Catskill Fly Fishing Center & Museum. Watch skilled artisans at work\, learn new techniques\, and connect with fellow fishing enthusiasts in a scenic setting.
URL:https://sullivancatskills.com/event/fly-tyers-rendezvours/
LOCATION:Catskill Fly Fishing Museum\, 1031 Old Route 17\, Livingston Manor\, IL\, 12758\, United States
CATEGORIES:Community,Museums | Art Galleries
ATTACH;FMTTYPE=image/jpeg:https://sullivancatskills.com/wp-content/uploads/2026/04/Fly_Tyers_Rendezvous_418-1.jpeg
END:VEVENT
BEGIN:VEVENT
DTSTART;TZID=America/New_York:20260418T100000
DTEND;TZID=America/New_York:20260419T020000
DTSTAMP:20260420T074632
CREATED:20260312T143923Z
LAST-MODIFIED:20260312T145141Z
UID:10008028-1776506400-1776564000@sullivancatskills.com
SUMMARY:Foundation Of Funk
DESCRIPTION:Good music. Good people. The kind of night you’ve been waiting for.\nCome dance\, vibe\, and start 2026 exactly how it should begin!
URL:https://sullivancatskills.com/event/foundation-of-funk-2/2026-04-18/
LOCATION:The Old Foundation\, 5371 NY-52\, Kenoza Lake\, NY\, 12750\, United States
CATEGORIES:Community,Food | Wine | Restaurant,Live Music
ATTACH;FMTTYPE=image/jpeg:https://sullivancatskills.com/wp-content/uploads/2026/01/Foundation_Of_Funk.jpg
END:VEVENT
BEGIN:VEVENT
DTSTART;TZID=America/New_York:20260418T103000
DTEND;TZID=America/New_York:20260418T113000
DTSTAMP:20260420T074632
CREATED:20260302T192337Z
LAST-MODIFIED:20260302T192337Z
UID:10006563-1776508200-1776511800@sullivancatskills.com
SUMMARY:Lego Club
DESCRIPTION:Join us every Saturday at Ratty Books in Jeffersonville for Lego Club where kids build and create. Open to all ages\, Duplo provided for our littest builders. Cash only.
URL:https://sullivancatskills.com/event/lego-club/2026-04-18/
LOCATION:NY
CATEGORIES:Classes
ATTACH;FMTTYPE=image/jpeg:https://sullivancatskills.com/wp-content/uploads/2026/02/Lego-Club-Flyer.jpg
END:VEVENT
BEGIN:VEVENT
DTSTART;TZID=America/New_York:20260418T103000
DTEND;TZID=America/New_York:20260418T113000
DTSTAMP:20260420T074632
CREATED:20260330T152109Z
LAST-MODIFIED:20260402T172015Z
UID:10008825-1776508200-1776511800@sullivancatskills.com
SUMMARY:Yoga at Catskill Art Space
DESCRIPTION:Saturday Yoga at CAS with Laurie Jordan\, MSW\, E-RYT 500. Laurie brings over 20 years of yoga teaching experience and a passion for making yoga accessible to all. Known for her playful\, laid-back style and smartly sequenced classes\, she creates welcoming spaces where students of all levels can thrive. Her signature “slow\, steady\, and strong” vinyasa flow is breath-centric and thoughtfully designed to counter the fast pace of life\, building strength and calm in equal measure.
URL:https://sullivancatskills.com/event/yoga-at-catskill-art-space/2026-04-18/
LOCATION:Livingston Manor\, Livingston Manor\, NY\, 12758\, United States
CATEGORIES:Health | Wellness
ATTACH;FMTTYPE=image/jpeg:https://sullivancatskills.com/wp-content/uploads/2026/03/CAS.jpeg
END:VEVENT
BEGIN:VEVENT
DTSTART;TZID=America/New_York:20260418T103000
DTEND;TZID=America/New_York:20260418T123000
DTSTAMP:20260420T074632
CREATED:20260408T163950Z
LAST-MODIFIED:20260408T163950Z
UID:10009712-1776508200-1776515400@sullivancatskills.com
SUMMARY:Playdough Time
DESCRIPTION:Perfect for little ones\, this playful session invites kids to squish\, mold\, and create using classic playdough. It’s a fun\, sensory-rich experience that encourages creativity\, imagination\, and hands-on exploration \nLivingston Manor Branch
URL:https://sullivancatskills.com/event/playdough-time/
LOCATION:Livingston Manor-Roscoe Library\, 92 Main Street\, Livingston Manor\, NY\, 12758\, United States
CATEGORIES:Community
ATTACH;FMTTYPE=image/jpeg:https://sullivancatskills.com/wp-content/uploads/2026/04/Playdough_Time_418.jpeg
END:VEVENT
BEGIN:VEVENT
DTSTART;TZID=America/New_York:20260418T110000
DTEND;TZID=America/New_York:20260418T120000
DTSTAMP:20260420T074632
CREATED:20260309T154047Z
LAST-MODIFIED:20260402T173337Z
UID:10007384-1776510000-1776513600@sullivancatskills.com
SUMMARY:Pilates Reformer Class
DESCRIPTION:Sign up required! Limited space. www.bodiesandplants.com/classschedule to join.\n\n*Brand new to the reformer? We recommend joining our Reformer Foundations class first or taking a few private lessons to be introduced to the apparatus before joining this class.\n\nYou can expect to practice classical beginner/intermediate reformer exercises with options to level exercises up or down. Expect plenty of exercises that focus on strengthening the core muscles\, postural muscles\, and the lower body. You’ll practice controlling your moving body on the moving carriage creating a beautiful partnership between you and the apparatus. You’ll work hard but you’ll also feel great! \nClass sizes are intentionally small so your teacher can suggest choices based on your needs.
URL:https://sullivancatskills.com/event/pilates-reformer-class/2026-04-18/
LOCATION:bodies and plants\, 502 white sulphur road\, Swan lake\, NY\, 12783\, United States
ATTACH;FMTTYPE=image/png:https://sullivancatskills.com/wp-content/uploads/2026/03/Screenshot-2026-04-02-at-1.27.26-PM.png
END:VEVENT
BEGIN:VEVENT
DTSTART;TZID=America/New_York:20260418T110000
DTEND;TZID=America/New_York:20260418T120000
DTSTAMP:20260420T074632
CREATED:20260323T163308Z
LAST-MODIFIED:20260323T163308Z
UID:10008451-1776510000-1776513600@sullivancatskills.com
SUMMARY:Making and Getting the Real Dirt
DESCRIPTION:Join Maria Grimaldi to develop an understanding of the importance of the soil we use for gardening and farming. She will also go over methods for making compost quickly and easily. Attendees are invited to bring a sample of their soil for pH testing and analysis. \nMaria Grimaldi is an educator in sustainable permaculture and a farm-to-market consultant. She specializes in organic and sustainable farming and currently owns and operates Panther Rock Farm located in Youngsville\, NY.
URL:https://sullivancatskills.com/event/making-and-getting-the-real-dirt/
LOCATION:Roscoe Library\, 85 Highland Ave\, Roscoe\, NY\, 12776\, United States
CATEGORIES:Informative
ATTACH;FMTTYPE=image/png:https://sullivancatskills.com/wp-content/uploads/2026/03/Making-and-Getting-the-Real-Dirt.png
END:VEVENT
BEGIN:VEVENT
DTSTART;TZID=America/New_York:20260418T110000
DTEND;TZID=America/New_York:20260418T150000
DTSTAMP:20260420T074632
CREATED:20260408T160912Z
LAST-MODIFIED:20260408T160912Z
UID:10009645-1776510000-1776524400@sullivancatskills.com
SUMMARY:Making and Getting the Real Dirt: Roscoe Branch
DESCRIPTION:Dig into the fundamentals of soil health and sustainable gardening in this hands-on workshop with educator Maria Grimaldi. Learn practical composting techniques and gain a deeper understanding of how healthy soil supports thriving plants. Attendees are encouraged to bring a soil sample for pH testing and personalized insights. \nRoscoe Branch
URL:https://sullivancatskills.com/event/making-and-getting-the-real-dirt-roscoe-branch/
LOCATION:Livingston Manor-Roscoe Library\, 92 Main Street\, Livingston Manor\, NY\, 12758\, United States
CATEGORIES:Classes,Informative
ATTACH;FMTTYPE=image/jpeg:https://sullivancatskills.com/wp-content/uploads/2026/04/Compost_Making_Real_Dirt_418.jpeg
END:VEVENT
BEGIN:VEVENT
DTSTART;TZID=America/New_York:20260418T110000
DTEND;TZID=America/New_York:20260418T170000
DTSTAMP:20260420T074632
CREATED:20260408T162602Z
LAST-MODIFIED:20260408T162602Z
UID:10009707-1776510000-1776531600@sullivancatskills.com
SUMMARY:Heritage Day!
DESCRIPTION:Discover the rich history and charm of the Town of Lumberland at this engaging Heritage Day event. Explore exhibits\, stories\, and local traditions that bring the past to life\, offering a meaningful look at the area’s cultural roots in a welcoming community setting.
URL:https://sullivancatskills.com/event/heritage-day/
LOCATION:Lumberland Town Hall & Museum Room\, 1054 Proctor Rd\, Glen Spey\, NY\, 12737\, United States
CATEGORIES:Community
ATTACH;FMTTYPE=image/jpeg:https://sullivancatskills.com/wp-content/uploads/2026/04/Heritage_Day_418.jpeg
END:VEVENT
BEGIN:VEVENT
DTSTART;TZID=America/New_York:20260418T120000
DTEND;TZID=America/New_York:20260428T150000
DTSTAMP:20260420T074632
CREATED:20260408T163502Z
LAST-MODIFIED:20260408T163502Z
UID:10009710-1776513600-1777388400@sullivancatskills.com
SUMMARY:Paper Bead Bracelets: Livingston Manor Branch
DESCRIPTION:Young creators are invited to get hands-on in this fun craft workshop where kids can design their own bracelets using colorful\, hand-crafted paper beads. It’s a creative and engaging activity that encourages imagination and artistic expression. \nLivingston Manor Branch
URL:https://sullivancatskills.com/event/paper-bead-bracelets-livingston-manor-branch/
LOCATION:Livingston Manor-Roscoe Library\, 92 Main Street\, Livingston Manor\, NY\, 12758\, United States
CATEGORIES:Classes,Crafts,Informative
ATTACH;FMTTYPE=image/jpeg:https://sullivancatskills.com/wp-content/uploads/2026/04/Paper_Bead_Bracelets_418.jpeg
END:VEVENT
BEGIN:VEVENT
DTSTART;TZID=America/New_York:20260418T180000
DTEND;TZID=America/New_York:20260418T210000
DTSTAMP:20260420T074632
CREATED:20260413T161025Z
LAST-MODIFIED:20260413T161025Z
UID:10009729-1776535200-1776546000@sullivancatskills.com
SUMMARY:Stacy & Diane: A River Ramblers Duo
DESCRIPTION:Enjoy an evening of live music with Stacy & Diane\, a River Ramblers duo\, performing at Back Bakers in Barryville on Saturday\, April 18 from 6pm to 9pm. Set against a rustic riverside backdrop\, this acoustic performance features rich harmonies and laid-back tunes—perfect for a relaxing night out with friends\, food\, and great local vibes.
URL:https://sullivancatskills.com/event/stacy-diane-a-river-ramblers-duo/
LOCATION:Back To Bakers\, 184 Barryville- Yulan Rd\, Barryville\, NY\, 12719\, United States
CATEGORIES:Live Music
ATTACH;FMTTYPE=image/jpeg:https://sullivancatskills.com/wp-content/uploads/2026/04/Stacy_Diane_Live_Music_418.jpeg
END:VEVENT
BEGIN:VEVENT
DTSTART;TZID=America/New_York:20260418T220000
DTEND;TZID=America/New_York:20260418T233000
DTSTAMP:20260420T074632
CREATED:20260408T164423Z
LAST-MODIFIED:20260408T164423Z
UID:10009716-1776549600-1776555000@sullivancatskills.com
SUMMARY:Spring Fling: Ian & Jacob
DESCRIPTION:Get ready for a high-energy night at The Dale with a DJ set and live drummer spinning an eclectic mix of beats. From house to techno and beyond\, this late-night dance party brings vibrant energy and an unforgettable atmosphere.
URL:https://sullivancatskills.com/event/spring-fling-ian-jacob/
LOCATION:The Dale PIzza\, 4 Old Post Rd\, Mt Dale\, NY\, United States
CATEGORIES:Community,Live Music
ATTACH;FMTTYPE=image/jpeg:https://sullivancatskills.com/wp-content/uploads/2026/04/Spring_Fling_The_Dale_418.jpeg
END:VEVENT
END:VCALENDAR