BEGIN:VCALENDAR
VERSION:2.0
PRODID:-//Sullivan Catskills - ECPv6.15.20//NONSGML v1.0//EN
CALSCALE:GREGORIAN
METHOD:PUBLISH
X-WR-CALNAME:Sullivan Catskills
X-ORIGINAL-URL:https://sullivancatskills.com
X-WR-CALDESC:Events for Sullivan Catskills
REFRESH-INTERVAL;VALUE=DURATION:PT1H
X-Robots-Tag:noindex
X-PUBLISHED-TTL:PT1H
BEGIN:VTIMEZONE
TZID:America/New_York
BEGIN:DAYLIGHT
TZOFFSETFROM:-0500
TZOFFSETTO:-0400
TZNAME:EDT
DTSTART:20250309T070000
END:DAYLIGHT
BEGIN:STANDARD
TZOFFSETFROM:-0400
TZOFFSETTO:-0500
TZNAME:EST
DTSTART:20251102T060000
END:STANDARD
BEGIN:DAYLIGHT
TZOFFSETFROM:-0500
TZOFFSETTO:-0400
TZNAME:EDT
DTSTART:20260308T070000
END:DAYLIGHT
BEGIN:STANDARD
TZOFFSETFROM:-0400
TZOFFSETTO:-0500
TZNAME:EST
DTSTART:20261101T060000
END:STANDARD
BEGIN:DAYLIGHT
TZOFFSETFROM:-0500
TZOFFSETTO:-0400
TZNAME:EDT
DTSTART:20270314T070000
END:DAYLIGHT
BEGIN:STANDARD
TZOFFSETFROM:-0400
TZOFFSETTO:-0500
TZNAME:EST
DTSTART:20271107T060000
END:STANDARD
END:VTIMEZONE
BEGIN:VEVENT
DTSTART;VALUE=DATE:20260418
DTEND;VALUE=DATE:20260511
DTSTAMP:20260423T042541
CREATED:20260325T155130Z
LAST-MODIFIED:20260325T155130Z
UID:10008467-1776470400-1778457599@sullivancatskills.com
SUMMARY:Steven Randazzo
DESCRIPTION:Explore the striking photographic work of Steven Randazzo at this evocative exhibition presented by Hall Space by Nonneta. Running April 18 through May 10\, the show captures atmospheric landscapes and quiet\, reflective scenes. Join the opening reception on April 18 from 4–7 pm at Hall Space in Eldred.
URL:https://sullivancatskills.com/event/steven-randazzo/
LOCATION:Hall Space By Nonneta\, 550 Route 55\, Eldred\, NY\, 12732\, United States
CATEGORIES:Museums | Art Galleries
ATTACH;FMTTYPE=image/jpeg:https://sullivancatskills.com/wp-content/uploads/2026/03/Steven_Randazzo_418-510.jpeg
END:VEVENT
BEGIN:VEVENT
DTSTART;TZID=America/New_York:20260418T100000
DTEND;TZID=America/New_York:20260419T020000
DTSTAMP:20260423T042541
CREATED:20260312T143923Z
LAST-MODIFIED:20260312T145141Z
UID:10008028-1776506400-1776564000@sullivancatskills.com
SUMMARY:Foundation Of Funk
DESCRIPTION:Good music. Good people. The kind of night you’ve been waiting for.\nCome dance\, vibe\, and start 2026 exactly how it should begin!
URL:https://sullivancatskills.com/event/foundation-of-funk-2/2026-04-18/
LOCATION:The Old Foundation\, 5371 NY-52\, Kenoza Lake\, NY\, 12750\, United States
CATEGORIES:Community,Food | Wine | Restaurant,Live Music
ATTACH;FMTTYPE=image/jpeg:https://sullivancatskills.com/wp-content/uploads/2026/01/Foundation_Of_Funk.jpg
END:VEVENT
BEGIN:VEVENT
DTSTART;TZID=America/New_York:20260419T090000
DTEND;TZID=America/New_York:20260419T120000
DTSTAMP:20260423T042541
CREATED:20251212T183840Z
LAST-MODIFIED:20251212T183840Z
UID:10002383-1776589200-1776600000@sullivancatskills.com
SUMMARY:Sunday Morning Knitting Circle
DESCRIPTION:BRING YOUR PROJECT FOR A FEW HOURS OF CRAFTING\, COFFEE\, AND COMPANIONSHIP ON SUNDAY MORNINGS. ARRIVE WHENEVER\, DEPART WHENEVER. \nALL CRAFTS ARE WELCOME\, ABSOLUTE BEGINNERS ARe ENCOURAGED TO JOIN. KNITTING HELP BY CAM SHAW.
URL:https://sullivancatskills.com/event/sunday-morning-knitting-circle/2026-04-19/
LOCATION:Vintage Passtimes\, 1975 Old Route 17\, Roscoe\, NY\, 12776\, United States
ATTACH;FMTTYPE=image/webp:https://sullivancatskills.com/wp-content/uploads/2025/12/Sunday-Mornings_Roscoe_-Sunday-Morning-Knitting-Circle.webp
END:VEVENT
BEGIN:VEVENT
DTSTART;TZID=America/New_York:20260419T090000
DTEND;TZID=America/New_York:20260419T123000
DTSTAMP:20260423T042541
CREATED:20260309T153641Z
LAST-MODIFIED:20260309T153641Z
UID:10007650-1776589200-1776601800@sullivancatskills.com
SUMMARY:Kids & Families Happiness Class at Kadampa Buddhist Temple
DESCRIPTION:Helping Families Find Happiness\n\n\n\n\nFamilies will be guided through engaging activities\, based on Buddha’s teachings that explore solutions to the challenges of daily life. The class is fun for all ages and can be tailored to meet individual needs.  We take scenic nature walks\, make crafts\, play games\, sing\, tell stories\, and practice short breathing meditations. Everyone welcome!  We are happy to accommodate all families. Please contact us with any questions or concerns.\nTHIS CLASS MEETS TWICE A MONTH at Kadampa Meditation Center New York in Glen Spey\, NY\n\n\n\n\n\n\n\n\nUpcoming Class Dates:\nMarch 29\, April 12\, April 19\, 2026\nTemple Trails open at 9AM.  Coffeshop\, Buddhist Bookstore & Gift Store open at 10AM.\nFamily Class 11AM-12:15PM.\nLunch with the Community 12:30-1:30PM (please call to reserve lunch tickets\, $10)
URL:https://sullivancatskills.com/event/kids-families-happiness-class-at-kadampa-buddhist-temple/2026-04-19/
LOCATION:Kadampa Meditation Center New York World Peace Temple\, 47 Sweeney Rd\, Glen Spey\, NY\, 12737\, United States
CATEGORIES:Health | Wellness
ORGANIZER;CN="Kadampa Meditation Center":MAILTO:events@kadampanewyork.org
END:VEVENT
BEGIN:VEVENT
DTSTART;TZID=America/New_York:20260419T090000
DTEND;TZID=America/New_York:20260419T130000
DTSTAMP:20260423T042541
CREATED:20251202T015133Z
LAST-MODIFIED:20260120T151251Z
UID:10000290-1776589200-1776603600@sullivancatskills.com
SUMMARY:Sunday Brunch at Roscoe Mountain Club
DESCRIPTION:Gather with family and friends every Sunday for a delicious brunch experience at the 1907! From savory bites to sweet treats\, we’ve got something for everyone. \nReserve your spot: Call 607-498-5000
URL:https://sullivancatskills.com/event/sunday-brunch-at-roscoe-mountain-club/2026-04-19/
LOCATION:Roscoe Mountain Club\, 100 Fairway Dr\, Roscoe\, NY\, 12776\, United States
CATEGORIES:Arts | Culture,Food | Wine | Restaurant
ATTACH;FMTTYPE=image/jpeg:https://sullivancatskills.com/wp-content/uploads/2025/12/RMC-Brunch.jpeg
END:VEVENT
BEGIN:VEVENT
DTSTART;TZID=America/New_York:20260419T093000
DTEND;TZID=America/New_York:20260419T120000
DTSTAMP:20260423T042541
CREATED:20260330T152550Z
LAST-MODIFIED:20260330T152550Z
UID:10008564-1776591000-1776600000@sullivancatskills.com
SUMMARY:Pilates Classes at Bodies + Plants
DESCRIPTION:Join us for a small Group Reformer class every Sunday at 9:45am and a group Springboard class every Sunday at 11am at Bodies + Plants. Sign up required! www.bodiesandplants.com
URL:https://sullivancatskills.com/event/pilates-classes-at-bodies-plants/2026-04-19/
LOCATION:NY
END:VEVENT
BEGIN:VEVENT
DTSTART;TZID=America/New_York:20260419T110000
DTEND;TZID=America/New_York:20260419T140000
DTSTAMP:20260423T042541
CREATED:20260105T163819Z
LAST-MODIFIED:20260105T163847Z
UID:10004361-1776596400-1776607200@sullivancatskills.com
SUMMARY:Callicoon Farmers market
DESCRIPTION:At the Callicoon Farmers’ Market\, you will find many farms in addition to food producers and artisans offering wine\, hard cider\, pasta\, condiments\, prepared foods\, baked goods\, ice cream\, jam\, honey\, maple syrup\, herbal tea blends\, skin care products\, pottery\, woodwork and much more. \n 
URL:https://sullivancatskills.com/event/callicoon-farmers-market/2026-04-19/
LOCATION:NY
CATEGORIES:Farmers Markets | AG-Culture
ATTACH;FMTTYPE=image/jpeg:https://sullivancatskills.com/wp-content/uploads/2026/01/Callicoon_Farmers_Market.jpg
END:VEVENT
BEGIN:VEVENT
DTSTART;TZID=America/New_York:20260419T140000
DTEND;TZID=America/New_York:20260419T160000
DTSTAMP:20260423T042541
CREATED:20260413T162919Z
LAST-MODIFIED:20260413T194034Z
UID:10009725-1776607200-1776614400@sullivancatskills.com
SUMMARY:An Afternoon with Dumpster Man - Meet the Author
DESCRIPTION:Local author Mike Vreeland will share excerpts from his middle-grade novel\, Dumpster Man\, at Domesticities and the Cutting Garden in Youngsville on Sunday\, April 19th\, 2-4 pm. The event will include readings\, activities\, music\, refreshments\, Q & A\, and book signings. \nDumpster Man tells the story of 12-year-old Trent Hartwood\, who rescues a frightened kitten from a dumpster. The putrid sludge inside transforms him into a smelly\, slime-covered superhero with superhuman strength. Before he can come up with a good superhero name\, someone calls the slimy figure “Dumpster Man\,” and\, unfortunately\, the name sticks. That doesn’t stop him from saving people and catching criminals in the city of Middleton—though he would be mortified if anyone knew Dumpster Man’s identity.
URL:https://sullivancatskills.com/event/an-afternoon-with-dumpster-man-meet-the-author/
LOCATION:Domesticities\, 4055 State Route 52\, Youngsville\, 12791
CATEGORIES:Literary
ATTACH;FMTTYPE=image/jpeg:https://sullivancatskills.com/wp-content/uploads/2026/04/Dumpster_Man.jpeg
ORGANIZER;CN="Domesticities":MAILTO:shop@thecuttinggarden.org
END:VEVENT
BEGIN:VEVENT
DTSTART;TZID=America/New_York:20260419T150000
DTEND;TZID=America/New_York:20260419T220000
DTSTAMP:20260423T042541
CREATED:20251202T020120Z
LAST-MODIFIED:20251202T024630Z
UID:10000812-1776610800-1776636000@sullivancatskills.com
SUMMARY:All Day Happy Hour
DESCRIPTION:Enjoy ALL-DAY Happy Hour deals at The Lounge every Sunday\, starting at 3 p.m.!
URL:https://sullivancatskills.com/event/all-day-happy-hour/2026-04-19/
LOCATION:The Eldred Preserve\, 1040 State Route 55\, Eldred\, NY\, 12732\, United States
CATEGORIES:Arts | Culture,Food | Wine | Restaurant
ATTACH;FMTTYPE=image/webp:https://sullivancatskills.com/wp-content/uploads/2025/12/Sunday-Eldred-happy-hour.webp
END:VEVENT
BEGIN:VEVENT
DTSTART;TZID=America/New_York:20260419T160000
DTEND;TZID=America/New_York:20260419T210000
DTSTAMP:20260423T042541
CREATED:20260330T174243Z
LAST-MODIFIED:20260330T174243Z
UID:10009087-1776614400-1776632400@sullivancatskills.com
SUMMARY:Sunday Special @ The Trailhead
DESCRIPTION:Sundays just got a whole lot tastier at Trailhead in Glen Spey. Indulge in their Steak Frites au Poivre special\, featuring perfectly seared steak\, crispy golden fries\, and a rich peppercorn sauce. Available every Sunday for just $20\, this limited-availability dish is the perfect way to treat yourself at the end of the week.
URL:https://sullivancatskills.com/event/sunday-special-the-trailhead/2026-04-19/
LOCATION:Trailhead Resturant\, 367 Mohican Lake Rd\,\, Mongaup Valley\, NY\, 12762\, United States
CATEGORIES:Food | Wine | Restaurant
ATTACH;FMTTYPE=image/jpeg:https://sullivancatskills.com/wp-content/uploads/2026/03/Trailhead_Sunday_Special.jpeg
END:VEVENT
BEGIN:VEVENT
DTSTART;TZID=America/New_York:20260419T200000
DTEND;TZID=America/New_York:20260419T220000
DTSTAMP:20260423T042541
CREATED:20260128T163222Z
LAST-MODIFIED:20260128T163222Z
UID:10005368-1776628800-1776636000@sullivancatskills.com
SUMMARY:Garrison Keillor And Richard Dworsky
DESCRIPTION:Loyal fans and those new to his audience will be entertained by Garrison Keillor’s quintessential humor\, music\, poetry\, and anecdotes\, delivered in his classic baritone voice
URL:https://sullivancatskills.com/event/garrison-keillor-and-richard-dworsky/
LOCATION:NY
CATEGORIES:Arts | Culture,Community,Live Music
ATTACH;FMTTYPE=image/jpeg:https://sullivancatskills.com/wp-content/uploads/2026/01/Garrison_Keillor_Bethel.jpeg
END:VEVENT
END:VCALENDAR