BEGIN:VCALENDAR
VERSION:2.0
PRODID:-//Sullivan Catskills - ECPv6.15.20//NONSGML v1.0//EN
CALSCALE:GREGORIAN
METHOD:PUBLISH
X-WR-CALNAME:Sullivan Catskills
X-ORIGINAL-URL:https://sullivancatskills.com
X-WR-CALDESC:Events for Sullivan Catskills
REFRESH-INTERVAL;VALUE=DURATION:PT1H
X-Robots-Tag:noindex
X-PUBLISHED-TTL:PT1H
BEGIN:VTIMEZONE
TZID:America/New_York
BEGIN:DAYLIGHT
TZOFFSETFROM:-0500
TZOFFSETTO:-0400
TZNAME:EDT
DTSTART:20250309T070000
END:DAYLIGHT
BEGIN:STANDARD
TZOFFSETFROM:-0400
TZOFFSETTO:-0500
TZNAME:EST
DTSTART:20251102T060000
END:STANDARD
BEGIN:DAYLIGHT
TZOFFSETFROM:-0500
TZOFFSETTO:-0400
TZNAME:EDT
DTSTART:20260308T070000
END:DAYLIGHT
BEGIN:STANDARD
TZOFFSETFROM:-0400
TZOFFSETTO:-0500
TZNAME:EST
DTSTART:20261101T060000
END:STANDARD
BEGIN:DAYLIGHT
TZOFFSETFROM:-0500
TZOFFSETTO:-0400
TZNAME:EDT
DTSTART:20270314T070000
END:DAYLIGHT
BEGIN:STANDARD
TZOFFSETFROM:-0400
TZOFFSETTO:-0500
TZNAME:EST
DTSTART:20271107T060000
END:STANDARD
END:VTIMEZONE
BEGIN:VEVENT
DTSTART;TZID=America/New_York:20260411T150000
DTEND;TZID=America/New_York:20260411T180000
DTSTAMP:20260420T112042
CREATED:20260323T174555Z
LAST-MODIFIED:20260323T174555Z
UID:10008457-1775919600-1775930400@sullivancatskills.com
SUMMARY:Sullivan County Youth Poetry
DESCRIPTION:Celebrate creativity and young voices at the Sullivan County Youth Poetry Festival\, Vol. 5! Hosted at Bethel Woods Center for the Arts on Saturday\, April 11 at 3pm\, this inspiring event showcases talented youth poets from across the county in a vibrant afternoon of spoken word and artistic expression.
URL:https://sullivancatskills.com/event/sullivan-county-youth-poetry/
LOCATION:Bethel Woods Center For The Arts\, 200 Hurd Rd.\, Bethel\, NY\, 12720\, United States
CATEGORIES:Arts | Culture,Community,Literary
ATTACH;FMTTYPE=image/jpeg:https://sullivancatskills.com/wp-content/uploads/2026/03/SulCo_Youth_Poetry_411.jpeg
END:VEVENT
END:VCALENDAR