BEGIN:VCALENDAR
VERSION:2.0
PRODID:-//Sullivan Catskills - ECPv6.15.20//NONSGML v1.0//EN
CALSCALE:GREGORIAN
METHOD:PUBLISH
X-WR-CALNAME:Sullivan Catskills
X-ORIGINAL-URL:https://sullivancatskills.com
X-WR-CALDESC:Events for Sullivan Catskills
REFRESH-INTERVAL;VALUE=DURATION:PT1H
X-Robots-Tag:noindex
X-PUBLISHED-TTL:PT1H
BEGIN:VTIMEZONE
TZID:America/New_York
BEGIN:DAYLIGHT
TZOFFSETFROM:-0500
TZOFFSETTO:-0400
TZNAME:EDT
DTSTART:20240310T070000
END:DAYLIGHT
BEGIN:STANDARD
TZOFFSETFROM:-0400
TZOFFSETTO:-0500
TZNAME:EST
DTSTART:20241103T060000
END:STANDARD
BEGIN:DAYLIGHT
TZOFFSETFROM:-0500
TZOFFSETTO:-0400
TZNAME:EDT
DTSTART:20250309T070000
END:DAYLIGHT
BEGIN:STANDARD
TZOFFSETFROM:-0400
TZOFFSETTO:-0500
TZNAME:EST
DTSTART:20251102T060000
END:STANDARD
BEGIN:DAYLIGHT
TZOFFSETFROM:-0500
TZOFFSETTO:-0400
TZNAME:EDT
DTSTART:20260308T070000
END:DAYLIGHT
BEGIN:STANDARD
TZOFFSETFROM:-0400
TZOFFSETTO:-0500
TZNAME:EST
DTSTART:20261101T060000
END:STANDARD
BEGIN:DAYLIGHT
TZOFFSETFROM:-0500
TZOFFSETTO:-0400
TZNAME:EDT
DTSTART:20270314T070000
END:DAYLIGHT
BEGIN:STANDARD
TZOFFSETFROM:-0400
TZOFFSETTO:-0500
TZNAME:EST
DTSTART:20271107T060000
END:STANDARD
END:VTIMEZONE
BEGIN:VEVENT
DTSTART;TZID=America/New_York:20260228T080000
DTEND;TZID=America/New_York:20260302T170000
DTSTAMP:20260420T105758
CREATED:20260218T192938Z
LAST-MODIFIED:20260218T192938Z
UID:10006415-1772265600-1772470800@sullivancatskills.com
SUMMARY:2026 Oscar Nominated Short Films
DESCRIPTION:Don’t miss the 2026 Oscar-Nominated Short Films Festival Screenings at HPAC in Hurleyville\, February 28 through March 2. Experience this year’s acclaimed short films on the big screen and see the standout stories everyone will be talking about. Recommended for ages 16+
URL:https://sullivancatskills.com/event/2026-oscar-nominated-short-films/
LOCATION:NY
CATEGORIES:Community,Theatre | Performing Arts
ATTACH;FMTTYPE=image/jpeg:https://sullivancatskills.com/wp-content/uploads/2026/02/Oscar_Nominated_Short_Film.jpeg
END:VEVENT
BEGIN:VEVENT
DTSTART;TZID=America/New_York:20260227T190000
DTEND;TZID=America/New_York:20260227T210000
DTSTAMP:20260420T105758
CREATED:20260225T155818Z
LAST-MODIFIED:20260225T155818Z
UID:10006547-1772218800-1772226000@sullivancatskills.com
SUMMARY:Cabaret Roulette
DESCRIPTION:Cabaret Roulette is a 3-night live theatre experience where performers take the stage and their songs\, scenes\, and surprises are selected by the spin of a wheel. It’s an unpredictable evening of music\, storytelling\, and bold entertainment that keeps audiences on the edge of their seats.
URL:https://sullivancatskills.com/event/cabaret-roulette-2/
LOCATION:Woodbourne Firehouse\, 355 NY 52\, Woodbourne\, NY\, 12788
CATEGORIES:Theatre | Performing Arts
ATTACH;FMTTYPE=image/png:https://sullivancatskills.com/wp-content/uploads/2026/02/Calendar-submission.png
END:VEVENT
BEGIN:VEVENT
DTSTART;TZID=America/New_York:20260227T190000
DTEND;TZID=America/New_York:20260227T210000
DTSTAMP:20260420T105758
CREATED:20260114T201253Z
LAST-MODIFIED:20260114T201253Z
UID:10004757-1772218800-1772226000@sullivancatskills.com
SUMMARY:Cabaret Roulette
DESCRIPTION:Roulette Cabaret Brings a High-Stakes Night of Glamour\, Chance\, and Live Entertainment to Sullivan County NY!
URL:https://sullivancatskills.com/event/cabaret-roulette/2026-02-27/
LOCATION:Woodbourne Firehouse\, 355 NY 52\, Woodbourne\, NY\, 12788
CATEGORIES:Theatre | Performing Arts
END:VEVENT
BEGIN:VEVENT
DTSTART;TZID=America/New_York:20260217T193000
DTEND;TZID=America/New_York:20260217T213000
DTSTAMP:20260420T105758
CREATED:20260107T180236Z
LAST-MODIFIED:20260107T180251Z
UID:10004746-1771356600-1771363800@sullivancatskills.com
SUMMARY:Edge of Seventeen
DESCRIPTION:Edge of Seventeen by Todd Stephens USA\, 1998 \nADVANCE PURCHASE ALL SIX MOVIES: $60 \nTICKETS $15 AT THE DOOR
URL:https://sullivancatskills.com/event/edge-of-seventeen/
LOCATION:Callicoon Theater\, 30 Upper Main Street\, Callicoon\, NY\, 12723\, United States
CATEGORIES:Arts | Culture,Community,Theatre | Performing Arts
ATTACH;FMTTYPE=image/jpeg:https://sullivancatskills.com/wp-content/uploads/2026/01/Callicoon_Gay_Film_Series.jpeg
END:VEVENT
BEGIN:VEVENT
DTSTART;TZID=America/New_York:20260213T173000
DTEND;TZID=America/New_York:20260213T190000
DTSTAMP:20260420T105758
CREATED:20260202T160619Z
LAST-MODIFIED:20260202T160619Z
UID:10005824-1771003800-1771009200@sullivancatskills.com
SUMMARY:Shorts & Sweets for Valentines
DESCRIPTION:On Friday\, February 13\, 2026 at 5:30 p.m.\, Big Sky’s Productions’ Laure Valentine and Carol Montana will entertain you with a program of short stories\, anecdotes and jokes featuring the theme of romantic love\, friendship and companionship. Bring a date\, bring a friend\, bring both to the Roscoe Library. \nYou’ll also enjoy sweet treats and beverages provided by the Livingston Manor-Roscoe Library director and trustees. \nRegistration is suggested at lmr-library.org\, but walk-ins are always welcome. Admission is free! \n 
URL:https://sullivancatskills.com/event/shorts-sweets-for-valentines/
LOCATION:Roscoe Library\, 85 Highland Ave\, Roscoe\, NY\, 12776\, United States
CATEGORIES:Literary,Theatre | Performing Arts
ATTACH;FMTTYPE=image/jpeg:https://sullivancatskills.com/wp-content/uploads/2026/01/Shorts_and_Sweets.jpg
ORGANIZER;CN="Big Sky Productions":MAILTO:bigsky1952@aol.com
END:VEVENT
BEGIN:VEVENT
DTSTART;TZID=America/New_York:20260212T193000
DTEND;TZID=America/New_York:20260212T213000
DTSTAMP:20260420T105758
CREATED:20260107T175922Z
LAST-MODIFIED:20260107T175922Z
UID:10004745-1770924600-1770931800@sullivancatskills.com
SUMMARY:My Beautiful Laundrette
DESCRIPTION:Come Watch My Beautiful Laundrette by Stephen Frears \nUK\, 1985 at the callicoon movie theater \nADVANCE \nPURCHASE ALL SIX MOVIES: $60 \nTICKETS $15 AT THE DOOR
URL:https://sullivancatskills.com/event/my-beautiful-laundrette/
LOCATION:Callicoon Theater\, 30 Upper Main Street\, Callicoon\, NY\, 12723\, United States
CATEGORIES:Arts | Culture,Community,Theatre | Performing Arts
ATTACH;FMTTYPE=image/jpeg:https://sullivancatskills.com/wp-content/uploads/2026/01/Callicoon_Gay_Film_Series.jpeg
END:VEVENT
BEGIN:VEVENT
DTSTART;TZID=America/New_York:20260212T130000
DTEND;TZID=America/New_York:20260212T160000
DTSTAMP:20260420T105758
CREATED:20260128T180907Z
LAST-MODIFIED:20260128T180925Z
UID:10005378-1770901200-1770912000@sullivancatskills.com
SUMMARY:Senior Cinema: Murder on The Orient Express
DESCRIPTION:Murder on the Orient Express tells the tale of thirteen strangers stranded on a train\, where everyone’s a suspect. One man must race against time to solve the puzzle. \nAfter Senior Cinema\, participants are invited to stay for Coffee Hour\, which now brings together our three senior programs for added convenience. This enhanced program includes board games and provides a welcoming space for seniors to relax\, socialize\, share skills\, and exchange stories with one another.
URL:https://sullivancatskills.com/event/senior-cinema-murder-on-the-orient-express/
LOCATION:Hurleyville Art Center\, 219 Main St\, Hurleyville\, NY\, 12747\, United States
CATEGORIES:Community,Theatre | Performing Arts
ATTACH;FMTTYPE=image/jpeg:https://sullivancatskills.com/wp-content/uploads/2026/01/Senior_Cinema_Murder.jpeg
END:VEVENT
BEGIN:VEVENT
DTSTART;TZID=America/New_York:20260207T133000
DTEND;TZID=America/New_York:20260207T153000
DTSTAMP:20260420T105758
CREATED:20260130T191904Z
LAST-MODIFIED:20260130T191904Z
UID:10005357-1770471000-1770478200@sullivancatskills.com
SUMMARY:The Librarians
DESCRIPTION:Librarians across the U.S. examine how book review policies are shaping their communities. \nREGISTRATION IS REQUIRED!
URL:https://sullivancatskills.com/event/the-librarians/2026-02-07/
LOCATION:Mamakating Library\, 128 Sullivan Street\, Wurtsboro\, NY\, 12790\, United States
CATEGORIES:Arts | Culture,Community,Theatre | Performing Arts
ATTACH;FMTTYPE=image/jpeg:https://sullivancatskills.com/wp-content/uploads/2026/01/Mamakating_Library_Screening.jpeg
END:VEVENT
BEGIN:VEVENT
DTSTART;TZID=America/New_York:20251207T180000
DTEND;TZID=America/New_York:20251207T210000
DTSTAMP:20260420T105758
CREATED:20251107T150956Z
LAST-MODIFIED:20251208T200239Z
UID:10000001-1765130400-1765141200@sullivancatskills.com
SUMMARY:DVAA & Bar Veloce Present... Retro Cinema Odd Couples!
DESCRIPTION:Thursday\, November 6th: Whatever Happened to Baby Jane? (1962)\n\nRetro Cinema – Doors Open at 6:30 PM \nAh\, the joys of family. Whatever Happened to Baby Jane? was released in theaters on October 31\, 1962\, becoming a critical and box office success. The film stars Joan Crawford and Bette Davis\, two powerhouse actresses whose off-screen feud was the stuff of Hollywood legend. Their rivalry added fuel to the film’s success and helped revitalize the careers of both actresses. Based on the 1960 novel by Henry Farrell\, the film follows aging former child star “Baby Jane” Hudson (Davis) as she torments her paraplegic sister Blanche (Crawford)\, also a former child star\, in their old Hollywood mansion. It is credited with the creation of the “psycho-biddy” subgenre\, aka “hagsploitation\,’ a genre of film that features a formerly glamorous older woman who becomes increasingly mentally unbalanced as she terrorizes those around her.
URL:https://sullivancatskills.com/event/dvaa-bar-veloce-present-retro-cinema-odd-couples/
LOCATION:NY
CATEGORIES:Arts | Culture,Theatre | Performing Arts
ATTACH;FMTTYPE=image/jpeg:https://sullivancatskills.com/wp-content/uploads/2025/11/DVAA.jpg
END:VEVENT
BEGIN:VEVENT
DTSTART;TZID=America/New_York:20251114T190000
DTEND;TZID=America/New_York:20251114T210000
DTSTAMP:20260420T105758
CREATED:20251107T152326Z
LAST-MODIFIED:20251107T152811Z
UID:10000003-1763146800-1763154000@sullivancatskills.com
SUMMARY:Lucy Joseph
DESCRIPTION:Lucy Joseph is an original performance by Farm Arts Collective based on the life of a 19th century gender non-conforming pioneer Lucy Ann Joseph Israel Lobdell. The performance is written and directed by Mimi McGurl with contributed story and texts from the Farm Arts Collective\, author William Klaber\, and historical texts by L.A. Lobdell and others. The original musical performance features Jess Beveridge\, Doug Rogers\, Pam Arnold\, John Roth\, Samantha Mehlman\, Annie Hat & Laura Moran. Editor and additional language by Mark Dunau. \nFriday – Sunday\, November 14 – 16. Friday & Sunday shows are at 7:00 pm and Sunday’s show is at 3:00 pm.
URL:https://sullivancatskills.com/event/lucy-joseph/
LOCATION:Farm Arts Collective\, 38 Hickory Lane\, Damascas\, PA\, 18415\, United States
CATEGORIES:Arts | Culture,Theatre | Performing Arts
ATTACH;FMTTYPE=image/webp:https://sullivancatskills.com/wp-content/uploads/2025/11/Lucy-Joseph.webp
END:VEVENT
END:VCALENDAR