BEGIN:VCALENDAR
VERSION:2.0
PRODID:-//Sullivan Catskills - ECPv6.15.20//NONSGML v1.0//EN
CALSCALE:GREGORIAN
METHOD:PUBLISH
X-WR-CALNAME:Sullivan Catskills
X-ORIGINAL-URL:https://sullivancatskills.com
X-WR-CALDESC:Events for Sullivan Catskills
REFRESH-INTERVAL;VALUE=DURATION:PT1H
X-Robots-Tag:noindex
X-PUBLISHED-TTL:PT1H
BEGIN:VTIMEZONE
TZID:America/New_York
BEGIN:DAYLIGHT
TZOFFSETFROM:-0500
TZOFFSETTO:-0400
TZNAME:EDT
DTSTART:20250309T070000
END:DAYLIGHT
BEGIN:STANDARD
TZOFFSETFROM:-0400
TZOFFSETTO:-0500
TZNAME:EST
DTSTART:20251102T060000
END:STANDARD
BEGIN:DAYLIGHT
TZOFFSETFROM:-0500
TZOFFSETTO:-0400
TZNAME:EDT
DTSTART:20260308T070000
END:DAYLIGHT
BEGIN:STANDARD
TZOFFSETFROM:-0400
TZOFFSETTO:-0500
TZNAME:EST
DTSTART:20261101T060000
END:STANDARD
BEGIN:DAYLIGHT
TZOFFSETFROM:-0500
TZOFFSETTO:-0400
TZNAME:EDT
DTSTART:20270314T070000
END:DAYLIGHT
BEGIN:STANDARD
TZOFFSETFROM:-0400
TZOFFSETTO:-0500
TZNAME:EST
DTSTART:20271107T060000
END:STANDARD
END:VTIMEZONE
BEGIN:VEVENT
DTSTART;TZID=America/New_York:20260410T173000
DTEND;TZID=America/New_York:20260426T183000
DTSTAMP:20260420T044519
CREATED:20260325T160353Z
LAST-MODIFIED:20260325T160353Z
UID:10008469-1775842200-1777228200@sullivancatskills.com
SUMMARY:Shorts & Sweets
DESCRIPTION:Celebrate April Fools with an adults-only evening of humor and storytelling on Friday\, April 10 at 5:30 pm at the Roscoe Branch Library. Featuring Laure Valentine and Carol Montana\, this lively program pairs witty\, slightly mischievous tales with sweet treats and beverages.
URL:https://sullivancatskills.com/event/shorts-sweets/
LOCATION:Livingston Manor-Roscoe Library\, 92 Main Street\, Livingston Manor\, NY\, 12758\, United States
CATEGORIES:Comedy,Community
ATTACH;FMTTYPE=image/jpeg:https://sullivancatskills.com/wp-content/uploads/2026/03/Shorts_Sweets_410.jpeg
END:VEVENT
BEGIN:VEVENT
DTSTART;TZID=America/New_York:20260411T100000
DTEND;TZID=America/New_York:20260412T020000
DTSTAMP:20260420T044519
CREATED:20260105T163011Z
LAST-MODIFIED:20260105T163138Z
UID:10008088-1775901600-1775959200@sullivancatskills.com
SUMMARY:Foundation Of Funk
DESCRIPTION:Good music. Good people. The kind of night you’ve been waiting for.\nCome dance\, vibe\, and start 2026 exactly how it should begin!
URL:https://sullivancatskills.com/event/foundation-of-funk/2026-04-11/
LOCATION:The Old Foundation\, 5371 NY-52\, Kenoza Lake\, NY\, 12750\, United States
CATEGORIES:Community,Food | Wine | Restaurant,Live Music
ATTACH;FMTTYPE=image/jpeg:https://sullivancatskills.com/wp-content/uploads/2026/01/Foundation_Of_Funk.jpg
END:VEVENT
BEGIN:VEVENT
DTSTART;TZID=America/New_York:20260412T070000
DTEND;TZID=America/New_York:20260412T110000
DTSTAMP:20260420T044519
CREATED:20260327T161005Z
LAST-MODIFIED:20260327T161005Z
UID:10008555-1775977200-1775991600@sullivancatskills.com
SUMMARY:Pancake Breakfast
DESCRIPTION:Start your morning with a delicious community favorite at the Youngsville Fire Department Pancake Breakfast on April 12\, 2026. From 7:00 AM to 11:00 AM\, enjoy a hearty plate of pancakes\, eggs\, sausage\, and coffee while supporting your local fire department. Bring the whole family—kids under 5 eat free!
URL:https://sullivancatskills.com/event/pancake-breakfast-2/
LOCATION:Youngsville Fire Department\, 1822\, CR 149 Shandelee Rd\, Youngsville\, NY\, 12791\, United States
CATEGORIES:Community,Food | Wine | Restaurant
ATTACH;FMTTYPE=image/jpeg:https://sullivancatskills.com/wp-content/uploads/2026/03/YFD_Pancake_Breakfast_412.jpeg
END:VEVENT
BEGIN:VEVENT
DTSTART;TZID=America/New_York:20260412T130000
DTEND;TZID=America/New_York:20260412T140000
DTSTAMP:20260420T044519
CREATED:20260325T171738Z
LAST-MODIFIED:20260325T171738Z
UID:10008533-1775998800-1776002400@sullivancatskills.com
SUMMARY:Creating Butterfly Habitats
DESCRIPTION:Learn how to support pollinators at Creating Butterfly Habitat on Sunday\, April 12 from 1–2 pm at the Mamakating Environmental Education Center. This hands-on program offers tips for building a butterfly-friendly space at home. Admission is $5.
URL:https://sullivancatskills.com/event/creating-butterfly-habitats/
LOCATION:Mamakating Enviornmental Education Center\, 762 South Road\, Wurtsboro\, NY\, 12790\, United States
CATEGORIES:Community,Informative
ATTACH;FMTTYPE=image/jpeg:https://sullivancatskills.com/wp-content/uploads/2026/03/Create_Butterfly_Habitat_412.jpeg
END:VEVENT
END:VCALENDAR