BEGIN:VCALENDAR
VERSION:2.0
PRODID:-//Sullivan Catskills - ECPv6.15.20//NONSGML v1.0//EN
CALSCALE:GREGORIAN
METHOD:PUBLISH
X-WR-CALNAME:Sullivan Catskills
X-ORIGINAL-URL:https://sullivancatskills.com
X-WR-CALDESC:Events for Sullivan Catskills
REFRESH-INTERVAL;VALUE=DURATION:PT1H
X-Robots-Tag:noindex
X-PUBLISHED-TTL:PT1H
BEGIN:VTIMEZONE
TZID:America/New_York
BEGIN:DAYLIGHT
TZOFFSETFROM:-0500
TZOFFSETTO:-0400
TZNAME:EDT
DTSTART:20250309T070000
END:DAYLIGHT
BEGIN:STANDARD
TZOFFSETFROM:-0400
TZOFFSETTO:-0500
TZNAME:EST
DTSTART:20251102T060000
END:STANDARD
BEGIN:DAYLIGHT
TZOFFSETFROM:-0500
TZOFFSETTO:-0400
TZNAME:EDT
DTSTART:20260308T070000
END:DAYLIGHT
BEGIN:STANDARD
TZOFFSETFROM:-0400
TZOFFSETTO:-0500
TZNAME:EST
DTSTART:20261101T060000
END:STANDARD
BEGIN:DAYLIGHT
TZOFFSETFROM:-0500
TZOFFSETTO:-0400
TZNAME:EDT
DTSTART:20270314T070000
END:DAYLIGHT
BEGIN:STANDARD
TZOFFSETFROM:-0400
TZOFFSETTO:-0500
TZNAME:EST
DTSTART:20271107T060000
END:STANDARD
END:VTIMEZONE
BEGIN:VEVENT
DTSTART;TZID=America/New_York:20260404T090000
DTEND;TZID=America/New_York:20260404T100000
DTSTAMP:20260420T094756
CREATED:20260402T173414Z
LAST-MODIFIED:20260402T173414Z
UID:10009353-1775293200-1775296800@sullivancatskills.com
SUMMARY:Meet Your Maker Bamboo Rod Casting
DESCRIPTION:Come “Meet Your Maker” at the Mike Canazon Memorial Cane Revival  Bamboo Rod Casting Event. Have a great time casting bamboo rods from past and contemporary makers. Saturday\, April 4th\, 9AM-12N\, at the Rockland Elementary School Gym\, 6 Academy St\, Roscoe\, NY.  Free admission but donations are always accepted to cover the cost to the school. Then follow us to the Catskill Fly Fishing Center & Museum to continue the opening season celebration with a variety of soups served up by staff and volunteers.
URL:https://sullivancatskills.com/event/meet-your-maker-bamboo-rod-casting/
LOCATION:Catskill Fly Fishing Museum\, 1031 Old Route 17\, Livingston Manor\, IL\, 12758\, United States
CATEGORIES:Fishing | Hunting
ATTACH;FMTTYPE=image/jpeg:https://sullivancatskills.com/wp-content/uploads/2026/04/Rod-Making-Workshop.jpg
ORGANIZER;CN="Catskill Fly Fishing Museum":MAILTO:office@cffcm.com
END:VEVENT
BEGIN:VEVENT
DTSTART;TZID=America/New_York:20260404T100000
DTEND;TZID=America/New_York:20260404T140000
DTSTAMP:20260420T094756
CREATED:20260325T161025Z
LAST-MODIFIED:20260325T161112Z
UID:10008470-1775296800-1775311200@sullivancatskills.com
SUMMARY:Season Opener
DESCRIPTION:Kick off the season on Saturday\, April 4 from 10 am–2 pm with a relaxing riverside gathering. Enjoy fly tying demonstrations by Nick Mango and Patrick Cook\, along with coffee and refreshments.
URL:https://sullivancatskills.com/event/season-opener/
LOCATION:Roscoe\, roscoe\, NY\, 12776\, United States
CATEGORIES:Community,Fishing | Hunting,Informative,Outdoor Events
ATTACH;FMTTYPE=image/jpeg:https://sullivancatskills.com/wp-content/uploads/2026/03/Season_Opener_44.jpeg
END:VEVENT
BEGIN:VEVENT
DTSTART;TZID=America/New_York:20260404T120000
DTEND;TZID=America/New_York:20260404T200000
DTSTAMP:20260420T094756
CREATED:20260403T190207Z
LAST-MODIFIED:20260403T190207Z
UID:10009359-1775304000-1775332800@sullivancatskills.com
SUMMARY:Fly Fishing Opening Day
DESCRIPTION:Celebrate the start of fly fishing season at Catskill Brewery on Saturday\, April 4 from 12–8 PM. Enjoy free fly tying lessons\, live music by Mike Brown\, trout-themed crafts\, and great beer\, plus delicious bites from a Caribbean food truck.
URL:https://sullivancatskills.com/event/fly-fishing-opening-day/
LOCATION:The Catskill Brewery\, 672 Old Rte 17\, Livingston Manor\, NY\, 12758\, United States
CATEGORIES:Fishing | Hunting,Outdoor Events
ATTACH;FMTTYPE=image/jpeg:https://sullivancatskills.com/wp-content/uploads/2026/04/Fly_Fishin_Opening_Day_44.jpeg
END:VEVENT
END:VCALENDAR