BEGIN:VCALENDAR
VERSION:2.0
PRODID:-//Sullivan Catskills - ECPv6.15.20//NONSGML v1.0//EN
CALSCALE:GREGORIAN
METHOD:PUBLISH
X-WR-CALNAME:Sullivan Catskills
X-ORIGINAL-URL:https://sullivancatskills.com
X-WR-CALDESC:Events for Sullivan Catskills
REFRESH-INTERVAL;VALUE=DURATION:PT1H
X-Robots-Tag:noindex
X-PUBLISHED-TTL:PT1H
BEGIN:VTIMEZONE
TZID:America/New_York
BEGIN:DAYLIGHT
TZOFFSETFROM:-0500
TZOFFSETTO:-0400
TZNAME:EDT
DTSTART:20250309T070000
END:DAYLIGHT
BEGIN:STANDARD
TZOFFSETFROM:-0400
TZOFFSETTO:-0500
TZNAME:EST
DTSTART:20251102T060000
END:STANDARD
BEGIN:DAYLIGHT
TZOFFSETFROM:-0500
TZOFFSETTO:-0400
TZNAME:EDT
DTSTART:20260308T070000
END:DAYLIGHT
BEGIN:STANDARD
TZOFFSETFROM:-0400
TZOFFSETTO:-0500
TZNAME:EST
DTSTART:20261101T060000
END:STANDARD
BEGIN:DAYLIGHT
TZOFFSETFROM:-0500
TZOFFSETTO:-0400
TZNAME:EDT
DTSTART:20270314T070000
END:DAYLIGHT
BEGIN:STANDARD
TZOFFSETFROM:-0400
TZOFFSETTO:-0500
TZNAME:EST
DTSTART:20271107T060000
END:STANDARD
END:VTIMEZONE
BEGIN:VEVENT
DTSTART;VALUE=DATE:20260418
DTEND;VALUE=DATE:20260511
DTSTAMP:20260424T073836
CREATED:20260325T155130Z
LAST-MODIFIED:20260325T155130Z
UID:10008467-1776470400-1778457599@sullivancatskills.com
SUMMARY:Steven Randazzo
DESCRIPTION:Explore the striking photographic work of Steven Randazzo at this evocative exhibition presented by Hall Space by Nonneta. Running April 18 through May 10\, the show captures atmospheric landscapes and quiet\, reflective scenes. Join the opening reception on April 18 from 4–7 pm at Hall Space in Eldred.
URL:https://sullivancatskills.com/event/steven-randazzo/
LOCATION:Hall Space By Nonneta\, 550 Route 55\, Eldred\, NY\, 12732\, United States
CATEGORIES:Museums | Art Galleries
ATTACH;FMTTYPE=image/jpeg:https://sullivancatskills.com/wp-content/uploads/2026/03/Steven_Randazzo_418-510.jpeg
END:VEVENT
BEGIN:VEVENT
DTSTART;TZID=America/New_York:20260421T173000
DTEND;TZID=America/New_York:20260421T193000
DTSTAMP:20260424T073836
CREATED:20260211T200747Z
LAST-MODIFIED:20260211T200747Z
UID:10005874-1776792600-1776799800@sullivancatskills.com
SUMMARY:Get Down With Fly Tying
DESCRIPTION:Join us  every Tuesday for fly tying at Upward Brewing!
URL:https://sullivancatskills.com/event/get-down-with-fly-tying/2026-04-21/
LOCATION:Upward Brewing\, 171 Main St Box 1015\, Livingston Manor\, NY\, 12758\, United States
CATEGORIES:Classes,Community,Crafts,Food | Wine | Restaurant
ATTACH;FMTTYPE=image/jpeg:https://sullivancatskills.com/wp-content/uploads/2026/02/Get_Down_With_Fly_tying.jpeg
END:VEVENT
BEGIN:VEVENT
DTSTART;TZID=America/New_York:20260421T183000
DTEND;TZID=America/New_York:20260421T193000
DTSTAMP:20260424T073836
CREATED:20260304T154219Z
LAST-MODIFIED:20260304T154219Z
UID:10007115-1776796200-1776799800@sullivancatskills.com
SUMMARY:Weekly Line Dancing
DESCRIPTION:Grab your boots and join Weekly Line Dancing at HPAC! Starting March 24\, learn the basics and enjoy a fun mix of music genres every Tuesday from 6:30–7:30 PM. Perfect for beginners and anyone looking to get moving\, socialize\, and dance the night away.
URL:https://sullivancatskills.com/event/weekly-line-dancing/2026-04-21/
LOCATION:Hurleyville Art Center\, 219 Main St\, Hurleyville\, NY\, 12747\, United States
CATEGORIES:Classes,Community
ATTACH;FMTTYPE=image/jpeg:https://sullivancatskills.com/wp-content/uploads/2026/03/HPAC_Weekly_Line_Dancing.jpeg
END:VEVENT
BEGIN:VEVENT
DTSTART;TZID=America/New_York:20260422T160000
DTEND;TZID=America/New_York:20260422T210000
DTSTAMP:20260424T073836
CREATED:20260121T151740Z
LAST-MODIFIED:20260121T151740Z
UID:10004817-1776873600-1776891600@sullivancatskills.com
SUMMARY:Pasta Night!
DESCRIPTION:Enjoy a selection of house-prepared pastas at the 1907\, featuring classic Alfredo\, rich bolognese\, or the Chef’s special with assorted pasta options. All dishes are served with warm breadsticks.
URL:https://sullivancatskills.com/event/pasta-night/2026-04-22/
LOCATION:Roscoe Mountain Club\, 100 Fairway Dr\, Roscoe\, NY\, 12776\, United States
ATTACH;FMTTYPE=image/jpeg:https://sullivancatskills.com/wp-content/uploads/2026/01/Pasta_Night.jpeg
END:VEVENT
BEGIN:VEVENT
DTSTART;TZID=America/New_York:20260422T170000
DTEND;TZID=America/New_York:20260422T190000
DTSTAMP:20260424T073836
CREATED:20260218T194417Z
LAST-MODIFIED:20260218T194417Z
UID:10006421-1776877200-1776884400@sullivancatskills.com
SUMMARY:Write Here Write Now
DESCRIPTION:Find your creative flow at Write Here\, Write Now\, a drop-in\, donation-based writers’ room hosted by DVAA Community Arts. Held every 2nd and 4th Wednesday from 5–7 PM at Krause Recital Hall (37 Main St.\, Narrowsburg)\, this welcoming “third place” offers dedicated time and space to write alongside fellow creatives.
URL:https://sullivancatskills.com/event/write-here-write-now/2026-04-22/
LOCATION:Delaware Valley Arts Alliance\, 37 Main St.\, Narrowsburg\, NY\, 12764\, United States
CATEGORIES:Community
ATTACH;FMTTYPE=image/jpeg:https://sullivancatskills.com/wp-content/uploads/2026/02/Write_Here_Write_Now.jpeg
END:VEVENT
BEGIN:VEVENT
DTSTART;TZID=America/New_York:20260422T183000
DTEND;TZID=America/New_York:20260422T203000
DTSTAMP:20260424T073836
CREATED:20260410T183314Z
LAST-MODIFIED:20260410T183314Z
UID:10009723-1776882600-1776889800@sullivancatskills.com
SUMMARY:Hamlet
DESCRIPTION:Experience the drama and intensity of Shakespeare’s Hamlet in this captivating production at the Tusten Theatre. Directed by Sydney Berk\, this classic tale of ambition\, revenge\, and introspection is brought to life in an intimate and engaging setting.
URL:https://sullivancatskills.com/event/hamlet/
LOCATION:Delaware Valley Arts Alliance\, 37 Main St.\, Narrowsburg\, NY\, 12764\, United States
CATEGORIES:Community,Theatre | Performing Arts
ATTACH;FMTTYPE=image/jpeg:https://sullivancatskills.com/wp-content/uploads/2026/04/DVAA_Hamlet_422-1.jpeg
END:VEVENT
BEGIN:VEVENT
DTSTART;TZID=America/New_York:20260422T190000
DTEND;TZID=America/New_York:20260422T203000
DTSTAMP:20260424T073836
CREATED:20260304T153029Z
LAST-MODIFIED:20260304T153029Z
UID:10006844-1776884400-1776889800@sullivancatskills.com
SUMMARY:Buddhist Class Series on Emptiness in Buddhism at Kadampa Meditation Center NY
DESCRIPTION:Living Lightly: Finding Mental Freedom through Realizing Emptiness\nWednesdays 7:00PM-8:30PM\, March 4 – May 20\,2026 \nLearn to live lightly! The mental freedom from understanding Buddha’s teachings on emptiness is truly liberating. We are able to respond to the challenges of our life around our relationships\, job\, health\, and finances in a creative\, dynamic\, and relaxed way. We cannot control all external things\, but we can shift our thinking to respond in a peaceful and constructive manner.\nOver this series\, Buddhist Monk and Resident Teacher Gen Samten will be taking us step-by-step through Venerable Geshe Kelsang Gyatso’s teachings on Emptiness from the initial understandings to the deepest insights. While there is incredible profundity in these teachings\, they will offered in an accessible way for any level\, so we can all start to find a little more liberation and awakening day-by-day amidst our daily life.\nEveryone welcome!\nStay for tea and socializing after class.
URL:https://sullivancatskills.com/event/buddhist-class-series-on-emptiness-in-buddhism-at-kadampa-meditation-center-ny/2026-04-22/
LOCATION:Kadampa Meditation Center New York World Peace Temple\, 47 Sweeney Rd\, Glen Spey\, NY\, 12737\, United States
CATEGORIES:Health | Wellness
ATTACH;FMTTYPE=image/jpeg:https://sullivancatskills.com/wp-content/uploads/2026/03/Gen-Samten-Teaching.jpg
ORGANIZER;CN="Kadampa Meditation Center":MAILTO:events@kadampanewyork.org
END:VEVENT
BEGIN:VEVENT
DTSTART;TZID=America/New_York:20260423T110000
DTEND;TZID=America/New_York:20260423T130000
DTSTAMP:20260424T073836
CREATED:20251202T020806Z
LAST-MODIFIED:20251202T024540Z
UID:10001058-1776942000-1776949200@sullivancatskills.com
SUMMARY:Board & Brilliant Senior Gaming Hour!
DESCRIPTION:Something for Everyone! \nEvery 4th Thursday! 11 AM
URL:https://sullivancatskills.com/event/board-brilliant-senior-gaming-hour/2026-04-23/
LOCATION:Hurleyville Art Center\, 219 Main St\, Hurleyville\, NY\, 12747\, United States
CATEGORIES:Arts | Culture,Community
ATTACH;FMTTYPE=image/webp:https://sullivancatskills.com/wp-content/uploads/2025/12/board-brilliant-senior-gaming-hour.webp
END:VEVENT
BEGIN:VEVENT
DTSTART;TZID=America/New_York:20260423T113000
DTEND;TZID=America/New_York:20260423T220000
DTSTAMP:20260424T073836
CREATED:20260213T182822Z
LAST-MODIFIED:20260213T182822Z
UID:10006141-1776943800-1776981600@sullivancatskills.com
SUMMARY:Girl Dinner
DESCRIPTION:Thursdays are for the girlsGrab your besties and come enjoy the girl dinner you really want\, every Thursday at Brew Rock Hill \nSmall Caesar Salad\, Small Parmesan Truffle Fries\, Choice of Martini Cosmo\, Expresso or Dirty!
URL:https://sullivancatskills.com/event/girl-dinner/2026-04-23/
LOCATION:NY
CATEGORIES:Community,Food | Wine | Restaurant
ATTACH;FMTTYPE=image/jpeg:https://sullivancatskills.com/wp-content/uploads/2026/02/Girl_Dinner_Brew.jpeg
END:VEVENT
BEGIN:VEVENT
DTSTART;TZID=America/New_York:20260423T160000
DTEND;TZID=America/New_York:20260423T210000
DTSTAMP:20260424T073836
CREATED:20260121T153415Z
LAST-MODIFIED:20260121T153415Z
UID:10005079-1776960000-1776978000@sullivancatskills.com
SUMMARY:Thirsty Thursday
DESCRIPTION:Half Off: \n\nDraft Beer\nHouse Wine\nWell Cocktails\nSelect Appetizers
URL:https://sullivancatskills.com/event/thirsty-thursday/2026-04-23/
LOCATION:Roscoe Mountain Club\, 100 Fairway Dr\, Roscoe\, NY\, 12776\, United States
CATEGORIES:Community,Food | Wine | Restaurant
ATTACH;FMTTYPE=image/jpeg:https://sullivancatskills.com/wp-content/uploads/2026/01/Thirsty_Thursday.jpeg
END:VEVENT
BEGIN:VEVENT
DTSTART;TZID=America/New_York:20260423T170000
DTEND;TZID=America/New_York:20260423T200000
DTSTAMP:20260424T073836
CREATED:20260325T143630Z
LAST-MODIFIED:20260325T143630Z
UID:10008465-1776963600-1776974400@sullivancatskills.com
SUMMARY:Thursday Music Series: Hector Vito
DESCRIPTION:Join us for another installment of the Thursday Music Series at Catskill Brewery featuring Hector Vito performing live on Thursday\, April 23 2026 from 5:00–8:00 PM. \nSpend the evening in the Catskills with live music\, fresh mountain air\, and award-winning craft beer brewed on site at Catskill Brewery. Hector Vito brings an engaging live performance perfect for a relaxed spring evening in the taproom. \nWhether you’re a local music fan\, visiting the Catskills for the weekend\, or just looking for a great place to unwind after work\, our Thursday Music Series is the perfect way to experience live music in Livingston Manor. \nGrab a pint\, bring some friends\, and enjoy the sound of live music surrounded by the beauty of the Catskill Mountains. \nEvent Details\nArtist: Hector Vito\nDate: Thursday\, April 23\, 2026\nTime: 5:00 PM – 8:00 PM\nLocation: Catskill Brewery\, Livingston Manor\, NY \nWhy Visit Catskill Brewery\nCatskill Brewery is known for its New York State craft beer\, mountain-inspired brewing philosophy\, and welcoming taproom. Our Thursday Music Series highlights talented regional musicians while giving visitors a great reason to explore the Catskills. \nNo cover charge.
URL:https://sullivancatskills.com/event/thursday-music-series-hector-vito/
LOCATION:The Catskill Brewery\, 672 Old Rte 17\, Livingston Manor\, NY\, 12758\, United States
CATEGORIES:Live Music
ATTACH;FMTTYPE=image/jpeg:https://sullivancatskills.com/wp-content/uploads/2026/03/Thursday-Series-Hector-Vito-1920-x-1080-px.jpg
END:VEVENT
BEGIN:VEVENT
DTSTART;TZID=America/New_York:20260423T180000
DTEND;TZID=America/New_York:20260423T200000
DTSTAMP:20260424T073836
CREATED:20251212T183126Z
LAST-MODIFIED:20251212T183126Z
UID:10001990-1776967200-1776974400@sullivancatskills.com
SUMMARY:Reel Good Thursdays
DESCRIPTION:Each screening brings our community together-on screen and in spirit. \n$8 from every ticket sold supports local organizations that have lost funding and those helping families affected by reduced \nSNAP benefits.
URL:https://sullivancatskills.com/event/reel-good-thursdays/2026-04-23/
LOCATION:Hurleyville Art Center\, 219 Main St\, Hurleyville\, NY\, 12747\, United States
ATTACH;FMTTYPE=image/webp:https://sullivancatskills.com/wp-content/uploads/2025/12/Reel-Good-Thursdays_Hurleyville-Arts.webp
END:VEVENT
BEGIN:VEVENT
DTSTART;TZID=America/New_York:20260423T180000
DTEND;TZID=America/New_York:20260423T200000
DTSTAMP:20260424T073836
CREATED:20251217T173716Z
LAST-MODIFIED:20251217T173716Z
UID:10002650-1776967200-1776974400@sullivancatskills.com
SUMMARY:Aerial Yoga
DESCRIPTION:Every Thursday @6pm \nEvery Saturday @11am \nEvery Sunday @12pm
URL:https://sullivancatskills.com/event/aerial-yoga/2026-04-23/
LOCATION:Mountaindale Yoga\, 2 Post Hill rd\, Mountaindale\, NY\, United States
ATTACH;FMTTYPE=image/jpeg:https://sullivancatskills.com/wp-content/uploads/2025/12/Aerial-Yoga.jpg
END:VEVENT
BEGIN:VEVENT
DTSTART;TZID=America/New_York:20260423T180000
DTEND;TZID=America/New_York:20260423T210000
DTSTAMP:20260424T073836
CREATED:20260317T162308Z
LAST-MODIFIED:20260317T162308Z
UID:10008186-1776967200-1776978000@sullivancatskills.com
SUMMARY:Wing Night at The Courtyard
DESCRIPTION:Every Thursday night from 6-9 PM\, The Courtyard in Roscoe serves up wings for just $12. Choose from eight flavors: Mild\, Medium\, Hot\, Garlic Parm\, Honey Garlic\, Everything\, Sweet Chili\, and BBQ. A great weekly excuse to get out and eat well.
URL:https://sullivancatskills.com/event/wing-night-at-the-courtyard/2026-04-23/
LOCATION:The Courtyard Bar\, 182 Rockland Rd\, Roscoe\, NY\, 12776\, United States
ATTACH;FMTTYPE=image/jpeg:https://sullivancatskills.com/wp-content/uploads/2026/03/wing-night-courtyard.jpeg
END:VEVENT
BEGIN:VEVENT
DTSTART;TZID=America/New_York:20260423T183000
DTEND;TZID=America/New_York:20260423T203000
DTSTAMP:20260424T073836
CREATED:20260311T194210Z
LAST-MODIFIED:20260311T194210Z
UID:10007765-1776969000-1776976200@sullivancatskills.com
SUMMARY:Trivia Thursdays!
DESCRIPTION:Put your knowledge to the test at Trivia Thursdays at The Homestead Restaurant + Lounge. Starting at 6:30pm each week\, guests can enjoy a fun evening of King Trivia\, compete for prizes\, and gather with friends for great food\, drinks\, and friendly competition.
URL:https://sullivancatskills.com/event/trivia-thursdays/2026-04-23/
LOCATION:The Homestead\, 1040 State Rte 55\, Eldred\, NY\, 12732\, United States
CATEGORIES:Community,Trivia
ATTACH;FMTTYPE=image/jpeg:https://sullivancatskills.com/wp-content/uploads/2026/03/The_Homestead_Trivia_thursdays.jpeg
END:VEVENT
BEGIN:VEVENT
DTSTART;TZID=America/New_York:20260423T183000
DTEND;TZID=America/New_York:20260423T210000
DTSTAMP:20260424T073836
CREATED:20251217T174723Z
LAST-MODIFIED:20260102T185021Z
UID:10002912-1776969000-1776978000@sullivancatskills.com
SUMMARY:Trivia Night at Rafters Tavern
DESCRIPTION:FREE TO PLAY -1-6 PLAYERS/TEAM-FABULOUS PRIZES
URL:https://sullivancatskills.com/event/trivia-night-at-rafters-tavern/2026-04-23/
LOCATION:Rafters Tavern\, 28 Upper Main Street\, Callicoon\, NY\, 12723\, United States
ATTACH;FMTTYPE=image/jpeg:https://sullivancatskills.com/wp-content/uploads/2025/12/Every-Thrusday-Trivia-Night.jpg
END:VEVENT
BEGIN:VEVENT
DTSTART;TZID=America/New_York:20260423T190000
DTEND;TZID=America/New_York:20260423T210000
DTSTAMP:20260424T073836
CREATED:20260304T153807Z
LAST-MODIFIED:20260304T153807Z
UID:10006857-1776970800-1776978000@sullivancatskills.com
SUMMARY:Zumba Dance Fitness Club
DESCRIPTION:Get moving with Zumba Dance Fitness with Blanca at HPAC! Starting March 5\, join this fun\, high-energy workout every Thursday at 7 PM—no dance experience needed. Just bring comfortable workout clothes\, supportive shoes\, water\, and your energy for a great night of music\, movement\, and fitness. $10 per class\, with preregistration recommended and walk-ins welcome. 💃🎶
URL:https://sullivancatskills.com/event/zumba-dance-fitness-club/2026-04-23/
LOCATION:Hurleyville Art Center\, 219 Main St\, Hurleyville\, NY\, 12747\, United States
CATEGORIES:Classes,Community,Health | Wellness
ATTACH;FMTTYPE=image/jpeg:https://sullivancatskills.com/wp-content/uploads/2026/03/HPAC_Zumba_Fitness.jpeg
END:VEVENT
BEGIN:VEVENT
DTSTART;TZID=America/New_York:20260423T200000
DTEND;TZID=America/New_York:20260424T000000
DTSTAMP:20260424T073836
CREATED:20260102T190117Z
LAST-MODIFIED:20260115T183106Z
UID:10003779-1776974400-1776988800@sullivancatskills.com
SUMMARY:Open Mic at The Dale
DESCRIPTION:Every Thursday around 8pm\, come enjoy the music or bring your own instrument!
URL:https://sullivancatskills.com/event/open-mic-at-the-dale/2026-04-23/
LOCATION:NY
CATEGORIES:Live Music
ATTACH;FMTTYPE=image/jpeg:https://sullivancatskills.com/wp-content/uploads/2026/01/Dale-karaoke-pic.jpg
END:VEVENT
BEGIN:VEVENT
DTSTART;TZID=America/New_York:20260424T093000
DTEND;TZID=America/New_York:20260424T103000
DTSTAMP:20260424T073836
CREATED:20251212T181358Z
LAST-MODIFIED:20251212T181358Z
UID:10001469-1777023000-1777026600@sullivancatskills.com
SUMMARY:Mat Pilates With Aly Steigart
DESCRIPTION:Join us for weekly Mat Pilates sessions led by Aly Steingart at the Hurleyville Performing Arts Centre. These low-impact\, full-body workouts focus on building core strength\, enhancing flexibility\, and improving posture. Through a series of controlled movements performed on a mat\, you’ll engage in exercises designed to strengthen and lengthen muscles\, increase body awareness\, and promote balance. Aly provides modifications to ensure everyone can participate comfortably\, making these classes suitable for all fitness levels. Whether you’re new to Pilates or looking to deepen your practice\, these sessions offer a supportive environment to connect mind and body.
URL:https://sullivancatskills.com/event/mat-pilates-with-aly-steigart/2026-04-24/
LOCATION:NY
ATTACH;FMTTYPE=image/webp:https://sullivancatskills.com/wp-content/uploads/2025/12/Every-Friday_HPAC_Mat-Pilates.webp
END:VEVENT
BEGIN:VEVENT
DTSTART;TZID=America/New_York:20260424T130000
DTEND;TZID=America/New_York:20260424T160000
DTSTAMP:20260424T073836
CREATED:20260325T162634Z
LAST-MODIFIED:20260325T162837Z
UID:10008473-1777035600-1777046400@sullivancatskills.com
SUMMARY:Dungeons & Dragons Monthly Game
DESCRIPTION:Join a new monthly Dungeons & Dragons group at the Mamakating Environmental Education Center. Session 0 kicks off on Friday\, April 24 at 1 pm\, where participants can learn the game and create characters. Free for the first session\, with future games $5.
URL:https://sullivancatskills.com/event/dungeons-dragons-monthly-game/2026-04-24/
LOCATION:Mamakating Enviornmental Education Center\, 762 South Road\, Wurtsboro\, NY\, 12790\, United States
CATEGORIES:Community
ATTACH;FMTTYPE=image/jpeg:https://sullivancatskills.com/wp-content/uploads/2026/03/DD_Game_MEEC_424-1.jpeg
END:VEVENT
BEGIN:VEVENT
DTSTART;TZID=America/New_York:20260424T180000
DTEND;TZID=America/New_York:20260424T200000
DTSTAMP:20260424T073836
CREATED:20260123T143525Z
LAST-MODIFIED:20260123T143525Z
UID:10005333-1777053600-1777060800@sullivancatskills.com
SUMMARY:Rock Band Jam Monthly Music Drop-in for Adults
DESCRIPTION:November 21\, 2025 – February 27\, 2026\n6:00 – 8:00 PM \nIs your bass line in need of a backbeat? Are you a vocalist looking to take your concerts out of the shower? \nThe adult Rock Band Jam is for you! \nRock Band Jam at Bethel Woods is a monthly drop-in for musicians looking to connect with others for a drop-in pick-up session. Two studio rooms provide amps\, instruments\, microphones\, and teaching artists for support to facilitate a rock-led set list or a psychedelic jam session. Bring your favorite songs or drop in and enjoy the vibe. \nThis is a relaxed and judgment-free jamming experience! \nYour suggested donation supports the education programs for kids at Bethel Woods.  \n$20 (GA) | $15 (Member) Suggested donation per session
URL:https://sullivancatskills.com/event/rock-band-jam-monthly-music-drop-in-for-adults/2026-04-24/
LOCATION:Bethel Woods Center For The Arts\, 200 Hurd Rd.\, Bethel\, NY\, 12720\, United States
CATEGORIES:Classes,Live Music
END:VEVENT
BEGIN:VEVENT
DTSTART;TZID=America/New_York:20260424T180000
DTEND;TZID=America/New_York:20260424T200000
DTSTAMP:20260424T073836
CREATED:20260408T164244Z
LAST-MODIFIED:20260408T164244Z
UID:10009713-1777053600-1777060800@sullivancatskills.com
SUMMARY:Revolutionary War Film Fest
DESCRIPTION:Step into history during this multi-day film festival featuring screenings centered on the Revolutionary War. Each event includes social time\, exhibits\, and discussions\, offering an immersive and educational experience for history enthusiasts. \nPre Registration is Required
URL:https://sullivancatskills.com/event/revolutionary-war-film-fest/2026-04-24/
LOCATION:NY
CATEGORIES:Informative,Theatre | Performing Arts
ATTACH;FMTTYPE=image/jpeg:https://sullivancatskills.com/wp-content/uploads/2026/04/Revolutionary_War_Film_Fest_424-26-1.jpeg
END:VEVENT
BEGIN:VEVENT
DTSTART;TZID=America/New_York:20260424T210000
DTEND;TZID=America/New_York:20260425T020000
DTSTAMP:20260424T073836
CREATED:20251202T021229Z
LAST-MODIFIED:20260102T185523Z
UID:10001134-1777064400-1777082400@sullivancatskills.com
SUMMARY:Karaoke at The Dale Pizza & Beer
DESCRIPTION:Recurring weekly on Friday. Starting: 9:00 PM at the Dale Pizza
URL:https://sullivancatskills.com/event/karaoke-night-party-the-dale-pizza-beer/2026-04-24/
LOCATION:The Dale PIzza\, 4 Old Post Rd\, Mt Dale\, NY\, United States
CATEGORIES:Arts | Culture,Food | Wine | Restaurant
ATTACH;FMTTYPE=image/webp:https://sullivancatskills.com/wp-content/uploads/2025/12/karaoke-Friday-Dale.webp
END:VEVENT
BEGIN:VEVENT
DTSTART;TZID=America/New_York:20260424T220000
DTEND;TZID=America/New_York:20260425T020000
DTSTAMP:20260424T073836
CREATED:20260102T185924Z
LAST-MODIFIED:20260115T200833Z
UID:10004040-1777068000-1777082400@sullivancatskills.com
SUMMARY:Karaoke at Van Smokey
DESCRIPTION:Every Friday starting at 9pm\, bar open late
URL:https://sullivancatskills.com/event/karaoke-at-van-smokey/2026-04-24/
LOCATION:Van Smokey\, 87 Debruce Rd\, Livingston Manor\, 12758\, United States
CATEGORIES:Live Music
ATTACH;FMTTYPE=image/jpeg:https://sullivancatskills.com/wp-content/uploads/2026/01/van-smokey-karaoke.jpg
END:VEVENT
BEGIN:VEVENT
DTSTART;VALUE=DATE:20260425
DTEND;VALUE=DATE:20260511
DTSTAMP:20260424T073836
CREATED:20260402T173442Z
LAST-MODIFIED:20260402T173442Z
UID:10009350-1777075200-1778457599@sullivancatskills.com
SUMMARY:Catskills Book Trail
DESCRIPTION:Discover indie shops and literary sites in the Catskills during a spring bookstore crawl. \n\n\n\n\n\n\n\n\n\n\n\n\nThe Catskills Book Trail kicks off on Independent Bookstore Day on Saturday\, April 25 and ending on Mother’s Day\, Sunday\, May 10. \nPick up a passport at a participating location\, and visit as many stores as possible during the two week period\, collecting a stamp at each location. Collect stamps\, win prizes!
URL:https://sullivancatskills.com/event/catskills-book-trail/
LOCATION:NY
CATEGORIES:Literary
ATTACH;FMTTYPE=image/png:https://sullivancatskills.com/wp-content/uploads/2026/04/Untitled-design-9.png
END:VEVENT
BEGIN:VEVENT
DTSTART;TZID=America/New_York:20260425T080000
DTEND;TZID=America/New_York:20260425T090000
DTSTAMP:20260424T073836
CREATED:20260327T162503Z
LAST-MODIFIED:20260327T162503Z
UID:10008556-1777104000-1777107600@sullivancatskills.com
SUMMARY:FO&WL Bird Walk
DESCRIPTION:Celebrate Trails Day with a guided FO&WL Bird Walk along the historic Sullivan O&W Rail Trail on Saturday\, April 25 from 8–9 AM. Starting at the Hurleyville Trailhead\, this free event invites nature lovers to explore local birdlife alongside experts\, followed by a complimentary snack and beverage at Forage & Gather Café for early participants.
URL:https://sullivancatskills.com/event/fowl-bird-walk/
LOCATION:Hurleyville Trailhead\, 214 Main Street\, Hurleyville\, NY\, 12747\, United States
CATEGORIES:Community,Informative
ATTACH;FMTTYPE=image/jpeg:https://sullivancatskills.com/wp-content/uploads/2026/03/FOWL_Bird_Walk_425.jpeg
END:VEVENT
BEGIN:VEVENT
DTSTART;TZID=America/New_York:20260425T080000
DTEND;TZID=America/New_York:20260425T170000
DTSTAMP:20260424T073836
CREATED:20260128T164013Z
LAST-MODIFIED:20260128T164636Z
UID:10005371-1777104000-1777136400@sullivancatskills.com
SUMMARY:Liberty Mall Farmers Market
DESCRIPTION:CALL 845-539-5008 or Text 518-322-2067 \nFOR MORE INFORMATION
URL:https://sullivancatskills.com/event/liberty-mall-farmers-market-2/2026-04-25/
LOCATION:Liberty Mall\, 15 Sullivan Ave\, Liberty\, NY\, 12754\, United States
CATEGORIES:Community,Farmers Markets | AG-Culture
ATTACH;FMTTYPE=image/jpeg:https://sullivancatskills.com/wp-content/uploads/2025/12/SaturdaySunday-2025-2026_Liberty-Market_FarmersFlea-Market.jpg
END:VEVENT
BEGIN:VEVENT
DTSTART;TZID=America/New_York:20260425T090000
DTEND;TZID=America/New_York:20260425T100000
DTSTAMP:20260424T073836
CREATED:20260406T165208Z
LAST-MODIFIED:20260406T165208Z
UID:10009368-1777107600-1777111200@sullivancatskills.com
SUMMARY:Zumba with Nicole & Karen – Saturday Pop Up April Series
DESCRIPTION:You asked for it… and here it is  Saturday Zumba for a LIMITED TIME April Pop-Up Series!\nStart your weekend feeling energized\, confident\, and AMAZING \n⸻\n When:Saturdays in April 9:00 AM\n Where:5077 SR 52Jeffersonville\, NY 12748\nCost:$10 per class\n What to Expect: Fun\, high-energy Zumba A total judge-free zone All levels welcome The best way to kick off your weekend.Grab a friend or come solo\, just walk through the door and we’ll take care of the rest \nWho’s coming this Saturday?!
URL:https://sullivancatskills.com/event/zumba-with-nicole-karen-saturday-pop-up-april-series/2026-04-25/
LOCATION:Jeffersonville\, Main Street\, Jeffersonville\, NY\, 12748\, United States
CATEGORIES:Health | Wellness
ATTACH;FMTTYPE=image/jpeg:https://sullivancatskills.com/wp-content/uploads/2026/04/660159449_10162752532153244_4346396234816242284_n.jpg
END:VEVENT
BEGIN:VEVENT
DTSTART;TZID=America/New_York:20260425T100000
DTEND;TZID=America/New_York:20260425T120000
DTSTAMP:20260424T073836
CREATED:20251212T182744Z
LAST-MODIFIED:20251212T182744Z
UID:10001730-1777111200-1777118400@sullivancatskills.com
SUMMARY:Ratty Books Story Club
DESCRIPTION:Every Monday and Saturday morning\, we have Story Club! Setup begins at 10am\, and we begin reading at 10:15. Kids of all ages welcome. Always free\, always a great time with good people.
URL:https://sullivancatskills.com/event/ratty-books-story-club/2026-04-25/
LOCATION:NY
ATTACH;FMTTYPE=image/webp:https://sullivancatskills.com/wp-content/uploads/2025/12/Every-Saturday_Ratty-Books-Jeff_Story-Club.webp
END:VEVENT
BEGIN:VEVENT
DTSTART;TZID=America/New_York:20260425T100000
DTEND;TZID=America/New_York:20260425T160000
DTSTAMP:20260424T073836
CREATED:20260415T192109Z
LAST-MODIFIED:20260415T192109Z
UID:10009738-1777111200-1777132800@sullivancatskills.com
SUMMARY:Earth Day
DESCRIPTION:Celebrate Earth Day at the historic Callicoon Depot on Saturday\, April 25th from 10 a.m. to 4 p.m.\, rain or shine. This community-focused event brings together local organizations dedicated to sustainability and environmental stewardship in the heart of Callicoon. \nJoin in for a variety of engaging activities\, including the annual Upper Delaware Litter Sweep from 11 a.m. to 1 p.m.\, where volunteers help clean up the hamlet with all supplies provided. The Outside Institute will also host guided nature walks at 11 a.m. and 2 p.m.\, offering an educational look at the region’s diverse ecosystem. \nParticipating organizations include Catskill Mountainkeeper\, Sullivan County Soil & Water Conservation District\, Sullivan County Department of Public Health\, Delaware Highlands Conservancy\, The Outside Institute\, Farm Arts Collective\, and Homestead School. \nSpend the day connecting with your community and learning ways to support a healthier planet.
URL:https://sullivancatskills.com/event/earth-day/
LOCATION:The Callicoon Depot\, 40 Lower Main St\, Caliicoon\, NY\, 12723\, United States
CATEGORIES:Community,Nature,Outdoor Events
ATTACH;FMTTYPE=image/jpeg:https://sullivancatskills.com/wp-content/uploads/2026/04/Earth_Day_425.jpeg
END:VEVENT
END:VCALENDAR