BEGIN:VCALENDAR
VERSION:2.0
PRODID:-//Sullivan Catskills - ECPv6.15.20//NONSGML v1.0//EN
CALSCALE:GREGORIAN
METHOD:PUBLISH
X-ORIGINAL-URL:https://sullivancatskills.com
X-WR-CALDESC:Events for Sullivan Catskills
REFRESH-INTERVAL;VALUE=DURATION:PT1H
X-Robots-Tag:noindex
X-PUBLISHED-TTL:PT1H
BEGIN:VTIMEZONE
TZID:America/New_York
BEGIN:DAYLIGHT
TZOFFSETFROM:-0500
TZOFFSETTO:-0400
TZNAME:EDT
DTSTART:20250309T070000
END:DAYLIGHT
BEGIN:STANDARD
TZOFFSETFROM:-0400
TZOFFSETTO:-0500
TZNAME:EST
DTSTART:20251102T060000
END:STANDARD
BEGIN:DAYLIGHT
TZOFFSETFROM:-0500
TZOFFSETTO:-0400
TZNAME:EDT
DTSTART:20260308T070000
END:DAYLIGHT
BEGIN:STANDARD
TZOFFSETFROM:-0400
TZOFFSETTO:-0500
TZNAME:EST
DTSTART:20261101T060000
END:STANDARD
BEGIN:DAYLIGHT
TZOFFSETFROM:-0500
TZOFFSETTO:-0400
TZNAME:EDT
DTSTART:20270314T070000
END:DAYLIGHT
BEGIN:STANDARD
TZOFFSETFROM:-0400
TZOFFSETTO:-0500
TZNAME:EST
DTSTART:20271107T060000
END:STANDARD
END:VTIMEZONE
BEGIN:VEVENT
DTSTART;TZID=America/New_York:20260221T100000
DTEND;TZID=America/New_York:20260221T150000
DTSTAMP:20260420T045706
CREATED:20260123T155123Z
LAST-MODIFIED:20260128T194313Z
UID:10005349-1771668000-1771686000@sullivancatskills.com
SUMMARY:Ice Skating!
DESCRIPTION:Bring your friends and family for ice skating fun at The Grahamsville Fairgrounds!
URL:https://sullivancatskills.com/event/ice-skating/2026-02-21/
LOCATION:Grahamsville Fair Ground\, 8230 State Rte 52\, Grahamsville\, NY\, 12740\, United States
CATEGORIES:Community,Outdoor Events
ATTACH;FMTTYPE=image/jpeg:https://sullivancatskills.com/wp-content/uploads/2026/01/Ice_Skating_Schedule.jpeg
END:VEVENT
BEGIN:VEVENT
DTSTART;TZID=America/New_York:20260221T100000
DTEND;TZID=America/New_York:20260221T170000
DTSTAMP:20260420T045706
CREATED:20260128T164013Z
LAST-MODIFIED:20260128T164636Z
UID:10005374-1771668000-1771693200@sullivancatskills.com
SUMMARY:Liberty Mall Farmers Market
DESCRIPTION:CALL 845-539-5008 or Text 518-322-2067 \nFOR MORE INFORMATION
URL:https://sullivancatskills.com/event/liberty-mall-farmers-market-2/2026-02-21/
LOCATION:Liberty Mall\, 15 Sullivan Ave\, Liberty\, NY\, 12754\, United States
CATEGORIES:Community,Farmers Markets | AG-Culture
ATTACH;FMTTYPE=image/jpeg:https://sullivancatskills.com/wp-content/uploads/2025/12/SaturdaySunday-2025-2026_Liberty-Market_FarmersFlea-Market.jpg
END:VEVENT
BEGIN:VEVENT
DTSTART;TZID=America/New_York:20260221T120000
DTEND;TZID=America/New_York:20260221T150000
DTSTAMP:20260420T045706
CREATED:20251223T163508Z
LAST-MODIFIED:20251223T163611Z
UID:10003170-1771675200-1771686000@sullivancatskills.com
SUMMARY:Beginner Fly Tying Class
DESCRIPTION:Learn to tie flies. No experience required: all materials and tools provided.
URL:https://sullivancatskills.com/event/beginner-fly-tying-class/2026-02-21/
LOCATION:Dette Flies\, 13 Main Street\, Livingston Manor\, NY\, 12758\, United States
CATEGORIES:Fishing | Hunting
ATTACH;FMTTYPE=image/png:https://sullivancatskills.com/wp-content/uploads/2025/12/1.26-upcoming-events-scaled.png
ORGANIZER;CN="Dette Flies":MAILTO:flyshop@detteflies.com
END:VEVENT
BEGIN:VEVENT
DTSTART;TZID=America/New_York:20260221T130000
DTEND;TZID=America/New_York:20260221T140000
DTSTAMP:20260420T045706
CREATED:20260211T193120Z
LAST-MODIFIED:20260211T193120Z
UID:10005863-1771678800-1771682400@sullivancatskills.com
SUMMARY:Tracks And Other Signs Of Wild Life
DESCRIPTION:Can you tell a dog footprint from a coyote or fox footprint? Learn how to identify animal tracks and other signs of animal activity. Make a Track Booklet to take home\, then join us for a walk along the woodland trail at MEEC to search for signs of wildlife activity! \nPlease call to register. (845)-644-5014 \nRecommended for all ages. Wear clothing and boots appropriate for winter weather.
URL:https://sullivancatskills.com/event/tracks-and-other-signs-of-wild-life/
LOCATION:Mamakating Enviornmental Education Center\, 762 South Road\, Wurtsboro\, NY\, 12790\, United States
CATEGORIES:Classes,Informative,Outdoor Events
ATTACH;FMTTYPE=image/jpeg:https://sullivancatskills.com/wp-content/uploads/2026/02/Track_Signs_Of_Wildlife.jpeg
END:VEVENT
BEGIN:VEVENT
DTSTART;TZID=America/New_York:20260221T130000
DTEND;TZID=America/New_York:20260221T190000
DTSTAMP:20260420T045706
CREATED:20260108T185422Z
LAST-MODIFIED:20260108T185422Z
UID:10004753-1771678800-1771700400@sullivancatskills.com
SUMMARY:Facial Pop up!
DESCRIPTION:Susie Bowers of Synchronicity Holistics will be popping at Bodies + Plants for monthly facials throughout the winter. She will be offering 30 Minute Facials and 60 Minute Facials. Our serene loft provides the perfect space to relax\, recharge\, and care for your skin during the colder months. We hope you’ll take this opportunity to slow down and treat yourself to a bit of seasonal self-care. \nShe’ll be offering facials on the following Saturdays from 1pm-7pm: 1/24\, 2/21\, and 3/21. Those interested in booking should email Susie at synchronicity.herbals@gmail.com or text (607) 386-1333.
URL:https://sullivancatskills.com/event/facial-pop-up/2026-02-21/
LOCATION:NY
CATEGORIES:Health | Wellness
ATTACH;FMTTYPE=image/jpeg:https://sullivancatskills.com/wp-content/uploads/2026/01/1.jpg
END:VEVENT
BEGIN:VEVENT
DTSTART;TZID=America/New_York:20260222T080000
DTEND;TZID=America/New_York:20260222T170000
DTSTAMP:20260420T045706
CREATED:20260204T192631Z
LAST-MODIFIED:20260204T192631Z
UID:10005845-1771747200-1771779600@sullivancatskills.com
SUMMARY:Disco Nights At The Ice Rink
DESCRIPTION:When the sun sets\, the lights come up. ⛸️🎶 Join us 𝗲𝘃𝗲𝗿𝘆 𝗙𝗿𝗶𝗱𝗮𝘆 & 𝗦𝗮𝘁𝘂𝗿𝗱𝗮𝘆 𝗶𝗻 𝗙𝗲𝗯𝗿𝘂𝗮𝗿𝘆 as music and disco lights transform the night.⁠\n⁠Fridays & Saturdays in February⁠\n⁠❄️𝗢𝗣𝗘𝗡 𝗦𝗞𝗔𝗧𝗘 𝗥𝗜𝗡𝗞 𝗛𝗢𝗨𝗥𝗦⁠\n-Thursday & Friday 4-8PM⁠\n-Saturday 12-8PM⁠\n-Sunday 12-4PM⁠\n⁠\nFor questions\, please contact the club: (607) 498-5000⁠ \nContact us for Private Rink Parties or Group Packages \n$10 Passes to access the rink \n$5 Rental Fee for Skates
URL:https://sullivancatskills.com/event/disco-nights-at-the-ice-rink/2026-02-22/
LOCATION:Roscoe Mountain Club\, 100 Fairway Dr\, Roscoe\, NY\, 12776\, United States
CATEGORIES:Community,Outdoor Events
ATTACH;FMTTYPE=image/jpeg:https://sullivancatskills.com/wp-content/uploads/2026/02/Disco_Night_Ice_Skating.jpeg
END:VEVENT
BEGIN:VEVENT
DTSTART;TZID=America/New_York:20260222T090000
DTEND;TZID=America/New_York:20260222T120000
DTSTAMP:20260420T045706
CREATED:20251212T183840Z
LAST-MODIFIED:20251212T183840Z
UID:10002375-1771750800-1771761600@sullivancatskills.com
SUMMARY:Sunday Morning Knitting Circle
DESCRIPTION:BRING YOUR PROJECT FOR A FEW HOURS OF CRAFTING\, COFFEE\, AND COMPANIONSHIP ON SUNDAY MORNINGS. ARRIVE WHENEVER\, DEPART WHENEVER. \nALL CRAFTS ARE WELCOME\, ABSOLUTE BEGINNERS ARe ENCOURAGED TO JOIN. KNITTING HELP BY CAM SHAW.
URL:https://sullivancatskills.com/event/sunday-morning-knitting-circle/2026-02-22/
LOCATION:Vintage Passtimes\, 1975 Old Route 17\, Roscoe\, NY\, 12776\, United States
ATTACH;FMTTYPE=image/webp:https://sullivancatskills.com/wp-content/uploads/2025/12/Sunday-Mornings_Roscoe_-Sunday-Morning-Knitting-Circle.webp
END:VEVENT
BEGIN:VEVENT
DTSTART;TZID=America/New_York:20260222T090000
DTEND;TZID=America/New_York:20260222T130000
DTSTAMP:20260420T045706
CREATED:20251202T015133Z
LAST-MODIFIED:20260120T151251Z
UID:10000282-1771750800-1771765200@sullivancatskills.com
SUMMARY:Sunday Brunch at Roscoe Mountain Club
DESCRIPTION:Gather with family and friends every Sunday for a delicious brunch experience at the 1907! From savory bites to sweet treats\, we’ve got something for everyone. \nReserve your spot: Call 607-498-5000
URL:https://sullivancatskills.com/event/sunday-brunch-at-roscoe-mountain-club/2026-02-22/
LOCATION:Roscoe Mountain Club\, 100 Fairway Dr\, Roscoe\, NY\, 12776\, United States
CATEGORIES:Arts | Culture,Food | Wine | Restaurant
ATTACH;FMTTYPE=image/jpeg:https://sullivancatskills.com/wp-content/uploads/2025/12/RMC-Brunch.jpeg
END:VEVENT
BEGIN:VEVENT
DTSTART;TZID=America/New_York:20260222T100000
DTEND;TZID=America/New_York:20260222T150000
DTSTAMP:20260420T045706
CREATED:20260123T155123Z
LAST-MODIFIED:20260128T194313Z
UID:10005350-1771754400-1771772400@sullivancatskills.com
SUMMARY:Ice Skating!
DESCRIPTION:Bring your friends and family for ice skating fun at The Grahamsville Fairgrounds!
URL:https://sullivancatskills.com/event/ice-skating/2026-02-22/
LOCATION:Grahamsville Fair Ground\, 8230 State Rte 52\, Grahamsville\, NY\, 12740\, United States
CATEGORIES:Community,Outdoor Events
ATTACH;FMTTYPE=image/jpeg:https://sullivancatskills.com/wp-content/uploads/2026/01/Ice_Skating_Schedule.jpeg
END:VEVENT
BEGIN:VEVENT
DTSTART;TZID=America/New_York:20260222T100000
DTEND;TZID=America/New_York:20260222T170000
DTSTAMP:20260420T045706
CREATED:20260128T164013Z
LAST-MODIFIED:20260128T164636Z
UID:10005375-1771754400-1771779600@sullivancatskills.com
SUMMARY:Liberty Mall Farmers Market
DESCRIPTION:CALL 845-539-5008 or Text 518-322-2067 \nFOR MORE INFORMATION
URL:https://sullivancatskills.com/event/liberty-mall-farmers-market-2/2026-02-22/
LOCATION:Liberty Mall\, 15 Sullivan Ave\, Liberty\, NY\, 12754\, United States
CATEGORIES:Community,Farmers Markets | AG-Culture
ATTACH;FMTTYPE=image/jpeg:https://sullivancatskills.com/wp-content/uploads/2025/12/SaturdaySunday-2025-2026_Liberty-Market_FarmersFlea-Market.jpg
END:VEVENT
BEGIN:VEVENT
DTSTART;TZID=America/New_York:20260222T110000
DTEND;TZID=America/New_York:20260222T140000
DTSTAMP:20260420T045706
CREATED:20260105T163819Z
LAST-MODIFIED:20260105T163847Z
UID:10004353-1771758000-1771768800@sullivancatskills.com
SUMMARY:Callicoon Farmers market
DESCRIPTION:At the Callicoon Farmers’ Market\, you will find many farms in addition to food producers and artisans offering wine\, hard cider\, pasta\, condiments\, prepared foods\, baked goods\, ice cream\, jam\, honey\, maple syrup\, herbal tea blends\, skin care products\, pottery\, woodwork and much more. \n 
URL:https://sullivancatskills.com/event/callicoon-farmers-market/2026-02-22/
LOCATION:NY
CATEGORIES:Farmers Markets | AG-Culture
ATTACH;FMTTYPE=image/jpeg:https://sullivancatskills.com/wp-content/uploads/2026/01/Callicoon_Farmers_Market.jpg
END:VEVENT
BEGIN:VEVENT
DTSTART;TZID=America/New_York:20260222T120000
DTEND;TZID=America/New_York:20260222T130000
DTSTAMP:20260420T045706
CREATED:20260204T141550Z
LAST-MODIFIED:20260204T141550Z
UID:10005827-1771761600-1771765200@sullivancatskills.com
SUMMARY:Lia & Bizzy Talk Toons at the 108
DESCRIPTION:Lia Strasser and Bizzy Coy\, Sullivan County’s cartoonist duo\, share their process. Come for The New Yorker tidbits\, insider advice\, and an interactive Cartoon Caption Contest game.
URL:https://sullivancatskills.com/event/lia-bizzy-talk-toons-at-the-108/
LOCATION:The 108\, 108 Main Street\, Narrowsburg\, 12764\, United States
CATEGORIES:Comedy,Literary,Museums | Art Galleries
ATTACH;FMTTYPE=image/jpeg:https://sullivancatskills.com/wp-content/uploads/2026/02/SOCIAL-108_LiaBizzy_3x4_d.jpeg
END:VEVENT
BEGIN:VEVENT
DTSTART;TZID=America/New_York:20260222T140000
DTEND;TZID=America/New_York:20260222T190000
DTSTAMP:20260420T045706
CREATED:20260130T191633Z
LAST-MODIFIED:20260130T191633Z
UID:10005651-1771768800-1771786800@sullivancatskills.com
SUMMARY:Food Truck: Cousins Maine Lobster
DESCRIPTION:Cousins Maine Lobster Food Truck comes to Catskill Brewery\n\n\n\nGet ready to feast by the taproom! 🦞 On Sunday\, February 22\, 2026\, Catskill Brewery is excited to welcome the Cousins Maine Lobster food truck — bringing the taste of the Maine coast straight to Livingston Manor. \nWhat to Expect:\nCousins Maine Lobster is a beloved food truck brand known nationwide for serving up fresh\, sustainably sourced Maine lobster in a variety of crave-worthy styles — from classic lobster rolls to bold lobster tacos\, rich bisques\, grilled cheese\, and more. \nWhy It’s Worth the Trip:\nWhether you’re a lobster roll purist or love trying every creative seafood twist\, this is your chance to indulge in premium lobster dishes without leaving the Catskills. Pair your meal with one of Catskill Brewery’s handcrafted beers — from crisp IPAs to smooth stouts — for the perfect combination of coast-meets-craft. \nEvent Details:\n📅 Date: Sunday\, February 22\, 2026\n⏰ Time: Until sold out!\n📍 Location: Catskill Brewery — 672 Old Route 17\, Livingston Manor\, NY\n🍺 No reservations needed — just show up hungry and ready to enjoy great food\, beers\, and good company!
URL:https://sullivancatskills.com/event/food-truck-cousins-maine-lobster/
LOCATION:The Catskill Brewery\, 672 Old Rte 17\, Livingston Manor\, NY\, 12758\, United States
CATEGORIES:Food | Wine | Restaurant,Food Festivals
ATTACH;FMTTYPE=image/png:https://sullivancatskills.com/wp-content/uploads/2026/01/2.22-Cousins-Maine.png
END:VEVENT
BEGIN:VEVENT
DTSTART;TZID=America/New_York:20260222T150000
DTEND;TZID=America/New_York:20260222T220000
DTSTAMP:20260420T045706
CREATED:20251202T020120Z
LAST-MODIFIED:20251202T024630Z
UID:10000804-1771772400-1771797600@sullivancatskills.com
SUMMARY:All Day Happy Hour
DESCRIPTION:Enjoy ALL-DAY Happy Hour deals at The Lounge every Sunday\, starting at 3 p.m.!
URL:https://sullivancatskills.com/event/all-day-happy-hour/2026-02-22/
LOCATION:The Eldred Preserve\, 1040 State Route 55\, Eldred\, NY\, 12732\, United States
CATEGORIES:Arts | Culture,Food | Wine | Restaurant
ATTACH;FMTTYPE=image/webp:https://sullivancatskills.com/wp-content/uploads/2025/12/Sunday-Eldred-happy-hour.webp
END:VEVENT
BEGIN:VEVENT
DTSTART;TZID=America/New_York:20260223T100000
DTEND;TZID=America/New_York:20260223T110000
DTSTAMP:20260420T045706
CREATED:20251229T205456Z
LAST-MODIFIED:20251229T205456Z
UID:10003718-1771840800-1771844400@sullivancatskills.com
SUMMARY:Caregiver Cafe Support Group
DESCRIPTION:Take a break while you: \n\nLearn about tips for self-care\nShare caregiving strategies\nConnect with others\nEnjoy a light snack on us!\n\nRegistration Required: \nUse the QR code below or go to https://tinyurl.com/5n6mtpy4
URL:https://sullivancatskills.com/event/caregiver-cafe-support-group/2026-02-23/
LOCATION:NY
CATEGORIES:Classes,Community
ATTACH;FMTTYPE=image/jpeg:https://sullivancatskills.com/wp-content/uploads/2025/12/Caregiver_Support_Group_CCE.jpg
END:VEVENT
BEGIN:VEVENT
DTSTART;TZID=America/New_York:20260223T180000
DTEND;TZID=America/New_York:20260223T190000
DTSTAMP:20260420T045706
CREATED:20260108T185523Z
LAST-MODIFIED:20260108T185523Z
UID:10004687-1771869600-1771873200@sullivancatskills.com
SUMMARY:Don’t Postpone Your Joy:  How to Live in the Moment Meditation Series in Hurleyville NY 2026
DESCRIPTION:Don’t Postpone Your Joy: How to Live in the Moment Meditation Series\nat Hurleyville Performing Arts Center\n219 Main Street | Hurleyville\, NY\nMondays at 6pm | January 5\, 2026 — February 16\, 2026\nPresented by Kadampa Meditation Center New York \nDon’t postpone your joy. Real confidence comes from learning to live in the present. On the other hand\, our self-esteem is obliterated when we sit around waiting to be happy until ‘everything is just right’. Our emotions become a rollercoaster dictated by things we can minimally or cannot at all control. \n  As we learn the inner science of training the mind\, we discover the happiness\, peace and meaning we were looking for was always found within\, right here. This makes us profoundly confident and strong\, which gives us strength to help ourselves and others. Everyone welcome! \nWeekly Topics\nJanuary 5: Meditations for Being Present\nJanuary 12: Allowing Yourself To Be Happy\nJanuary 19: Overcoming Craving and Discontent\nJanuary 26: How to Stop Obsessing about the Future\nFebruary 2: Letting Go of the Past\nFebruary 9: Love without Pain\nFebruary 16: Healing Difficult Relationships \nGreat for Beginners. We sit in chairs.\n$10 per class\, no registration\, pay at door.\nStay for tea and conversation after class. \nFor more information call 845-856-9000
URL:https://sullivancatskills.com/event/dont-postpone-your-joy-how-to-live-in-the-moment-meditation-series-in-hurleyville-ny-2026/2026-02-23/
LOCATION:Hurleyville Art Center\, 219 Main St\, Hurleyville\, NY\, 12747\, United States
CATEGORIES:Classes,Health | Wellness
ATTACH;FMTTYPE=image/png:https://sullivancatskills.com/wp-content/uploads/2026/01/meditation_selfhelp.png
END:VEVENT
BEGIN:VEVENT
DTSTART;TZID=America/New_York:20260224T170000
DTEND;TZID=America/New_York:20260224T210000
DTSTAMP:20260420T045706
CREATED:20260218T171136Z
LAST-MODIFIED:20260218T171136Z
UID:10006398-1771952400-1771966800@sullivancatskills.com
SUMMARY:Paint & Sip
DESCRIPTION:Join us for a cozy Paint & Sip at La Cigogne on February 24th! For $45 per person\, enjoy all painting supplies plus one drink (wine\, beer\, or a signature cocktail) as our sous chef Hannah guides you through creating a beautiful Eiffel Tower masterpiece. Beginner friendly with limited seats available—RSVP by February 18th!
URL:https://sullivancatskills.com/event/paint-sip/
LOCATION:La Cigogne\, 90 Main Street\, Narrowsburg\, NY\, 12764\, United States
CATEGORIES:Arts | Culture,Classes,Community
ATTACH;FMTTYPE=image/jpeg:https://sullivancatskills.com/wp-content/uploads/2026/02/Paint_And_Sip_La_Cigogne.jpeg
END:VEVENT
BEGIN:VEVENT
DTSTART;TZID=America/New_York:20260224T173000
DTEND;TZID=America/New_York:20260224T193000
DTSTAMP:20260420T045706
CREATED:20260211T200747Z
LAST-MODIFIED:20260211T200747Z
UID:10005866-1771954200-1771961400@sullivancatskills.com
SUMMARY:Get Down With Fly Tying
DESCRIPTION:Join us  every Tuesday for fly tying at Upward Brewing!
URL:https://sullivancatskills.com/event/get-down-with-fly-tying/2026-02-24/
LOCATION:Upward Brewing\, 171 Main St Box 1015\, Livingston Manor\, NY\, 12758\, United States
CATEGORIES:Classes,Community,Crafts,Food | Wine | Restaurant
ATTACH;FMTTYPE=image/jpeg:https://sullivancatskills.com/wp-content/uploads/2026/02/Get_Down_With_Fly_tying.jpeg
END:VEVENT
BEGIN:VEVENT
DTSTART;TZID=America/New_York:20260225T160000
DTEND;TZID=America/New_York:20260225T210000
DTSTAMP:20260420T045706
CREATED:20260121T151740Z
LAST-MODIFIED:20260121T151740Z
UID:10004809-1772035200-1772053200@sullivancatskills.com
SUMMARY:Pasta Night!
DESCRIPTION:Enjoy a selection of house-prepared pastas at the 1907\, featuring classic Alfredo\, rich bolognese\, or the Chef’s special with assorted pasta options. All dishes are served with warm breadsticks.
URL:https://sullivancatskills.com/event/pasta-night/2026-02-25/
LOCATION:Roscoe Mountain Club\, 100 Fairway Dr\, Roscoe\, NY\, 12776\, United States
ATTACH;FMTTYPE=image/jpeg:https://sullivancatskills.com/wp-content/uploads/2026/01/Pasta_Night.jpeg
END:VEVENT
BEGIN:VEVENT
DTSTART;TZID=America/New_York:20260225T170000
DTEND;TZID=America/New_York:20260225T190000
DTSTAMP:20260420T045706
CREATED:20260218T194417Z
LAST-MODIFIED:20260218T194417Z
UID:10006417-1772038800-1772046000@sullivancatskills.com
SUMMARY:Write Here Write Now
DESCRIPTION:Find your creative flow at Write Here\, Write Now\, a drop-in\, donation-based writers’ room hosted by DVAA Community Arts. Held every 2nd and 4th Wednesday from 5–7 PM at Krause Recital Hall (37 Main St.\, Narrowsburg)\, this welcoming “third place” offers dedicated time and space to write alongside fellow creatives.
URL:https://sullivancatskills.com/event/write-here-write-now/2026-02-25/
LOCATION:Delaware Valley Arts Alliance\, 37 Main St.\, Narrowsburg\, NY\, 12764\, United States
CATEGORIES:Community
ATTACH;FMTTYPE=image/jpeg:https://sullivancatskills.com/wp-content/uploads/2026/02/Write_Here_Write_Now.jpeg
END:VEVENT
BEGIN:VEVENT
DTSTART;TZID=America/New_York:20260226T080000
DTEND;TZID=America/New_York:20260226T170000
DTSTAMP:20260420T045706
CREATED:20260204T192631Z
LAST-MODIFIED:20260204T192631Z
UID:10005846-1772092800-1772125200@sullivancatskills.com
SUMMARY:Disco Nights At The Ice Rink
DESCRIPTION:When the sun sets\, the lights come up. ⛸️🎶 Join us 𝗲𝘃𝗲𝗿𝘆 𝗙𝗿𝗶𝗱𝗮𝘆 & 𝗦𝗮𝘁𝘂𝗿𝗱𝗮𝘆 𝗶𝗻 𝗙𝗲𝗯𝗿𝘂𝗮𝗿𝘆 as music and disco lights transform the night.⁠\n⁠Fridays & Saturdays in February⁠\n⁠❄️𝗢𝗣𝗘𝗡 𝗦𝗞𝗔𝗧𝗘 𝗥𝗜𝗡𝗞 𝗛𝗢𝗨𝗥𝗦⁠\n-Thursday & Friday 4-8PM⁠\n-Saturday 12-8PM⁠\n-Sunday 12-4PM⁠\n⁠\nFor questions\, please contact the club: (607) 498-5000⁠ \nContact us for Private Rink Parties or Group Packages \n$10 Passes to access the rink \n$5 Rental Fee for Skates
URL:https://sullivancatskills.com/event/disco-nights-at-the-ice-rink/2026-02-26/
LOCATION:Roscoe Mountain Club\, 100 Fairway Dr\, Roscoe\, NY\, 12776\, United States
CATEGORIES:Community,Outdoor Events
ATTACH;FMTTYPE=image/jpeg:https://sullivancatskills.com/wp-content/uploads/2026/02/Disco_Night_Ice_Skating.jpeg
END:VEVENT
BEGIN:VEVENT
DTSTART;TZID=America/New_York:20260226T110000
DTEND;TZID=America/New_York:20260226T130000
DTSTAMP:20260420T045706
CREATED:20251202T020806Z
LAST-MODIFIED:20251202T024540Z
UID:10001056-1772103600-1772110800@sullivancatskills.com
SUMMARY:Board & Brilliant Senior Gaming Hour!
DESCRIPTION:Something for Everyone! \nEvery 4th Thursday! 11 AM
URL:https://sullivancatskills.com/event/board-brilliant-senior-gaming-hour/2026-02-26/
LOCATION:Hurleyville Art Center\, 219 Main St\, Hurleyville\, NY\, 12747\, United States
CATEGORIES:Arts | Culture,Community
ATTACH;FMTTYPE=image/webp:https://sullivancatskills.com/wp-content/uploads/2025/12/board-brilliant-senior-gaming-hour.webp
END:VEVENT
BEGIN:VEVENT
DTSTART;TZID=America/New_York:20260226T113000
DTEND;TZID=America/New_York:20260226T220000
DTSTAMP:20260420T045706
CREATED:20260213T182822Z
LAST-MODIFIED:20260213T182822Z
UID:10006133-1772105400-1772143200@sullivancatskills.com
SUMMARY:Girl Dinner
DESCRIPTION:Thursdays are for the girlsGrab your besties and come enjoy the girl dinner you really want\, every Thursday at Brew Rock Hill \nSmall Caesar Salad\, Small Parmesan Truffle Fries\, Choice of Martini Cosmo\, Expresso or Dirty!
URL:https://sullivancatskills.com/event/girl-dinner/2026-02-26/
LOCATION:NY
CATEGORIES:Community,Food | Wine | Restaurant
ATTACH;FMTTYPE=image/jpeg:https://sullivancatskills.com/wp-content/uploads/2026/02/Girl_Dinner_Brew.jpeg
END:VEVENT
BEGIN:VEVENT
DTSTART;TZID=America/New_York:20260226T160000
DTEND;TZID=America/New_York:20260226T210000
DTSTAMP:20260420T045706
CREATED:20260121T153415Z
LAST-MODIFIED:20260121T153415Z
UID:10005071-1772121600-1772139600@sullivancatskills.com
SUMMARY:Thirsty Thursday
DESCRIPTION:Half Off: \n\nDraft Beer\nHouse Wine\nWell Cocktails\nSelect Appetizers
URL:https://sullivancatskills.com/event/thirsty-thursday/2026-02-26/
LOCATION:Roscoe Mountain Club\, 100 Fairway Dr\, Roscoe\, NY\, 12776\, United States
CATEGORIES:Community,Food | Wine | Restaurant
ATTACH;FMTTYPE=image/jpeg:https://sullivancatskills.com/wp-content/uploads/2026/01/Thirsty_Thursday.jpeg
END:VEVENT
BEGIN:VEVENT
DTSTART;TZID=America/New_York:20260226T180000
DTEND;TZID=America/New_York:20260226T200000
DTSTAMP:20260420T045706
CREATED:20251212T183126Z
LAST-MODIFIED:20251212T183126Z
UID:10001982-1772128800-1772136000@sullivancatskills.com
SUMMARY:Reel Good Thursdays
DESCRIPTION:Each screening brings our community together-on screen and in spirit. \n$8 from every ticket sold supports local organizations that have lost funding and those helping families affected by reduced \nSNAP benefits.
URL:https://sullivancatskills.com/event/reel-good-thursdays/2026-02-26/
LOCATION:Hurleyville Art Center\, 219 Main St\, Hurleyville\, NY\, 12747\, United States
ATTACH;FMTTYPE=image/webp:https://sullivancatskills.com/wp-content/uploads/2025/12/Reel-Good-Thursdays_Hurleyville-Arts.webp
END:VEVENT
BEGIN:VEVENT
DTSTART;TZID=America/New_York:20260226T180000
DTEND;TZID=America/New_York:20260226T200000
DTSTAMP:20260420T045706
CREATED:20251217T173716Z
LAST-MODIFIED:20251217T173716Z
UID:10002642-1772128800-1772136000@sullivancatskills.com
SUMMARY:Aerial Yoga
DESCRIPTION:Every Thursday @6pm \nEvery Saturday @11am \nEvery Sunday @12pm
URL:https://sullivancatskills.com/event/aerial-yoga/2026-02-26/
LOCATION:Mountaindale Yoga\, 2 Post Hill rd\, Mountaindale\, NY\, United States
ATTACH;FMTTYPE=image/jpeg:https://sullivancatskills.com/wp-content/uploads/2025/12/Aerial-Yoga.jpg
END:VEVENT
BEGIN:VEVENT
DTSTART;TZID=America/New_York:20260226T180000
DTEND;TZID=America/New_York:20260226T200000
DTSTAMP:20260420T045706
CREATED:20260130T213118Z
LAST-MODIFIED:20260130T213118Z
UID:10005823-1772128800-1772136000@sullivancatskills.com
SUMMARY:Vision Board Workshop
DESCRIPTION:Cris will guide you through the hows and whys of this motivational practice of creating a visual representation of your goals & desires! \nLet’s set new goals\, focus on a new area of your life & refresh your perspective all while enjoying the camaraderie of sisterhood!
URL:https://sullivancatskills.com/event/vision-board-workshop/
LOCATION:Hurleyville Art Center\, 219 Main St\, Hurleyville\, NY\, 12747\, United States
CATEGORIES:Classes,Community,Crafts
ATTACH;FMTTYPE=image/jpeg:https://sullivancatskills.com/wp-content/uploads/2026/01/Vison_Board_Workshop_HPAC.jpeg
END:VEVENT
BEGIN:VEVENT
DTSTART;TZID=America/New_York:20260226T183000
DTEND;TZID=America/New_York:20260226T210000
DTSTAMP:20260420T045706
CREATED:20251217T174723Z
LAST-MODIFIED:20260102T185021Z
UID:10002904-1772130600-1772139600@sullivancatskills.com
SUMMARY:Trivia Night at Rafters Tavern
DESCRIPTION:FREE TO PLAY -1-6 PLAYERS/TEAM-FABULOUS PRIZES
URL:https://sullivancatskills.com/event/trivia-night-at-rafters-tavern/2026-02-26/
LOCATION:Rafters Tavern\, 28 Upper Main Street\, Callicoon\, NY\, 12723\, United States
ATTACH;FMTTYPE=image/jpeg:https://sullivancatskills.com/wp-content/uploads/2025/12/Every-Thrusday-Trivia-Night.jpg
END:VEVENT
BEGIN:VEVENT
DTSTART;TZID=America/New_York:20260226T193000
DTEND;TZID=America/New_York:20260226T213000
DTSTAMP:20260420T045706
CREATED:20260107T180500Z
LAST-MODIFIED:20260107T180500Z
UID:10004747-1772134200-1772141400@sullivancatskills.com
SUMMARY:Le Fate Ignorante
DESCRIPTION:Le Fate Ignorante by Ferzan Özpetek Italian\, 2001 \nADVANCE PURCHASE ALL SIX MOVIES: $60 \nTICKETS $15 AT THE DOOR
URL:https://sullivancatskills.com/event/le-fate-ignorante/
LOCATION:NY
CATEGORIES:Community
ATTACH;FMTTYPE=image/jpeg:https://sullivancatskills.com/wp-content/uploads/2026/01/Callicoon_Gay_Film_Series.jpeg
END:VEVENT
BEGIN:VEVENT
DTSTART;TZID=America/New_York:20260226T200000
DTEND;TZID=America/New_York:20260227T000000
DTSTAMP:20260420T045706
CREATED:20260102T190117Z
LAST-MODIFIED:20260115T183106Z
UID:10003771-1772136000-1772150400@sullivancatskills.com
SUMMARY:Open Mic at The Dale
DESCRIPTION:Every Thursday around 8pm\, come enjoy the music or bring your own instrument!
URL:https://sullivancatskills.com/event/open-mic-at-the-dale/2026-02-26/
LOCATION:NY
CATEGORIES:Live Music
ATTACH;FMTTYPE=image/jpeg:https://sullivancatskills.com/wp-content/uploads/2026/01/Dale-karaoke-pic.jpg
END:VEVENT
END:VCALENDAR