BEGIN:VCALENDAR
VERSION:2.0
PRODID:-//Sullivan Catskills - ECPv6.15.20//NONSGML v1.0//EN
CALSCALE:GREGORIAN
METHOD:PUBLISH
X-ORIGINAL-URL:https://sullivancatskills.com
X-WR-CALDESC:Events for Sullivan Catskills
REFRESH-INTERVAL;VALUE=DURATION:PT1H
X-Robots-Tag:noindex
X-PUBLISHED-TTL:PT1H
BEGIN:VTIMEZONE
TZID:America/New_York
BEGIN:DAYLIGHT
TZOFFSETFROM:-0500
TZOFFSETTO:-0400
TZNAME:EDT
DTSTART:20270314T070000
END:DAYLIGHT
BEGIN:STANDARD
TZOFFSETFROM:-0400
TZOFFSETTO:-0500
TZNAME:EST
DTSTART:20271107T060000
END:STANDARD
BEGIN:DAYLIGHT
TZOFFSETFROM:-0500
TZOFFSETTO:-0400
TZNAME:EDT
DTSTART:20280312T070000
END:DAYLIGHT
BEGIN:STANDARD
TZOFFSETFROM:-0400
TZOFFSETTO:-0500
TZNAME:EST
DTSTART:20281105T060000
END:STANDARD
BEGIN:DAYLIGHT
TZOFFSETFROM:-0500
TZOFFSETTO:-0400
TZNAME:EDT
DTSTART:20290311T070000
END:DAYLIGHT
BEGIN:STANDARD
TZOFFSETFROM:-0400
TZOFFSETTO:-0500
TZNAME:EST
DTSTART:20291104T060000
END:STANDARD
BEGIN:DAYLIGHT
TZOFFSETFROM:-0500
TZOFFSETTO:-0400
TZNAME:EDT
DTSTART:20300310T070000
END:DAYLIGHT
BEGIN:STANDARD
TZOFFSETFROM:-0400
TZOFFSETTO:-0500
TZNAME:EST
DTSTART:20301103T060000
END:STANDARD
END:VTIMEZONE
BEGIN:VEVENT
DTSTART;TZID=America/New_York:20280905T190000
DTEND;TZID=America/New_York:20280905T220000
DTSTAMP:20260425T063004
CREATED:20260408T162012Z
LAST-MODIFIED:20260408T162012Z
UID:10009674-1851793200-1851804000@sullivancatskills.com
SUMMARY:Dan Jam
DESCRIPTION:Step into a welcoming\, music-filled evening at Dan Jam\, an open mic night where performers of all skill levels are invited to take the stage. Whether you’re singing\, playing\, or just listening\, this is a great opportunity to connect with fellow music lovers and enjoy a relaxed\, creative atmosphere.
URL:https://sullivancatskills.com/event/dan-jam/2028-09-05/
LOCATION:The Old Foundation\, 5371 NY-52\, Kenoza Lake\, NY\, 12750\, United States
CATEGORIES:Live Music
ATTACH;FMTTYPE=image/jpeg:https://sullivancatskills.com/wp-content/uploads/2026/04/Dan_Jam_TOF_Tuesday.jpeg
END:VEVENT
BEGIN:VEVENT
DTSTART;TZID=America/New_York:20280909T100000
DTEND;TZID=America/New_York:20280910T020000
DTSTAMP:20260425T063004
CREATED:20260105T163011Z
LAST-MODIFIED:20260105T163138Z
UID:10008117-1852106400-1852164000@sullivancatskills.com
SUMMARY:Foundation Of Funk
DESCRIPTION:Good music. Good people. The kind of night you’ve been waiting for.\nCome dance\, vibe\, and start 2026 exactly how it should begin!
URL:https://sullivancatskills.com/event/foundation-of-funk/2028-09-09/
LOCATION:The Old Foundation\, 5371 NY-52\, Kenoza Lake\, NY\, 12750\, United States
CATEGORIES:Community,Food | Wine | Restaurant,Live Music
ATTACH;FMTTYPE=image/jpeg:https://sullivancatskills.com/wp-content/uploads/2026/01/Foundation_Of_Funk.jpg
END:VEVENT
BEGIN:VEVENT
DTSTART;TZID=America/New_York:20280916T100000
DTEND;TZID=America/New_York:20280917T020000
DTSTAMP:20260425T063004
CREATED:20260312T143923Z
LAST-MODIFIED:20260312T145141Z
UID:10008057-1852711200-1852768800@sullivancatskills.com
SUMMARY:Foundation Of Funk
DESCRIPTION:Good music. Good people. The kind of night you’ve been waiting for.\nCome dance\, vibe\, and start 2026 exactly how it should begin!
URL:https://sullivancatskills.com/event/foundation-of-funk-2/2028-09-16/
LOCATION:The Old Foundation\, 5371 NY-52\, Kenoza Lake\, NY\, 12750\, United States
CATEGORIES:Community,Food | Wine | Restaurant,Live Music
ATTACH;FMTTYPE=image/jpeg:https://sullivancatskills.com/wp-content/uploads/2026/01/Foundation_Of_Funk.jpg
END:VEVENT
BEGIN:VEVENT
DTSTART;TZID=America/New_York:20281003T190000
DTEND;TZID=America/New_York:20281003T220000
DTSTAMP:20260425T063004
CREATED:20260408T162012Z
LAST-MODIFIED:20260408T162012Z
UID:10009675-1854212400-1854223200@sullivancatskills.com
SUMMARY:Dan Jam
DESCRIPTION:Step into a welcoming\, music-filled evening at Dan Jam\, an open mic night where performers of all skill levels are invited to take the stage. Whether you’re singing\, playing\, or just listening\, this is a great opportunity to connect with fellow music lovers and enjoy a relaxed\, creative atmosphere.
URL:https://sullivancatskills.com/event/dan-jam/2028-10-03/
LOCATION:The Old Foundation\, 5371 NY-52\, Kenoza Lake\, NY\, 12750\, United States
CATEGORIES:Live Music
ATTACH;FMTTYPE=image/jpeg:https://sullivancatskills.com/wp-content/uploads/2026/04/Dan_Jam_TOF_Tuesday.jpeg
END:VEVENT
BEGIN:VEVENT
DTSTART;TZID=America/New_York:20281014T100000
DTEND;TZID=America/New_York:20281015T020000
DTSTAMP:20260425T063004
CREATED:20260105T163011Z
LAST-MODIFIED:20260105T163138Z
UID:10008118-1855130400-1855188000@sullivancatskills.com
SUMMARY:Foundation Of Funk
DESCRIPTION:Good music. Good people. The kind of night you’ve been waiting for.\nCome dance\, vibe\, and start 2026 exactly how it should begin!
URL:https://sullivancatskills.com/event/foundation-of-funk/2028-10-14/
LOCATION:The Old Foundation\, 5371 NY-52\, Kenoza Lake\, NY\, 12750\, United States
CATEGORIES:Community,Food | Wine | Restaurant,Live Music
ATTACH;FMTTYPE=image/jpeg:https://sullivancatskills.com/wp-content/uploads/2026/01/Foundation_Of_Funk.jpg
END:VEVENT
BEGIN:VEVENT
DTSTART;TZID=America/New_York:20281021T100000
DTEND;TZID=America/New_York:20281022T020000
DTSTAMP:20260425T063004
CREATED:20260312T143923Z
LAST-MODIFIED:20260312T145141Z
UID:10008058-1855735200-1855792800@sullivancatskills.com
SUMMARY:Foundation Of Funk
DESCRIPTION:Good music. Good people. The kind of night you’ve been waiting for.\nCome dance\, vibe\, and start 2026 exactly how it should begin!
URL:https://sullivancatskills.com/event/foundation-of-funk-2/2028-10-21/
LOCATION:The Old Foundation\, 5371 NY-52\, Kenoza Lake\, NY\, 12750\, United States
CATEGORIES:Community,Food | Wine | Restaurant,Live Music
ATTACH;FMTTYPE=image/jpeg:https://sullivancatskills.com/wp-content/uploads/2026/01/Foundation_Of_Funk.jpg
END:VEVENT
BEGIN:VEVENT
DTSTART;TZID=America/New_York:20281107T190000
DTEND;TZID=America/New_York:20281107T220000
DTSTAMP:20260425T063004
CREATED:20260408T162012Z
LAST-MODIFIED:20260408T162012Z
UID:10009676-1857236400-1857247200@sullivancatskills.com
SUMMARY:Dan Jam
DESCRIPTION:Step into a welcoming\, music-filled evening at Dan Jam\, an open mic night where performers of all skill levels are invited to take the stage. Whether you’re singing\, playing\, or just listening\, this is a great opportunity to connect with fellow music lovers and enjoy a relaxed\, creative atmosphere.
URL:https://sullivancatskills.com/event/dan-jam/2028-11-07/
LOCATION:The Old Foundation\, 5371 NY-52\, Kenoza Lake\, NY\, 12750\, United States
CATEGORIES:Live Music
ATTACH;FMTTYPE=image/jpeg:https://sullivancatskills.com/wp-content/uploads/2026/04/Dan_Jam_TOF_Tuesday.jpeg
END:VEVENT
BEGIN:VEVENT
DTSTART;TZID=America/New_York:20281111T100000
DTEND;TZID=America/New_York:20281112T020000
DTSTAMP:20260425T063004
CREATED:20260105T163011Z
LAST-MODIFIED:20260105T163138Z
UID:10008119-1857549600-1857607200@sullivancatskills.com
SUMMARY:Foundation Of Funk
DESCRIPTION:Good music. Good people. The kind of night you’ve been waiting for.\nCome dance\, vibe\, and start 2026 exactly how it should begin!
URL:https://sullivancatskills.com/event/foundation-of-funk/2028-11-11/
LOCATION:The Old Foundation\, 5371 NY-52\, Kenoza Lake\, NY\, 12750\, United States
CATEGORIES:Community,Food | Wine | Restaurant,Live Music
ATTACH;FMTTYPE=image/jpeg:https://sullivancatskills.com/wp-content/uploads/2026/01/Foundation_Of_Funk.jpg
END:VEVENT
BEGIN:VEVENT
DTSTART;TZID=America/New_York:20281118T100000
DTEND;TZID=America/New_York:20281119T020000
DTSTAMP:20260425T063004
CREATED:20260312T143923Z
LAST-MODIFIED:20260312T145141Z
UID:10008059-1858154400-1858212000@sullivancatskills.com
SUMMARY:Foundation Of Funk
DESCRIPTION:Good music. Good people. The kind of night you’ve been waiting for.\nCome dance\, vibe\, and start 2026 exactly how it should begin!
URL:https://sullivancatskills.com/event/foundation-of-funk-2/2028-11-18/
LOCATION:The Old Foundation\, 5371 NY-52\, Kenoza Lake\, NY\, 12750\, United States
CATEGORIES:Community,Food | Wine | Restaurant,Live Music
ATTACH;FMTTYPE=image/jpeg:https://sullivancatskills.com/wp-content/uploads/2026/01/Foundation_Of_Funk.jpg
END:VEVENT
BEGIN:VEVENT
DTSTART;TZID=America/New_York:20281205T190000
DTEND;TZID=America/New_York:20281205T220000
DTSTAMP:20260425T063004
CREATED:20260408T162012Z
LAST-MODIFIED:20260408T162012Z
UID:10009677-1859655600-1859666400@sullivancatskills.com
SUMMARY:Dan Jam
DESCRIPTION:Step into a welcoming\, music-filled evening at Dan Jam\, an open mic night where performers of all skill levels are invited to take the stage. Whether you’re singing\, playing\, or just listening\, this is a great opportunity to connect with fellow music lovers and enjoy a relaxed\, creative atmosphere.
URL:https://sullivancatskills.com/event/dan-jam/2028-12-05/
LOCATION:The Old Foundation\, 5371 NY-52\, Kenoza Lake\, NY\, 12750\, United States
CATEGORIES:Live Music
ATTACH;FMTTYPE=image/jpeg:https://sullivancatskills.com/wp-content/uploads/2026/04/Dan_Jam_TOF_Tuesday.jpeg
END:VEVENT
BEGIN:VEVENT
DTSTART;TZID=America/New_York:20281209T100000
DTEND;TZID=America/New_York:20281210T020000
DTSTAMP:20260425T063004
CREATED:20260105T163011Z
LAST-MODIFIED:20260105T163138Z
UID:10008120-1859968800-1860026400@sullivancatskills.com
SUMMARY:Foundation Of Funk
DESCRIPTION:Good music. Good people. The kind of night you’ve been waiting for.\nCome dance\, vibe\, and start 2026 exactly how it should begin!
URL:https://sullivancatskills.com/event/foundation-of-funk/2028-12-09/
LOCATION:The Old Foundation\, 5371 NY-52\, Kenoza Lake\, NY\, 12750\, United States
CATEGORIES:Community,Food | Wine | Restaurant,Live Music
ATTACH;FMTTYPE=image/jpeg:https://sullivancatskills.com/wp-content/uploads/2026/01/Foundation_Of_Funk.jpg
END:VEVENT
BEGIN:VEVENT
DTSTART;TZID=America/New_York:20281216T100000
DTEND;TZID=America/New_York:20281217T020000
DTSTAMP:20260425T063004
CREATED:20260312T143923Z
LAST-MODIFIED:20260312T145141Z
UID:10008060-1860573600-1860631200@sullivancatskills.com
SUMMARY:Foundation Of Funk
DESCRIPTION:Good music. Good people. The kind of night you’ve been waiting for.\nCome dance\, vibe\, and start 2026 exactly how it should begin!
URL:https://sullivancatskills.com/event/foundation-of-funk-2/2028-12-16/
LOCATION:The Old Foundation\, 5371 NY-52\, Kenoza Lake\, NY\, 12750\, United States
CATEGORIES:Community,Food | Wine | Restaurant,Live Music
ATTACH;FMTTYPE=image/jpeg:https://sullivancatskills.com/wp-content/uploads/2026/01/Foundation_Of_Funk.jpg
END:VEVENT
BEGIN:VEVENT
DTSTART;TZID=America/New_York:20290102T190000
DTEND;TZID=America/New_York:20290102T220000
DTSTAMP:20260425T063004
CREATED:20260408T162012Z
LAST-MODIFIED:20260408T162012Z
UID:10009678-1862074800-1862085600@sullivancatskills.com
SUMMARY:Dan Jam
DESCRIPTION:Step into a welcoming\, music-filled evening at Dan Jam\, an open mic night where performers of all skill levels are invited to take the stage. Whether you’re singing\, playing\, or just listening\, this is a great opportunity to connect with fellow music lovers and enjoy a relaxed\, creative atmosphere.
URL:https://sullivancatskills.com/event/dan-jam/2029-01-02/
LOCATION:The Old Foundation\, 5371 NY-52\, Kenoza Lake\, NY\, 12750\, United States
CATEGORIES:Live Music
ATTACH;FMTTYPE=image/jpeg:https://sullivancatskills.com/wp-content/uploads/2026/04/Dan_Jam_TOF_Tuesday.jpeg
END:VEVENT
BEGIN:VEVENT
DTSTART;TZID=America/New_York:20290113T100000
DTEND;TZID=America/New_York:20290114T020000
DTSTAMP:20260425T063004
CREATED:20260105T163011Z
LAST-MODIFIED:20260105T163138Z
UID:10008121-1862992800-1863050400@sullivancatskills.com
SUMMARY:Foundation Of Funk
DESCRIPTION:Good music. Good people. The kind of night you’ve been waiting for.\nCome dance\, vibe\, and start 2026 exactly how it should begin!
URL:https://sullivancatskills.com/event/foundation-of-funk/2029-01-13/
LOCATION:The Old Foundation\, 5371 NY-52\, Kenoza Lake\, NY\, 12750\, United States
CATEGORIES:Community,Food | Wine | Restaurant,Live Music
ATTACH;FMTTYPE=image/jpeg:https://sullivancatskills.com/wp-content/uploads/2026/01/Foundation_Of_Funk.jpg
END:VEVENT
BEGIN:VEVENT
DTSTART;TZID=America/New_York:20290120T100000
DTEND;TZID=America/New_York:20290121T020000
DTSTAMP:20260425T063004
CREATED:20260312T143923Z
LAST-MODIFIED:20260312T145141Z
UID:10008061-1863597600-1863655200@sullivancatskills.com
SUMMARY:Foundation Of Funk
DESCRIPTION:Good music. Good people. The kind of night you’ve been waiting for.\nCome dance\, vibe\, and start 2026 exactly how it should begin!
URL:https://sullivancatskills.com/event/foundation-of-funk-2/2029-01-20/
LOCATION:The Old Foundation\, 5371 NY-52\, Kenoza Lake\, NY\, 12750\, United States
CATEGORIES:Community,Food | Wine | Restaurant,Live Music
ATTACH;FMTTYPE=image/jpeg:https://sullivancatskills.com/wp-content/uploads/2026/01/Foundation_Of_Funk.jpg
END:VEVENT
BEGIN:VEVENT
DTSTART;TZID=America/New_York:20290206T190000
DTEND;TZID=America/New_York:20290206T220000
DTSTAMP:20260425T063004
CREATED:20260408T162012Z
LAST-MODIFIED:20260408T162012Z
UID:10009679-1865098800-1865109600@sullivancatskills.com
SUMMARY:Dan Jam
DESCRIPTION:Step into a welcoming\, music-filled evening at Dan Jam\, an open mic night where performers of all skill levels are invited to take the stage. Whether you’re singing\, playing\, or just listening\, this is a great opportunity to connect with fellow music lovers and enjoy a relaxed\, creative atmosphere.
URL:https://sullivancatskills.com/event/dan-jam/2029-02-06/
LOCATION:The Old Foundation\, 5371 NY-52\, Kenoza Lake\, NY\, 12750\, United States
CATEGORIES:Live Music
ATTACH;FMTTYPE=image/jpeg:https://sullivancatskills.com/wp-content/uploads/2026/04/Dan_Jam_TOF_Tuesday.jpeg
END:VEVENT
BEGIN:VEVENT
DTSTART;TZID=America/New_York:20290210T100000
DTEND;TZID=America/New_York:20290211T020000
DTSTAMP:20260425T063004
CREATED:20260105T163011Z
LAST-MODIFIED:20260105T163138Z
UID:10008122-1865412000-1865469600@sullivancatskills.com
SUMMARY:Foundation Of Funk
DESCRIPTION:Good music. Good people. The kind of night you’ve been waiting for.\nCome dance\, vibe\, and start 2026 exactly how it should begin!
URL:https://sullivancatskills.com/event/foundation-of-funk/2029-02-10/
LOCATION:The Old Foundation\, 5371 NY-52\, Kenoza Lake\, NY\, 12750\, United States
CATEGORIES:Community,Food | Wine | Restaurant,Live Music
ATTACH;FMTTYPE=image/jpeg:https://sullivancatskills.com/wp-content/uploads/2026/01/Foundation_Of_Funk.jpg
END:VEVENT
BEGIN:VEVENT
DTSTART;TZID=America/New_York:20290217T100000
DTEND;TZID=America/New_York:20290218T020000
DTSTAMP:20260425T063004
CREATED:20260312T143923Z
LAST-MODIFIED:20260312T145141Z
UID:10008062-1866016800-1866074400@sullivancatskills.com
SUMMARY:Foundation Of Funk
DESCRIPTION:Good music. Good people. The kind of night you’ve been waiting for.\nCome dance\, vibe\, and start 2026 exactly how it should begin!
URL:https://sullivancatskills.com/event/foundation-of-funk-2/2029-02-17/
LOCATION:The Old Foundation\, 5371 NY-52\, Kenoza Lake\, NY\, 12750\, United States
CATEGORIES:Community,Food | Wine | Restaurant,Live Music
ATTACH;FMTTYPE=image/jpeg:https://sullivancatskills.com/wp-content/uploads/2026/01/Foundation_Of_Funk.jpg
END:VEVENT
BEGIN:VEVENT
DTSTART;TZID=America/New_York:20290306T190000
DTEND;TZID=America/New_York:20290306T220000
DTSTAMP:20260425T063004
CREATED:20260408T162012Z
LAST-MODIFIED:20260408T162012Z
UID:10009680-1867518000-1867528800@sullivancatskills.com
SUMMARY:Dan Jam
DESCRIPTION:Step into a welcoming\, music-filled evening at Dan Jam\, an open mic night where performers of all skill levels are invited to take the stage. Whether you’re singing\, playing\, or just listening\, this is a great opportunity to connect with fellow music lovers and enjoy a relaxed\, creative atmosphere.
URL:https://sullivancatskills.com/event/dan-jam/2029-03-06/
LOCATION:The Old Foundation\, 5371 NY-52\, Kenoza Lake\, NY\, 12750\, United States
CATEGORIES:Live Music
ATTACH;FMTTYPE=image/jpeg:https://sullivancatskills.com/wp-content/uploads/2026/04/Dan_Jam_TOF_Tuesday.jpeg
END:VEVENT
BEGIN:VEVENT
DTSTART;TZID=America/New_York:20290310T100000
DTEND;TZID=America/New_York:20290311T030000
DTSTAMP:20260425T063004
CREATED:20260105T163011Z
LAST-MODIFIED:20260105T163138Z
UID:10008123-1867831200-1867892400@sullivancatskills.com
SUMMARY:Foundation Of Funk
DESCRIPTION:Good music. Good people. The kind of night you’ve been waiting for.\nCome dance\, vibe\, and start 2026 exactly how it should begin!
URL:https://sullivancatskills.com/event/foundation-of-funk/2029-03-10/
LOCATION:The Old Foundation\, 5371 NY-52\, Kenoza Lake\, NY\, 12750\, United States
CATEGORIES:Community,Food | Wine | Restaurant,Live Music
ATTACH;FMTTYPE=image/jpeg:https://sullivancatskills.com/wp-content/uploads/2026/01/Foundation_Of_Funk.jpg
END:VEVENT
BEGIN:VEVENT
DTSTART;TZID=America/New_York:20290317T100000
DTEND;TZID=America/New_York:20290318T020000
DTSTAMP:20260425T063004
CREATED:20260312T143923Z
LAST-MODIFIED:20260312T145141Z
UID:10008063-1868436000-1868493600@sullivancatskills.com
SUMMARY:Foundation Of Funk
DESCRIPTION:Good music. Good people. The kind of night you’ve been waiting for.\nCome dance\, vibe\, and start 2026 exactly how it should begin!
URL:https://sullivancatskills.com/event/foundation-of-funk-2/2029-03-17/
LOCATION:The Old Foundation\, 5371 NY-52\, Kenoza Lake\, NY\, 12750\, United States
CATEGORIES:Community,Food | Wine | Restaurant,Live Music
ATTACH;FMTTYPE=image/jpeg:https://sullivancatskills.com/wp-content/uploads/2026/01/Foundation_Of_Funk.jpg
END:VEVENT
BEGIN:VEVENT
DTSTART;TZID=America/New_York:20290403T190000
DTEND;TZID=America/New_York:20290403T220000
DTSTAMP:20260425T063004
CREATED:20260408T162012Z
LAST-MODIFIED:20260408T162012Z
UID:10009681-1869937200-1869948000@sullivancatskills.com
SUMMARY:Dan Jam
DESCRIPTION:Step into a welcoming\, music-filled evening at Dan Jam\, an open mic night where performers of all skill levels are invited to take the stage. Whether you’re singing\, playing\, or just listening\, this is a great opportunity to connect with fellow music lovers and enjoy a relaxed\, creative atmosphere.
URL:https://sullivancatskills.com/event/dan-jam/2029-04-03/
LOCATION:The Old Foundation\, 5371 NY-52\, Kenoza Lake\, NY\, 12750\, United States
CATEGORIES:Live Music
ATTACH;FMTTYPE=image/jpeg:https://sullivancatskills.com/wp-content/uploads/2026/04/Dan_Jam_TOF_Tuesday.jpeg
END:VEVENT
BEGIN:VEVENT
DTSTART;TZID=America/New_York:20290414T100000
DTEND;TZID=America/New_York:20290415T020000
DTSTAMP:20260425T063004
CREATED:20260105T163011Z
LAST-MODIFIED:20260105T163138Z
UID:10008124-1870855200-1870912800@sullivancatskills.com
SUMMARY:Foundation Of Funk
DESCRIPTION:Good music. Good people. The kind of night you’ve been waiting for.\nCome dance\, vibe\, and start 2026 exactly how it should begin!
URL:https://sullivancatskills.com/event/foundation-of-funk/2029-04-14/
LOCATION:The Old Foundation\, 5371 NY-52\, Kenoza Lake\, NY\, 12750\, United States
CATEGORIES:Community,Food | Wine | Restaurant,Live Music
ATTACH;FMTTYPE=image/jpeg:https://sullivancatskills.com/wp-content/uploads/2026/01/Foundation_Of_Funk.jpg
END:VEVENT
BEGIN:VEVENT
DTSTART;TZID=America/New_York:20290421T100000
DTEND;TZID=America/New_York:20290422T020000
DTSTAMP:20260425T063004
CREATED:20260312T143923Z
LAST-MODIFIED:20260312T145141Z
UID:10008064-1871460000-1871517600@sullivancatskills.com
SUMMARY:Foundation Of Funk
DESCRIPTION:Good music. Good people. The kind of night you’ve been waiting for.\nCome dance\, vibe\, and start 2026 exactly how it should begin!
URL:https://sullivancatskills.com/event/foundation-of-funk-2/2029-04-21/
LOCATION:The Old Foundation\, 5371 NY-52\, Kenoza Lake\, NY\, 12750\, United States
CATEGORIES:Community,Food | Wine | Restaurant,Live Music
ATTACH;FMTTYPE=image/jpeg:https://sullivancatskills.com/wp-content/uploads/2026/01/Foundation_Of_Funk.jpg
END:VEVENT
BEGIN:VEVENT
DTSTART;TZID=America/New_York:20290501T190000
DTEND;TZID=America/New_York:20290501T220000
DTSTAMP:20260425T063004
CREATED:20260408T162012Z
LAST-MODIFIED:20260408T162012Z
UID:10009682-1872356400-1872367200@sullivancatskills.com
SUMMARY:Dan Jam
DESCRIPTION:Step into a welcoming\, music-filled evening at Dan Jam\, an open mic night where performers of all skill levels are invited to take the stage. Whether you’re singing\, playing\, or just listening\, this is a great opportunity to connect with fellow music lovers and enjoy a relaxed\, creative atmosphere.
URL:https://sullivancatskills.com/event/dan-jam/2029-05-01/
LOCATION:The Old Foundation\, 5371 NY-52\, Kenoza Lake\, NY\, 12750\, United States
CATEGORIES:Live Music
ATTACH;FMTTYPE=image/jpeg:https://sullivancatskills.com/wp-content/uploads/2026/04/Dan_Jam_TOF_Tuesday.jpeg
END:VEVENT
BEGIN:VEVENT
DTSTART;TZID=America/New_York:20290512T100000
DTEND;TZID=America/New_York:20290513T020000
DTSTAMP:20260425T063004
CREATED:20260105T163011Z
LAST-MODIFIED:20260105T163138Z
UID:10008125-1873274400-1873332000@sullivancatskills.com
SUMMARY:Foundation Of Funk
DESCRIPTION:Good music. Good people. The kind of night you’ve been waiting for.\nCome dance\, vibe\, and start 2026 exactly how it should begin!
URL:https://sullivancatskills.com/event/foundation-of-funk/2029-05-12/
LOCATION:The Old Foundation\, 5371 NY-52\, Kenoza Lake\, NY\, 12750\, United States
CATEGORIES:Community,Food | Wine | Restaurant,Live Music
ATTACH;FMTTYPE=image/jpeg:https://sullivancatskills.com/wp-content/uploads/2026/01/Foundation_Of_Funk.jpg
END:VEVENT
BEGIN:VEVENT
DTSTART;TZID=America/New_York:20290519T100000
DTEND;TZID=America/New_York:20290520T020000
DTSTAMP:20260425T063004
CREATED:20260312T143923Z
LAST-MODIFIED:20260312T145141Z
UID:10008065-1873879200-1873936800@sullivancatskills.com
SUMMARY:Foundation Of Funk
DESCRIPTION:Good music. Good people. The kind of night you’ve been waiting for.\nCome dance\, vibe\, and start 2026 exactly how it should begin!
URL:https://sullivancatskills.com/event/foundation-of-funk-2/2029-05-19/
LOCATION:The Old Foundation\, 5371 NY-52\, Kenoza Lake\, NY\, 12750\, United States
CATEGORIES:Community,Food | Wine | Restaurant,Live Music
ATTACH;FMTTYPE=image/jpeg:https://sullivancatskills.com/wp-content/uploads/2026/01/Foundation_Of_Funk.jpg
END:VEVENT
BEGIN:VEVENT
DTSTART;TZID=America/New_York:20290605T190000
DTEND;TZID=America/New_York:20290605T220000
DTSTAMP:20260425T063004
CREATED:20260408T162012Z
LAST-MODIFIED:20260408T162012Z
UID:10009683-1875380400-1875391200@sullivancatskills.com
SUMMARY:Dan Jam
DESCRIPTION:Step into a welcoming\, music-filled evening at Dan Jam\, an open mic night where performers of all skill levels are invited to take the stage. Whether you’re singing\, playing\, or just listening\, this is a great opportunity to connect with fellow music lovers and enjoy a relaxed\, creative atmosphere.
URL:https://sullivancatskills.com/event/dan-jam/2029-06-05/
LOCATION:The Old Foundation\, 5371 NY-52\, Kenoza Lake\, NY\, 12750\, United States
CATEGORIES:Live Music
ATTACH;FMTTYPE=image/jpeg:https://sullivancatskills.com/wp-content/uploads/2026/04/Dan_Jam_TOF_Tuesday.jpeg
END:VEVENT
BEGIN:VEVENT
DTSTART;TZID=America/New_York:20290609T100000
DTEND;TZID=America/New_York:20290610T020000
DTSTAMP:20260425T063004
CREATED:20260105T163011Z
LAST-MODIFIED:20260105T163138Z
UID:10008126-1875693600-1875751200@sullivancatskills.com
SUMMARY:Foundation Of Funk
DESCRIPTION:Good music. Good people. The kind of night you’ve been waiting for.\nCome dance\, vibe\, and start 2026 exactly how it should begin!
URL:https://sullivancatskills.com/event/foundation-of-funk/2029-06-09/
LOCATION:The Old Foundation\, 5371 NY-52\, Kenoza Lake\, NY\, 12750\, United States
CATEGORIES:Community,Food | Wine | Restaurant,Live Music
ATTACH;FMTTYPE=image/jpeg:https://sullivancatskills.com/wp-content/uploads/2026/01/Foundation_Of_Funk.jpg
END:VEVENT
BEGIN:VEVENT
DTSTART;TZID=America/New_York:20290616T100000
DTEND;TZID=America/New_York:20290617T020000
DTSTAMP:20260425T063004
CREATED:20260312T143923Z
LAST-MODIFIED:20260312T145141Z
UID:10008066-1876298400-1876356000@sullivancatskills.com
SUMMARY:Foundation Of Funk
DESCRIPTION:Good music. Good people. The kind of night you’ve been waiting for.\nCome dance\, vibe\, and start 2026 exactly how it should begin!
URL:https://sullivancatskills.com/event/foundation-of-funk-2/2029-06-16/
LOCATION:The Old Foundation\, 5371 NY-52\, Kenoza Lake\, NY\, 12750\, United States
CATEGORIES:Community,Food | Wine | Restaurant,Live Music
ATTACH;FMTTYPE=image/jpeg:https://sullivancatskills.com/wp-content/uploads/2026/01/Foundation_Of_Funk.jpg
END:VEVENT
END:VCALENDAR