BEGIN:VCALENDAR
VERSION:2.0
PRODID:-//Sullivan Catskills - ECPv6.15.20//NONSGML v1.0//EN
CALSCALE:GREGORIAN
METHOD:PUBLISH
X-ORIGINAL-URL:https://sullivancatskills.com
X-WR-CALDESC:Events for Sullivan Catskills
REFRESH-INTERVAL;VALUE=DURATION:PT1H
X-Robots-Tag:noindex
X-PUBLISHED-TTL:PT1H
BEGIN:VTIMEZONE
TZID:America/New_York
BEGIN:DAYLIGHT
TZOFFSETFROM:-0500
TZOFFSETTO:-0400
TZNAME:EDT
DTSTART:20240310T070000
END:DAYLIGHT
BEGIN:STANDARD
TZOFFSETFROM:-0400
TZOFFSETTO:-0500
TZNAME:EST
DTSTART:20241103T060000
END:STANDARD
BEGIN:DAYLIGHT
TZOFFSETFROM:-0500
TZOFFSETTO:-0400
TZNAME:EDT
DTSTART:20250309T070000
END:DAYLIGHT
BEGIN:STANDARD
TZOFFSETFROM:-0400
TZOFFSETTO:-0500
TZNAME:EST
DTSTART:20251102T060000
END:STANDARD
BEGIN:DAYLIGHT
TZOFFSETFROM:-0500
TZOFFSETTO:-0400
TZNAME:EDT
DTSTART:20260308T070000
END:DAYLIGHT
BEGIN:STANDARD
TZOFFSETFROM:-0400
TZOFFSETTO:-0500
TZNAME:EST
DTSTART:20261101T060000
END:STANDARD
BEGIN:DAYLIGHT
TZOFFSETFROM:-0500
TZOFFSETTO:-0400
TZNAME:EDT
DTSTART:20270314T070000
END:DAYLIGHT
BEGIN:STANDARD
TZOFFSETFROM:-0400
TZOFFSETTO:-0500
TZNAME:EST
DTSTART:20271107T060000
END:STANDARD
END:VTIMEZONE
BEGIN:VEVENT
DTSTART;TZID=America/New_York:20260327T180000
DTEND;TZID=America/New_York:20260327T200000
DTSTAMP:20260422T074707
CREATED:20260123T143525Z
LAST-MODIFIED:20260123T143525Z
UID:10005332-1774634400-1774641600@sullivancatskills.com
SUMMARY:Rock Band Jam Monthly Music Drop-in for Adults
DESCRIPTION:November 21\, 2025 – February 27\, 2026\n6:00 – 8:00 PM \nIs your bass line in need of a backbeat? Are you a vocalist looking to take your concerts out of the shower? \nThe adult Rock Band Jam is for you! \nRock Band Jam at Bethel Woods is a monthly drop-in for musicians looking to connect with others for a drop-in pick-up session. Two studio rooms provide amps\, instruments\, microphones\, and teaching artists for support to facilitate a rock-led set list or a psychedelic jam session. Bring your favorite songs or drop in and enjoy the vibe. \nThis is a relaxed and judgment-free jamming experience! \nYour suggested donation supports the education programs for kids at Bethel Woods.  \n$20 (GA) | $15 (Member) Suggested donation per session
URL:https://sullivancatskills.com/event/rock-band-jam-monthly-music-drop-in-for-adults/2026-03-27/
LOCATION:Bethel Woods Center For The Arts\, 200 Hurd Rd.\, Bethel\, NY\, 12720\, United States
CATEGORIES:Classes,Live Music
END:VEVENT
BEGIN:VEVENT
DTSTART;TZID=America/New_York:20260227T180000
DTEND;TZID=America/New_York:20260227T200000
DTSTAMP:20260422T074707
CREATED:20260123T143525Z
LAST-MODIFIED:20260123T143525Z
UID:10005331-1772215200-1772222400@sullivancatskills.com
SUMMARY:Rock Band Jam Monthly Music Drop-in for Adults
DESCRIPTION:November 21\, 2025 – February 27\, 2026\n6:00 – 8:00 PM \nIs your bass line in need of a backbeat? Are you a vocalist looking to take your concerts out of the shower? \nThe adult Rock Band Jam is for you! \nRock Band Jam at Bethel Woods is a monthly drop-in for musicians looking to connect with others for a drop-in pick-up session. Two studio rooms provide amps\, instruments\, microphones\, and teaching artists for support to facilitate a rock-led set list or a psychedelic jam session. Bring your favorite songs or drop in and enjoy the vibe. \nThis is a relaxed and judgment-free jamming experience! \nYour suggested donation supports the education programs for kids at Bethel Woods.  \n$20 (GA) | $15 (Member) Suggested donation per session
URL:https://sullivancatskills.com/event/rock-band-jam-monthly-music-drop-in-for-adults/2026-02-27/
LOCATION:Bethel Woods Center For The Arts\, 200 Hurd Rd.\, Bethel\, NY\, 12720\, United States
CATEGORIES:Classes,Live Music
END:VEVENT
BEGIN:VEVENT
DTSTART;TZID=America/New_York:20251219T180000
DTEND;TZID=America/New_York:20251219T220000
DTSTAMP:20260422T074707
CREATED:20251208T211644Z
LAST-MODIFIED:20251208T211734Z
UID:10001377-1766167200-1766181600@sullivancatskills.com
SUMMARY:Feast Of The Seven Fishes
DESCRIPTION:Embark on a holiday-tasting adventure as Bethel Woods Executive Chef Joel Trocino prepares 7 courses with a luxurious assortment of seafood. Tickets are $99 per person (age 21+) and offer entry to the dinner and one complimentary glass of wine (chef’s selection).
URL:https://sullivancatskills.com/event/feast-of-the-seven-fish/
LOCATION:Bethel Woods Center For The Arts\, 200 Hurd Rd.\, Bethel\, NY\, 12720\, United States
CATEGORIES:Food | Wine | Restaurant
ATTACH;FMTTYPE=image/webp:https://sullivancatskills.com/wp-content/uploads/2025/12/Feast-of-the-Seven-Fish-12-19.webp
END:VEVENT
END:VCALENDAR